BEGIN:VCALENDAR
VERSION:2.0
PRODID:-//Sabre//Sabre VObject 4.5.8//EN
CALSCALE:GREGORIAN
NAME:Bistum Augsburg
X-WR-CALNAME:Bistum Augsburg
BEGIN:VEVENT
UID:sabre-vobject-7aa05a94-67b5-462c-a7e0-9b126f848121
DTSTAMP:20260420T223650Z
SUMMARY:Hl. Messe
DESCRIPTION:https://pfarreien-bistum-augsburg.df-preview.de/hl-messe_id1720
 716
DTSTART;TZID=Europe/Berlin:20260421T190000
DURATION:PT30M
LOCATION:St. Jakobus maj.
END:VEVENT
BEGIN:VEVENT
UID:sabre-vobject-854413a0-8a73-40aa-85ac-11db8357a5ad
DTSTAMP:20260420T223650Z
SUMMARY:Hl. Messe
DESCRIPTION:https://pfarreien-bistum-augsburg.df-preview.de/hl-messe_id1720
 717
DTSTART;TZID=Europe/Berlin:20260422T090000
DURATION:PT30M
LOCATION:St. Jakobus maj.
END:VEVENT
BEGIN:VEVENT
UID:sabre-vobject-681343c3-c67a-4df4-8b25-8e22e34936d2
DTSTAMP:20260420T223650Z
SUMMARY:Ökumenisches Friedensgebet in der evangelischen Bekenntniskirche
DESCRIPTION:https://pfarreien-bistum-augsburg.df-preview.de/oekumenisches-f
 riedensgebet-in-der-evangelischen-bekenntniskirche_id1720718
DTSTART;TZID=Europe/Berlin:20260422T183000
DURATION:PT30M
LOCATION:St. Jakobus maj.
END:VEVENT
BEGIN:VEVENT
UID:sabre-vobject-fba160d7-a795-4969-afaf-fa0be9e9f996
DTSTAMP:20260420T223650Z
SUMMARY:Hl. Messe
DESCRIPTION:https://pfarreien-bistum-augsburg.df-preview.de/hl-messe_id1720
 719
DTSTART;TZID=Europe/Berlin:20260423T190000
DURATION:PT30M
LOCATION:St. Jakobus maj.
END:VEVENT
BEGIN:VEVENT
UID:sabre-vobject-ded111ca-b946-436d-9ed1-76cd6d3e34f6
DTSTAMP:20260420T223650Z
SUMMARY:Andacht/Wortgottesfeier
DESCRIPTION:https://pfarreien-bistum-augsburg.df-preview.de/andacht-wortgot
 tesfeier_id1720720
DTSTART;TZID=Europe/Berlin:20260424T150000
DURATION:PT30M
LOCATION:St. Jakobus maj.
END:VEVENT
BEGIN:VEVENT
UID:sabre-vobject-d50fa8d0-ec0e-443b-9127-3a0f4187751e
DTSTAMP:20260420T223650Z
SUMMARY:Probe für die Erstkommunionkinder der Goetheschule
DESCRIPTION:https://pfarreien-bistum-augsburg.df-preview.de/probe-fuer-die-
 erstkommunionkinder-der-goetheschule_id1720721
DTSTART;TZID=Europe/Berlin:20260424T150000
DURATION:PT30M
LOCATION:St. Jakobus maj.
END:VEVENT
BEGIN:VEVENT
UID:sabre-vobject-421ca0b3-49b2-4286-b4b5-49fa8b058fd9
DTSTAMP:20260420T223650Z
SUMMARY:Rosenkranz
DESCRIPTION:https://pfarreien-bistum-augsburg.df-preview.de/rosenkranz_id17
 20722
DTSTART;TZID=Europe/Berlin:20260424T170000
DURATION:PT30M
LOCATION:St. Emmeram\, Kapellenstraße 9\, 86368 Gersthofen
END:VEVENT
BEGIN:VEVENT
UID:sabre-vobject-a3ed5f38-8638-4a7a-adb0-e579c5bc9f08
DTSTAMP:20260420T223650Z
SUMMARY:Hl. Messe
DESCRIPTION:https://pfarreien-bistum-augsburg.df-preview.de/hl-messe_id1720
 723
DTSTART;TZID=Europe/Berlin:20260424T173000
DURATION:PT30M
LOCATION:St. Emmeram\, Kapellenstraße 9\, 86368 Gersthofen
END:VEVENT
BEGIN:VEVENT
UID:sabre-vobject-92dc0136-d7ba-49b6-bdc4-66ab3a5c3dd2
DTSTAMP:20260420T223650Z
SUMMARY:Feierliche Erstkommunion der Kinder der Goetheschule
DESCRIPTION:https://pfarreien-bistum-augsburg.df-preview.de/feierliche-erst
 kommunion-der-kinder-der-goetheschule_id1728980
DTSTART;TZID=Europe/Berlin:20260425T100000
DURATION:PT30M
LOCATION:St. Jakobus maj.
END:VEVENT
BEGIN:VEVENT
UID:sabre-vobject-8c46f6ec-cf20-4040-9f90-b4bb2f224423
DTSTAMP:20260420T223650Z
SUMMARY:Taufe
DESCRIPTION:https://pfarreien-bistum-augsburg.df-preview.de/taufe_id1728982
DTSTART;TZID=Europe/Berlin:20260425T140000
DURATION:PT30M
LOCATION:St. Jakobus maj.
END:VEVENT
BEGIN:VEVENT
UID:sabre-vobject-5aae7357-0ce9-4ced-aef5-a47601627b06
DTSTAMP:20260420T223650Z
SUMMARY:Beichtgelegenheit
DESCRIPTION:https://pfarreien-bistum-augsburg.df-preview.de/beichtgelegenhe
 it_id1729061
DTSTART;TZID=Europe/Berlin:20260425T171500
DURATION:PT30M
LOCATION:St. Jakobus maj.
END:VEVENT
BEGIN:VEVENT
UID:sabre-vobject-9da0d49a-1e33-4898-8448-92c7cf53346f
DTSTAMP:20260420T223650Z
SUMMARY:Sonntagvorabendmesse
DESCRIPTION:https://pfarreien-bistum-augsburg.df-preview.de/sonntagvorabend
 messe_id1729140
DTSTART;TZID=Europe/Berlin:20260425T180000
DURATION:PT30M
LOCATION:St. Jakobus maj.
END:VEVENT
BEGIN:VEVENT
UID:sabre-vobject-90b69547-aae7-40b6-8d69-4d3259ed03a0
DTSTAMP:20260420T223650Z
SUMMARY:Pfarrgottesdienst
DESCRIPTION:https://pfarreien-bistum-augsburg.df-preview.de/pfarrgottesdien
 st_id1729141
DTSTART;TZID=Europe/Berlin:20260426T083000
DURATION:PT30M
LOCATION:St. Jakobus maj.
END:VEVENT
BEGIN:VEVENT
UID:sabre-vobject-edb90f67-4aec-4834-9c66-1aeab10677e1
DTSTAMP:20260420T223650Z
SUMMARY:Hl. Messe
DESCRIPTION:https://pfarreien-bistum-augsburg.df-preview.de/hl-messe_id1729
 142
DTSTART;TZID=Europe/Berlin:20260426T101500
DURATION:PT30M
LOCATION:St. Jakobus maj.
END:VEVENT
BEGIN:VEVENT
UID:sabre-vobject-5464c89e-eeaf-41ec-ac22-ab2fa67cf268
DTSTAMP:20260420T223650Z
SUMMARY:Taufe
DESCRIPTION:https://pfarreien-bistum-augsburg.df-preview.de/taufe_id1729143
DTSTART;TZID=Europe/Berlin:20260426T113000
DURATION:PT30M
LOCATION:St. Jakobus maj.
END:VEVENT
BEGIN:VEVENT
UID:sabre-vobject-06e916df-eca5-48a9-8f43-12597ed277e6
DTSTAMP:20260420T223650Z
SUMMARY:Hl. Messe
DESCRIPTION:https://pfarreien-bistum-augsburg.df-preview.de/hl-messe_id1729
 144
DTSTART;TZID=Europe/Berlin:20260428T190000
DURATION:PT30M
LOCATION:St. Jakobus maj.
END:VEVENT
BEGIN:VEVENT
UID:sabre-vobject-28dbd629-8f2f-4a7a-95e3-bdf7105fb99b
DTSTAMP:20260420T223650Z
SUMMARY:Hl. Messe
DESCRIPTION:https://pfarreien-bistum-augsburg.df-preview.de/hl-messe_id1729
 062
DTSTART;TZID=Europe/Berlin:20260429T090000
DURATION:PT30M
LOCATION:St. Jakobus maj.
END:VEVENT
BEGIN:VEVENT
UID:sabre-vobject-29cc6ed5-7f32-456d-8541-9c0b89d0a7b4
DTSTAMP:20260420T223650Z
SUMMARY:Hl. Messe
DESCRIPTION:https://pfarreien-bistum-augsburg.df-preview.de/hl-messe_id1729
 063
DTSTART;TZID=Europe/Berlin:20260430T190000
DURATION:PT30M
LOCATION:St. Jakobus maj.
END:VEVENT
BEGIN:VEVENT
UID:sabre-vobject-bcd6a718-dbef-4a7c-bcad-08cf61d7bf94
DTSTAMP:20260420T223650Z
SUMMARY:Festgottesdienst zum Patrozinium\, musik.Gestaltung: Chor und Orgel
DESCRIPTION:https://pfarreien-bistum-augsburg.df-preview.de/festgottesdiens
 t-zum-patrozinium-musik-gestaltung-chor-und-orgel_id1729084
DTSTART;TZID=Europe/Berlin:20260501T101500
DURATION:PT30M
LOCATION:St. Jakobus maj.
END:VEVENT
BEGIN:VEVENT
UID:sabre-vobject-eecbfc79-6382-4732-92cd-9a008b4618b2
DTSTAMP:20260420T223650Z
SUMMARY:Maiandacht (Frauensingkreis)
DESCRIPTION:https://pfarreien-bistum-augsburg.df-preview.de/maiandacht-frau
 ensingkreis_id1729060
DTSTART;TZID=Europe/Berlin:20260501T183000
DURATION:PT30M
LOCATION:St. Jakobus maj.
END:VEVENT
BEGIN:VEVENT
UID:sabre-vobject-8f700c79-9bd8-4e16-8416-ffa9ce59be47
DTSTAMP:20260420T223650Z
SUMMARY:Feierliche Erstkommunion der Kinder der Mozartschule und andere
DESCRIPTION:https://pfarreien-bistum-augsburg.df-preview.de/feierliche-erst
 kommunion-der-kinder-der-mozartschule-und-andere_id1731498
DTSTART;TZID=Europe/Berlin:20260502T100000
DURATION:PT30M
LOCATION:St. Jakobus maj.
END:VEVENT
BEGIN:VEVENT
UID:sabre-vobject-dd5ec549-3d78-4465-a5d1-ee1a5579f324
DTSTAMP:20260420T223650Z
SUMMARY:Beichtgelegenheit
DESCRIPTION:https://pfarreien-bistum-augsburg.df-preview.de/beichtgelegenhe
 it_id1731505
DTSTART;TZID=Europe/Berlin:20260502T171500
DURATION:PT30M
LOCATION:St. Jakobus maj.
END:VEVENT
BEGIN:VEVENT
UID:sabre-vobject-ee8d1e91-595b-436f-8944-1e09f0a89826
DTSTAMP:20260420T223650Z
SUMMARY:Sonntagvorabendmesse
DESCRIPTION:https://pfarreien-bistum-augsburg.df-preview.de/sonntagvorabend
 messe_id1731506
DTSTART;TZID=Europe/Berlin:20260502T180000
DURATION:PT30M
LOCATION:St. Jakobus maj.
END:VEVENT
BEGIN:VEVENT
UID:sabre-vobject-6783c892-91ce-4594-ac9d-8fe8bc6c978e
DTSTAMP:20260420T223650Z
SUMMARY:Pfarrgottesdienst
DESCRIPTION:https://pfarreien-bistum-augsburg.df-preview.de/pfarrgottesdien
 st_id1731507
DTSTART;TZID=Europe/Berlin:20260503T083000
DURATION:PT30M
LOCATION:St. Jakobus maj.
END:VEVENT
BEGIN:VEVENT
UID:sabre-vobject-94d219d1-fd21-4456-80e2-da250cc16f85
DTSTAMP:20260420T223650Z
SUMMARY:Hl. Messe
DESCRIPTION:https://pfarreien-bistum-augsburg.df-preview.de/hl-messe_id1731
 508
DTSTART;TZID=Europe/Berlin:20260503T101500
DURATION:PT30M
LOCATION:St. Jakobus maj.
END:VEVENT
BEGIN:VEVENT
UID:sabre-vobject-732a5df9-bc92-47d5-a364-666be2c37385
DTSTAMP:20260420T223650Z
SUMMARY:Kindergottesdienst
DESCRIPTION:https://pfarreien-bistum-augsburg.df-preview.de/kindergottesdie
 nst_id1731509
DTSTART;TZID=Europe/Berlin:20260503T101500
DURATION:PT30M
LOCATION:St. Jakobus maj.
END:VEVENT
BEGIN:VEVENT
UID:sabre-vobject-0b228007-250c-458c-ba55-6fb3ca755868
DTSTAMP:20260420T223650Z
SUMMARY:Maiandacht - gestaltet vom katholischen Frauenbund
DESCRIPTION:https://pfarreien-bistum-augsburg.df-preview.de/maiandacht-gest
 altet-vom-katholischen-frauenbund_id1731510
DTSTART;TZID=Europe/Berlin:20260503T183000
DURATION:PT30M
LOCATION:St. Emmeram\, Kapellenstraße 9\, 86368 Gersthofen
END:VEVENT
BEGIN:VEVENT
UID:sabre-vobject-a522b5b7-8d05-4c16-89a2-d40c41917009
DTSTAMP:20260420T223650Z
SUMMARY:Hl. Messe
DESCRIPTION:https://pfarreien-bistum-augsburg.df-preview.de/hl-messe_id1731
 514
DTSTART;TZID=Europe/Berlin:20260505T190000
DURATION:PT30M
LOCATION:St. Jakobus maj.
END:VEVENT
BEGIN:VEVENT
UID:sabre-vobject-2c7a14fa-3aef-43b8-aa8a-81102d1ff3b9
DTSTAMP:20260420T223650Z
SUMMARY:Hl. Messe
DESCRIPTION:https://pfarreien-bistum-augsburg.df-preview.de/hl-messe_id1731
 515
DTSTART;TZID=Europe/Berlin:20260506T090000
DURATION:PT30M
LOCATION:St. Jakobus maj.
END:VEVENT
BEGIN:VEVENT
UID:sabre-vobject-b0a9a77e-5c09-4d06-9db2-3924d39dd08b
DTSTAMP:20260420T223650Z
SUMMARY:Ökumenisches Friedensgebet in der Ulrichskapelle
DESCRIPTION:https://pfarreien-bistum-augsburg.df-preview.de/oekumenisches-f
 riedensgebet-in-der-ulrichskapelle_id1731516
DTSTART;TZID=Europe/Berlin:20260506T183000
DURATION:PT30M
LOCATION:St. Jakobus maj.
END:VEVENT
BEGIN:VEVENT
UID:sabre-vobject-48814456-d5de-49b3-8e2b-66dbce23191e
DTSTAMP:20260420T223650Z
SUMMARY:Hl. Messe
DESCRIPTION:https://pfarreien-bistum-augsburg.df-preview.de/hl-messe_id1731
 517
DTSTART;TZID=Europe/Berlin:20260507T190000
DURATION:PT30M
LOCATION:St. Jakobus maj.
END:VEVENT
BEGIN:VEVENT
UID:sabre-vobject-c89792c4-a428-4c60-b9bb-e999b0b2a990
DTSTAMP:20260420T223650Z
SUMMARY:Rosenkranz
DESCRIPTION:https://pfarreien-bistum-augsburg.df-preview.de/rosenkranz_id17
 31518
DTSTART;TZID=Europe/Berlin:20260508T170000
DURATION:PT30M
LOCATION:St. Emmeram\, Kapellenstraße 9\, 86368 Gersthofen
END:VEVENT
BEGIN:VEVENT
UID:sabre-vobject-90e31a37-e570-4d19-aa02-038e9ed6ff3a
DTSTAMP:20260420T223650Z
SUMMARY:Hl. Messe
DESCRIPTION:https://pfarreien-bistum-augsburg.df-preview.de/hl-messe_id1731
 519
DTSTART;TZID=Europe/Berlin:20260508T173000
DURATION:PT30M
LOCATION:St. Emmeram\, Kapellenstraße 9\, 86368 Gersthofen
END:VEVENT
BEGIN:VEVENT
UID:sabre-vobject-53b4bace-61d2-4a64-8420-219f40e7e8f6
DTSTAMP:20260420T223650Z
SUMMARY:Taufe
DESCRIPTION:https://pfarreien-bistum-augsburg.df-preview.de/taufe_id1742656
DTSTART;TZID=Europe/Berlin:20260509T140000
DURATION:PT30M
LOCATION:St. Jakobus maj.
END:VEVENT
BEGIN:VEVENT
UID:sabre-vobject-087feeab-63a4-4003-ae9e-f5ae181155a9
DTSTAMP:20260420T223650Z
SUMMARY:Beichtgelegenheit
DESCRIPTION:https://pfarreien-bistum-augsburg.df-preview.de/beichtgelegenhe
 it_id1742657
DTSTART;TZID=Europe/Berlin:20260509T171500
DURATION:PT30M
LOCATION:St. Jakobus maj.
END:VEVENT
BEGIN:VEVENT
UID:sabre-vobject-43195f9e-6aa6-44b9-a95d-1386f82af0ce
DTSTAMP:20260420T223650Z
SUMMARY:Sonntagvorabendmesse
DESCRIPTION:https://pfarreien-bistum-augsburg.df-preview.de/sonntagvorabend
 messe_id1742649
DTSTART;TZID=Europe/Berlin:20260509T180000
DURATION:PT30M
LOCATION:St. Jakobus maj.
END:VEVENT
BEGIN:VEVENT
UID:sabre-vobject-ff519aac-6265-4a04-825c-c1befe057cbd
DTSTAMP:20260420T223650Z
SUMMARY:Pfarrgottesdienst
DESCRIPTION:https://pfarreien-bistum-augsburg.df-preview.de/pfarrgottesdien
 st_id1742658
DTSTART;TZID=Europe/Berlin:20260510T083000
DURATION:PT30M
LOCATION:St. Jakobus maj.
END:VEVENT
BEGIN:VEVENT
UID:sabre-vobject-88fd75c7-e5e5-4ade-909b-a7789f17ab87
DTSTAMP:20260420T223650Z
SUMMARY:Hl. Messe
DESCRIPTION:https://pfarreien-bistum-augsburg.df-preview.de/hl-messe_id1742
 660
DTSTART;TZID=Europe/Berlin:20260510T101500
DURATION:PT30M
LOCATION:St. Jakobus maj.
END:VEVENT
BEGIN:VEVENT
UID:sabre-vobject-1aeb7e15-e8d4-4d3f-93ad-7b016e89ffa4
DTSTAMP:20260420T223650Z
SUMMARY:Taufe
DESCRIPTION:https://pfarreien-bistum-augsburg.df-preview.de/taufe_id1742653
DTSTART;TZID=Europe/Berlin:20260510T113000
DURATION:PT30M
LOCATION:St. Jakobus maj.
END:VEVENT
BEGIN:VEVENT
UID:sabre-vobject-122f52d1-ae95-4c46-87f9-ddae9286730b
DTSTAMP:20260420T223650Z
SUMMARY:Maiandacht
DESCRIPTION:https://pfarreien-bistum-augsburg.df-preview.de/maiandacht_id17
 42659
DTSTART;TZID=Europe/Berlin:20260510T183000
DURATION:PT30M
LOCATION:St. Jakobus maj.
END:VEVENT
BEGIN:VEVENT
UID:sabre-vobject-e844df69-7226-40fc-9217-d732ea3a469d
DTSTAMP:20260420T223650Z
SUMMARY:Hl. Messe
DESCRIPTION:https://pfarreien-bistum-augsburg.df-preview.de/hl-messe_id1742
 661
DTSTART;TZID=Europe/Berlin:20260512T190000
DURATION:PT30M
LOCATION:St. Jakobus maj.
END:VEVENT
BEGIN:VEVENT
UID:sabre-vobject-fe0606b5-2a35-4ae0-a9db-13ea9d8d0369
DTSTAMP:20260420T223650Z
SUMMARY:Hl. Messe
DESCRIPTION:https://pfarreien-bistum-augsburg.df-preview.de/hl-messe_id1742
 620
DTSTART;TZID=Europe/Berlin:20260513T090000
DURATION:PT30M
LOCATION:St. Jakobus maj.
END:VEVENT
BEGIN:VEVENT
UID:sabre-vobject-9b4b1f85-bfd0-491b-a86d-68e1f4eb3b43
DTSTAMP:20260420T223650Z
SUMMARY:Pfarrgottesdienst
DESCRIPTION:https://pfarreien-bistum-augsburg.df-preview.de/pfarrgottesdien
 st_id1742621
DTSTART;TZID=Europe/Berlin:20260514T083000
DURATION:PT30M
LOCATION:St. Jakobus maj.
END:VEVENT
BEGIN:VEVENT
UID:sabre-vobject-054f9eac-e2fc-4153-88ae-c777f9f1011e
DTSTAMP:20260420T223650Z
SUMMARY:Festgottesdienst - Familiengottesdienst
DESCRIPTION:https://pfarreien-bistum-augsburg.df-preview.de/festgottesdiens
 t-familiengottesdienst_id1742622
DTSTART;TZID=Europe/Berlin:20260514T101500
DURATION:PT30M
LOCATION:St. Jakobus maj.
END:VEVENT
BEGIN:VEVENT
UID:sabre-vobject-11f3001a-e778-4372-9763-ca3de5dfbd76
DTSTAMP:20260420T223650Z
SUMMARY:gemeinsamTag
DESCRIPTION:https://pfarreien-bistum-augsburg.df-preview.de/gemeinsamtag_id
 1742623
DTSTART;TZID=Europe/Berlin:20260514T111500
DURATION:PT30M
LOCATION:St. Jakobus maj.
END:VEVENT
BEGIN:VEVENT
UID:sabre-vobject-893f78cd-cac4-462b-a90b-bd9f137e6d69
DTSTAMP:20260420T223650Z
SUMMARY:Benefizkonzert des Orgelbauvereins mit Werken für Orgel und Soloin
 strument
DESCRIPTION:https://pfarreien-bistum-augsburg.df-preview.de/benefizkonzert-
 des-orgelbauvereins-mit-werken-fuer-orgel-und-soloinstrument_id1742624
DTSTART;TZID=Europe/Berlin:20260514T180000
DURATION:PT30M
LOCATION:St. Jakobus maj.
END:VEVENT
BEGIN:VEVENT
UID:sabre-vobject-01ae561f-d901-45a5-be41-3343abe8984b
DTSTAMP:20260420T223650Z
SUMMARY:Rosenkranz
DESCRIPTION:https://pfarreien-bistum-augsburg.df-preview.de/rosenkranz_id17
 42625
DTSTART;TZID=Europe/Berlin:20260515T170000
DURATION:PT30M
LOCATION:St. Emmeram\, Kapellenstraße 9\, 86368 Gersthofen
END:VEVENT
BEGIN:VEVENT
UID:sabre-vobject-00c24658-d7e5-4e79-b222-9193c8345e8d
DTSTAMP:20260420T223650Z
SUMMARY:Hl. Messe
DESCRIPTION:https://pfarreien-bistum-augsburg.df-preview.de/hl-messe_id1742
 626
DTSTART;TZID=Europe/Berlin:20260515T173000
DURATION:PT30M
LOCATION:St. Emmeram\, Kapellenstraße 9\, 86368 Gersthofen
END:VEVENT
END:VCALENDAR
