BEGIN:VCALENDAR
VERSION:2.0
PRODID:-//Sabre//Sabre VObject 4.5.8//EN
CALSCALE:GREGORIAN
NAME:Bistum Augsburg
X-WR-CALNAME:Bistum Augsburg
BEGIN:VEVENT
UID:sabre-vobject-e974672b-28f2-45f8-ae4a-adb8e0231253
DTSTAMP:20260422T073036Z
SUMMARY:Rosenkranz
DESCRIPTION:https://pfarreien-bistum-augsburg.df-preview.de/rosenkranz_id17
 25597
DTSTART;TZID=Europe/Berlin:20260422T090000
DURATION:PT30M
LOCATION:St. Nikolaus
END:VEVENT
BEGIN:VEVENT
UID:sabre-vobject-29966c4c-c9bd-49ed-894f-cfc2f72abb34
DTSTAMP:20260422T073036Z
SUMMARY:Wort-Gottes-Feier
DESCRIPTION:https://pfarreien-bistum-augsburg.df-preview.de/wort-gottes-fei
 er_id1725598
DTSTART;TZID=Europe/Berlin:20260424T183000
DURATION:PT30M
LOCATION:St. Nikolaus
END:VEVENT
BEGIN:VEVENT
UID:sabre-vobject-188eb9f3-dd2d-4941-8cd1-0c5148568e01
DTSTAMP:20260422T073036Z
SUMMARY:VAM:
DESCRIPTION:https://pfarreien-bistum-augsburg.df-preview.de/vam_id1727788
DTSTART;TZID=Europe/Berlin:20260425T183000
DURATION:PT30M
LOCATION:St. Nikolaus
END:VEVENT
BEGIN:VEVENT
UID:sabre-vobject-6ac58b6b-6dfc-4ae7-b4be-576973465840
DTSTAMP:20260422T073036Z
SUMMARY:PfGD:
DESCRIPTION:https://pfarreien-bistum-augsburg.df-preview.de/pfgd_id1727789
DTSTART;TZID=Europe/Berlin:20260426T100000
DURATION:PT30M
LOCATION:St. Nikolaus
END:VEVENT
BEGIN:VEVENT
UID:sabre-vobject-2bbd0e0c-5cfe-4fe1-b8b3-c6e7a17a3b32
DTSTAMP:20260422T073036Z
SUMMARY:Rosenkranz
DESCRIPTION:https://pfarreien-bistum-augsburg.df-preview.de/rosenkranz_id17
 27790
DTSTART;TZID=Europe/Berlin:20260427T090000
DURATION:PT30M
LOCATION:St. Nikolaus
END:VEVENT
BEGIN:VEVENT
UID:sabre-vobject-ed4c073a-799e-4845-a808-a7207e0d00a1
DTSTAMP:20260422T073036Z
SUMMARY:Rosenkranz
DESCRIPTION:https://pfarreien-bistum-augsburg.df-preview.de/rosenkranz_id17
 27791
DTSTART;TZID=Europe/Berlin:20260428T180000
DURATION:PT30M
LOCATION:St. Nikolaus
END:VEVENT
BEGIN:VEVENT
UID:sabre-vobject-77210d5e-f6f5-4dc7-9f78-a7f74a96d316
DTSTAMP:20260422T073036Z
SUMMARY:Hl. M.:
DESCRIPTION:https://pfarreien-bistum-augsburg.df-preview.de/hl-m_id1727793
DTSTART;TZID=Europe/Berlin:20260428T183000
DURATION:PT30M
LOCATION:St. Nikolaus
END:VEVENT
BEGIN:VEVENT
UID:sabre-vobject-9af4fbfb-fac6-46c5-b969-4c3bf6f5842b
DTSTAMP:20260422T073036Z
SUMMARY:Rosenkranz
DESCRIPTION:https://pfarreien-bistum-augsburg.df-preview.de/rosenkranz_id17
 27794
DTSTART;TZID=Europe/Berlin:20260429T090000
DURATION:PT30M
LOCATION:St. Nikolaus
END:VEVENT
BEGIN:VEVENT
UID:sabre-vobject-897b7df5-d097-46d6-a598-507bb1497757
DTSTAMP:20260422T073036Z
SUMMARY:Maiandacht mit Liederkranz     anschließend Serenade
DESCRIPTION:https://pfarreien-bistum-augsburg.df-preview.de/maiandacht-mit-
 liederkranz-anschliessend-serenade_id1727823
DTSTART;TZID=Europe/Berlin:20260501T180000
DURATION:PT30M
LOCATION:St. Nikolaus
END:VEVENT
BEGIN:VEVENT
UID:sabre-vobject-1c92fa42-6da1-478b-a0b7-7e3a23855beb
DTSTAMP:20260422T073036Z
SUMMARY:Erstkommunionfeier mit Kinderchor: für die verstorbenen Angehörig
 en der Erstkommunionkinder
DESCRIPTION:https://pfarreien-bistum-augsburg.df-preview.de/erstkommunionfe
 ier-mit-kinderchor-fuer-die-verstorbenen-angehoerigen-der-erstkommunionkin
 der_id1737855
DTSTART;TZID=Europe/Berlin:20260502T100000
DURATION:PT30M
LOCATION:St. Nikolaus
END:VEVENT
BEGIN:VEVENT
UID:sabre-vobject-4c165314-5d54-46b3-9af2-2fb125467c61
DTSTAMP:20260422T073036Z
SUMMARY:Dankandacht mit Opfergabe der Erstkommunionkinder
DESCRIPTION:https://pfarreien-bistum-augsburg.df-preview.de/dankandacht-mit
 -opfergabe-der-erstkommunionkinder_id1737856
DTSTART;TZID=Europe/Berlin:20260502T173000
DURATION:PT30M
LOCATION:St. Nikolaus
END:VEVENT
BEGIN:VEVENT
UID:sabre-vobject-7b9915c8-1812-4575-882d-1f20c158cbc5
DTSTAMP:20260422T073036Z
SUMMARY:VAM:
DESCRIPTION:https://pfarreien-bistum-augsburg.df-preview.de/vam_id1737857
DTSTART;TZID=Europe/Berlin:20260502T183000
DURATION:PT30M
LOCATION:St. Nikolaus
END:VEVENT
BEGIN:VEVENT
UID:sabre-vobject-ef82e820-98a3-4999-9b60-41b2b32174b8
DTSTAMP:20260422T073036Z
SUMMARY:Erstkommunionfeier mit Kinderchor: für die verstorbenen Angehörig
 en der Erstkommunionkinder
DESCRIPTION:https://pfarreien-bistum-augsburg.df-preview.de/erstkommunionfe
 ier-mit-kinderchor-fuer-die-verstorbenen-angehoerigen-der-erstkommunionkin
 der_id1737858
DTSTART;TZID=Europe/Berlin:20260503T100000
DURATION:PT30M
LOCATION:St. Nikolaus
END:VEVENT
BEGIN:VEVENT
UID:sabre-vobject-35f670b7-09f5-4ed1-9682-a9e10d2133dd
DTSTAMP:20260422T073036Z
SUMMARY:Rosenkranz in der Ottilienkapelle
DESCRIPTION:https://pfarreien-bistum-augsburg.df-preview.de/rosenkranz-in-d
 er-ottilienkapelle_id1737859
DTSTART;TZID=Europe/Berlin:20260503T123000
DURATION:PT30M
LOCATION:St. Nikolaus
END:VEVENT
BEGIN:VEVENT
UID:sabre-vobject-56f46622-f806-4eff-814f-170416a17429
DTSTAMP:20260422T073036Z
SUMMARY:Dankandacht mit Opfergabe der Erstkommunionkinder
DESCRIPTION:https://pfarreien-bistum-augsburg.df-preview.de/dankandacht-mit
 -opfergabe-der-erstkommunionkinder_id1737846
DTSTART;TZID=Europe/Berlin:20260503T173000
DURATION:PT30M
LOCATION:St. Nikolaus
END:VEVENT
BEGIN:VEVENT
UID:sabre-vobject-fbfb2c6e-24f0-4c1a-bb9d-ed2a541e99dc
DTSTAMP:20260422T073036Z
SUMMARY:Hl. M. mit den Kommunionkindern anschl. Frühstück und Wallfahrt z
 ur Justinakapelle
DESCRIPTION:https://pfarreien-bistum-augsburg.df-preview.de/hl-m-mit-den-ko
 mmunionkindern-anschl-fruehstueck-und-wallfahrt-zur-justinakapelle_id17379
 10
DTSTART;TZID=Europe/Berlin:20260504T081000
DURATION:PT30M
LOCATION:St. Nikolaus
END:VEVENT
BEGIN:VEVENT
UID:sabre-vobject-be594bb4-4c5c-4d56-940e-f9a1967a36af
DTSTAMP:20260422T073036Z
SUMMARY:Rosenkranz
DESCRIPTION:https://pfarreien-bistum-augsburg.df-preview.de/rosenkranz_id17
 37911
DTSTART;TZID=Europe/Berlin:20260504T090000
DURATION:PT30M
LOCATION:St. Nikolaus
END:VEVENT
BEGIN:VEVENT
UID:sabre-vobject-3fd825b0-d26c-4bff-9e26-60ca0d7144a4
DTSTAMP:20260422T073036Z
SUMMARY:Hl. Stunde
DESCRIPTION:https://pfarreien-bistum-augsburg.df-preview.de/hl-stunde_id173
 7912
DTSTART;TZID=Europe/Berlin:20260505T180000
DURATION:PT30M
LOCATION:St. Nikolaus
END:VEVENT
BEGIN:VEVENT
UID:sabre-vobject-a6694145-dc93-4e38-8443-229e4de55163
DTSTAMP:20260422T073036Z
SUMMARY:Hl. M.:
DESCRIPTION:https://pfarreien-bistum-augsburg.df-preview.de/hl-m_id1737913
DTSTART;TZID=Europe/Berlin:20260505T183000
DURATION:PT30M
LOCATION:St. Nikolaus
END:VEVENT
BEGIN:VEVENT
UID:sabre-vobject-345e975a-5816-4099-b805-1ced91d341fd
DTSTAMP:20260422T073036Z
SUMMARY:Rosenkranz
DESCRIPTION:https://pfarreien-bistum-augsburg.df-preview.de/rosenkranz_id17
 37914
DTSTART;TZID=Europe/Berlin:20260506T090000
DURATION:PT30M
LOCATION:St. Nikolaus
END:VEVENT
BEGIN:VEVENT
UID:sabre-vobject-d8ea3b35-05a0-4386-a1bf-b3f9ddc51f48
DTSTAMP:20260422T073036Z
SUMMARY:Krankenkommunion
DESCRIPTION:https://pfarreien-bistum-augsburg.df-preview.de/krankenkommunio
 n_id1737894
DTSTART;TZID=Europe/Berlin:20260508T140000
DURATION:PT30M
LOCATION:St. Nikolaus
END:VEVENT
BEGIN:VEVENT
UID:sabre-vobject-7c7d5e87-e7ea-48fa-96c2-79ea8d19337e
DTSTAMP:20260422T073036Z
SUMMARY:Wort-Gottes-Feier entfällt
DESCRIPTION:https://pfarreien-bistum-augsburg.df-preview.de/wort-gottes-fei
 er-entfaellt_id1737895
DTSTART;TZID=Europe/Berlin:20260508T183000
DURATION:PT30M
LOCATION:St. Nikolaus
END:VEVENT
BEGIN:VEVENT
UID:sabre-vobject-31437f8f-9fdb-453c-b2ab-1b020864e736
DTSTAMP:20260422T073036Z
SUMMARY:VAM:
DESCRIPTION:https://pfarreien-bistum-augsburg.df-preview.de/vam_id1748919
DTSTART;TZID=Europe/Berlin:20260509T183000
DURATION:PT30M
LOCATION:St. Nikolaus
END:VEVENT
BEGIN:VEVENT
UID:sabre-vobject-9a993120-e798-4398-984c-17d8c9203703
DTSTAMP:20260422T073036Z
SUMMARY:PfGD:
DESCRIPTION:https://pfarreien-bistum-augsburg.df-preview.de/pfgd_id1748920
DTSTART;TZID=Europe/Berlin:20260510T100000
DURATION:PT30M
LOCATION:St. Nikolaus
END:VEVENT
BEGIN:VEVENT
UID:sabre-vobject-c4416995-1f49-43e1-b766-64aacf1f26db
DTSTAMP:20260422T073036Z
SUMMARY:Rosenkranz in der Ottilienkapelle
DESCRIPTION:https://pfarreien-bistum-augsburg.df-preview.de/rosenkranz-in-d
 er-ottilienkapelle_id1748921
DTSTART;TZID=Europe/Berlin:20260510T123000
DURATION:PT30M
LOCATION:St. Nikolaus
END:VEVENT
BEGIN:VEVENT
UID:sabre-vobject-4c6d1a05-f35b-4a12-9964-b4a85e220e40
DTSTAMP:20260422T073036Z
SUMMARY:Maiandacht gestaltet vom Pfarrgemeinderat mit Zeitlos
DESCRIPTION:https://pfarreien-bistum-augsburg.df-preview.de/maiandacht-gest
 altet-vom-pfarrgemeinderat-mit-zeitlos_id1748922
DTSTART;TZID=Europe/Berlin:20260510T183000
DURATION:PT30M
LOCATION:St. Nikolaus
END:VEVENT
BEGIN:VEVENT
UID:sabre-vobject-bd9e70cf-fa14-4f1e-ac2c-ec78f3fd873f
DTSTAMP:20260422T073036Z
SUMMARY:Rosenkranz
DESCRIPTION:https://pfarreien-bistum-augsburg.df-preview.de/rosenkranz_id17
 49000
DTSTART;TZID=Europe/Berlin:20260511T090000
DURATION:PT30M
LOCATION:St. Nikolaus
END:VEVENT
BEGIN:VEVENT
UID:sabre-vobject-afc12033-9ff3-4daf-91aa-1553ef123ab3
DTSTAMP:20260422T073036Z
SUMMARY:Start zum Bittgang von den Pfarrkirchen (mit dem Fahrrad in O)
DESCRIPTION:https://pfarreien-bistum-augsburg.df-preview.de/start-zum-bittg
 ang-von-den-pfarrkirchen-mit-dem-fahrrad-in-o_id1749035
DTSTART;TZID=Europe/Berlin:20260511T180000
DURATION:PT30M
LOCATION:St. Nikolaus
END:VEVENT
BEGIN:VEVENT
UID:sabre-vobject-332be096-79c2-42dd-8499-fe6baa4de91d
DTSTAMP:20260422T073036Z
SUMMARY:Hl. M. am Stadel: um Frieden - mit Abordnung des Musikvereins Wehri
 ngen -   Bei schlechtem Wetter (Glockenläuten) entfällt der Bittgang\, s
 tattdessen Messe in G und WGF in W jeweils um 18.00 
DESCRIPTION:https://pfarreien-bistum-augsburg.df-preview.de/hl-m-am-stadel-
 um-frieden-mit-abordnung-des-musikvereins-wehringen-bei-schlechtem-wetter-
 glockenlaeuten-entfaellt-der-bittgang-stattdessen-messe-in-g-und-wgf-in-w-
 jeweils-um-18-00_id1749036
DTSTART;TZID=Europe/Berlin:20260511T185000
DURATION:PT30M
LOCATION:St. Nikolaus
END:VEVENT
BEGIN:VEVENT
UID:sabre-vobject-04bd9956-c08d-4d3b-974b-90d6e20837dd
DTSTAMP:20260422T073036Z
SUMMARY:Rosenkranz
DESCRIPTION:https://pfarreien-bistum-augsburg.df-preview.de/rosenkranz_id17
 49037
DTSTART;TZID=Europe/Berlin:20260512T180000
DURATION:PT30M
LOCATION:St. Nikolaus
END:VEVENT
BEGIN:VEVENT
UID:sabre-vobject-db490207-094a-41aa-a037-adeaf329b6f6
DTSTAMP:20260422T073036Z
SUMMARY:Hl. M.:
DESCRIPTION:https://pfarreien-bistum-augsburg.df-preview.de/hl-m_id1749038
DTSTART;TZID=Europe/Berlin:20260512T183000
DURATION:PT30M
LOCATION:St. Nikolaus
END:VEVENT
BEGIN:VEVENT
UID:sabre-vobject-7bc85794-5477-44ca-a0af-895dbb5057a3
DTSTAMP:20260422T073036Z
SUMMARY:Beginn d. Andechswallfahrt am Mühlkreuz (18.10 Uhr Hl. M. in Andec
 hs)
DESCRIPTION:https://pfarreien-bistum-augsburg.df-preview.de/beginn-d-andech
 swallfahrt-am-muehlkreuz-18-10-uhr-hl-m-in-andechs_id1749039
DTSTART;TZID=Europe/Berlin:20260513T040000
DURATION:PT30M
LOCATION:St. Nikolaus
END:VEVENT
BEGIN:VEVENT
UID:sabre-vobject-26100d49-89a1-4ddf-bb14-8ad1ef1dbbd1
DTSTAMP:20260422T073036Z
SUMMARY:Rosenkranz
DESCRIPTION:https://pfarreien-bistum-augsburg.df-preview.de/rosenkranz_id17
 49040
DTSTART;TZID=Europe/Berlin:20260513T090000
DURATION:PT30M
LOCATION:St. Nikolaus
END:VEVENT
BEGIN:VEVENT
UID:sabre-vobject-eb21e530-a811-47b9-bc2e-3631a17ed6d7
DTSTAMP:20260422T073036Z
SUMMARY:St. Seb.: Trauung von Tanja Knäpper und Felix Goßner
DESCRIPTION:https://pfarreien-bistum-augsburg.df-preview.de/st-seb-trauung-
 von-tanja-knaepper-und-felix-gossner_id1749041
DTSTART;TZID=Europe/Berlin:20260513T133000
DURATION:PT30M
LOCATION:St. Nikolaus
END:VEVENT
BEGIN:VEVENT
UID:sabre-vobject-84bec7d2-f5f1-48a9-87b0-a718c5795f51
DTSTAMP:20260422T073036Z
SUMMARY:PfGD: anschl. Flurumgang
DESCRIPTION:https://pfarreien-bistum-augsburg.df-preview.de/pfgd-anschl-flu
 rumgang_id1749044
DTSTART;TZID=Europe/Berlin:20260514T100000
DURATION:PT30M
LOCATION:St. Nikolaus
END:VEVENT
BEGIN:VEVENT
UID:sabre-vobject-04278b4b-36c5-4ea1-9b87-765ee6956d09
DTSTAMP:20260422T073036Z
SUMMARY:Hl. M.:
DESCRIPTION:https://pfarreien-bistum-augsburg.df-preview.de/hl-m_id1749045
DTSTART;TZID=Europe/Berlin:20260515T183000
DURATION:PT30M
LOCATION:St. Nikolaus
END:VEVENT
END:VCALENDAR
