BEGIN:VCALENDAR
VERSION:2.0
PRODID:-//Sabre//Sabre VObject 4.5.8//EN
CALSCALE:GREGORIAN
NAME:Bistum Augsburg
X-WR-CALNAME:Bistum Augsburg
BEGIN:VEVENT
UID:sabre-vobject-adcc5df7-8ead-4031-a664-3bbd4ab32682
DTSTAMP:20260421T200453Z
SUMMARY:Heilige Messe (Leonhardskapelle)
DESCRIPTION:https://pfarreien-bistum-augsburg.df-preview.de/heilige-messe-l
 eonhardskapelle_id1743316
DTSTART;TZID=Europe/Berlin:20260421T190000
DURATION:PT30M
LOCATION:St. Gallus
END:VEVENT
BEGIN:VEVENT
UID:sabre-vobject-487bd976-52a7-4366-aaae-eed64b1b8a4e
DTSTAMP:20260421T200453Z
SUMMARY:Heilige Messe
DESCRIPTION:https://pfarreien-bistum-augsburg.df-preview.de/heilige-messe_i
 d1743341
DTSTART;TZID=Europe/Berlin:20260422T190000
DURATION:PT30M
LOCATION:Hlgst. Dreifaltigkeit
END:VEVENT
BEGIN:VEVENT
UID:sabre-vobject-bd59e656-189f-4c39-8909-ce9bd393abfb
DTSTAMP:20260421T200453Z
SUMMARY:Heilige Messe
DESCRIPTION:https://pfarreien-bistum-augsburg.df-preview.de/heilige-messe_i
 d1743326
DTSTART;TZID=Europe/Berlin:20260423T190000
DURATION:PT30M
LOCATION:St. Rufus
END:VEVENT
BEGIN:VEVENT
UID:sabre-vobject-9660084d-0455-4048-904a-eb388575dc11
DTSTAMP:20260421T200453Z
SUMMARY:Vorabendmesse m. Lobpreisliedern und Segnungsabend
DESCRIPTION:https://pfarreien-bistum-augsburg.df-preview.de/vorabendmesse-m
 -lobpreisliedern-und-segnungsabend_id1707527
DTSTART;TZID=Europe/Berlin:20260425T190000
DURATION:PT30M
LOCATION:St. Gallus
END:VEVENT
BEGIN:VEVENT
UID:sabre-vobject-06e8a095-18a3-437e-8b08-ede7404072cd
DTSTAMP:20260421T200453Z
SUMMARY:Vorabendmesse m. Lobpreisliedern und Segnungsabend
DESCRIPTION:https://pfarreien-bistum-augsburg.df-preview.de/vorabendmesse-m
 -lobpreisliedern-und-segnungsabend_id1743317
DTSTART;TZID=Europe/Berlin:20260425T190000
DURATION:PT30M
LOCATION:St. Gallus
END:VEVENT
BEGIN:VEVENT
UID:sabre-vobject-081f01e5-d4af-4057-b625-79ef95a531b2
DTSTAMP:20260421T200453Z
SUMMARY:Einladung zur Eucharistiefeier in die Nachbargemeinden
DESCRIPTION:https://pfarreien-bistum-augsburg.df-preview.de/einladung-zur-e
 ucharistiefeier-in-die-nachbargemeinden_id1707812
DTSTART;TZID=Europe/Berlin:20260426T000000
DURATION:PT30M
LOCATION:St. Laurentius
END:VEVENT
BEGIN:VEVENT
UID:sabre-vobject-4397108f-97fb-4575-af3f-6956410bc06f
DTSTAMP:20260421T200453Z
SUMMARY:Einladung zur Eucharistiefeier in die Nachbargemeinden
DESCRIPTION:https://pfarreien-bistum-augsburg.df-preview.de/einladung-zur-e
 ucharistiefeier-in-die-nachbargemeinden_id1743385
DTSTART;TZID=Europe/Berlin:20260426T000000
DURATION:PT30M
LOCATION:St. Laurentius
END:VEVENT
BEGIN:VEVENT
UID:sabre-vobject-b8e5a8e5-d669-4538-9c6a-35aae1a716a7
DTSTAMP:20260421T200453Z
SUMMARY:Pfarrgottesdienst f. Leb. u. Verst. d. PG
DESCRIPTION:https://pfarreien-bistum-augsburg.df-preview.de/pfarrgottesdien
 st-f-leb-u-verst-d-pg_id1707673
DTSTART;TZID=Europe/Berlin:20260426T083000
DURATION:PT30M
LOCATION:Hlgst. Dreifaltigkeit
END:VEVENT
BEGIN:VEVENT
UID:sabre-vobject-668320b2-1284-403b-910b-1dbfaa582cd9
DTSTAMP:20260421T200453Z
SUMMARY:Pfarrgottesdienst f. Leb. u. Verst. d. PG
DESCRIPTION:https://pfarreien-bistum-augsburg.df-preview.de/pfarrgottesdien
 st-f-leb-u-verst-d-pg_id1743342
DTSTART;TZID=Europe/Berlin:20260426T083000
DURATION:PT30M
LOCATION:Hlgst. Dreifaltigkeit
END:VEVENT
BEGIN:VEVENT
UID:sabre-vobject-f7fcb983-8316-4b28-9563-98b022084a2c
DTSTAMP:20260421T200453Z
SUMMARY:Heilige Messe
DESCRIPTION:https://pfarreien-bistum-augsburg.df-preview.de/heilige-messe_i
 d1707581
DTSTART;TZID=Europe/Berlin:20260426T100000
DURATION:PT30M
LOCATION:St. Rufus
END:VEVENT
BEGIN:VEVENT
UID:sabre-vobject-a8f7f950-53bf-47b5-8f07-11a26f70a3ad
DTSTAMP:20260421T200453Z
SUMMARY:Festgottesdienst - Erstkommunion
DESCRIPTION:https://pfarreien-bistum-augsburg.df-preview.de/festgottesdiens
 t-erstkommunion_id1707689
DTSTART;TZID=Europe/Berlin:20260426T100000
DURATION:PT30M
LOCATION:Mariä Himmelfahrt
END:VEVENT
BEGIN:VEVENT
UID:sabre-vobject-92e9474d-29ad-45bd-85da-2aa2cbda2812
DTSTAMP:20260421T200453Z
SUMMARY:Heilige Messe
DESCRIPTION:https://pfarreien-bistum-augsburg.df-preview.de/heilige-messe_i
 d1743327
DTSTART;TZID=Europe/Berlin:20260426T100000
DURATION:PT30M
LOCATION:St. Rufus
END:VEVENT
BEGIN:VEVENT
UID:sabre-vobject-4f29e589-eeda-4e51-9ea8-944447e65809
DTSTAMP:20260421T200453Z
SUMMARY:Festgottesdienst - Erstkommunion
DESCRIPTION:https://pfarreien-bistum-augsburg.df-preview.de/festgottesdiens
 t-erstkommunion_id1743347
DTSTART;TZID=Europe/Berlin:20260426T100000
DURATION:PT30M
LOCATION:Mariä Himmelfahrt
END:VEVENT
BEGIN:VEVENT
UID:sabre-vobject-c9f47e99-83e8-4e52-81f9-97e43cc5d186
DTSTAMP:20260421T200453Z
SUMMARY:Heilige Messe
DESCRIPTION:https://pfarreien-bistum-augsburg.df-preview.de/heilige-messe_i
 d1707669
DTSTART;TZID=Europe/Berlin:20260427T190000
DURATION:PT30M
LOCATION:St. Blasius
END:VEVENT
BEGIN:VEVENT
UID:sabre-vobject-ff8f9712-a0cf-4439-a57a-d14701badcd4
DTSTAMP:20260421T200453Z
SUMMARY:Heilige Messe
DESCRIPTION:https://pfarreien-bistum-augsburg.df-preview.de/heilige-messe_i
 d1743340
DTSTART;TZID=Europe/Berlin:20260427T190000
DURATION:PT30M
LOCATION:St. Blasius
END:VEVENT
BEGIN:VEVENT
UID:sabre-vobject-6243c664-5de3-4d0d-8448-e355dcd604d6
DTSTAMP:20260421T200453Z
SUMMARY:Heilige Messe
DESCRIPTION:https://pfarreien-bistum-augsburg.df-preview.de/heilige-messe_i
 d1744014
DTSTART;TZID=Europe/Berlin:20260428T190000
DURATION:PT30M
LOCATION:St. Pantaleon
END:VEVENT
BEGIN:VEVENT
UID:sabre-vobject-24788173-f3dc-4f15-9fcf-b37ddb7799be
DTSTAMP:20260421T200453Z
SUMMARY:Pfarrgottesdienst f. Leb. u. Verst. d. PG m. anschl. Fahrzeugsegnun
 g
DESCRIPTION:https://pfarreien-bistum-augsburg.df-preview.de/pfarrgottesdien
 st-f-leb-u-verst-d-pg-m-anschl-fahrzeugsegnung_id1744053
DTSTART;TZID=Europe/Berlin:20260501T083000
DURATION:PT30M
LOCATION:St. Gallus
END:VEVENT
BEGIN:VEVENT
UID:sabre-vobject-bfcba858-5feb-4cc1-bfca-a14fe3bc01fa
DTSTAMP:20260421T200453Z
SUMMARY:Heilige Messe
DESCRIPTION:https://pfarreien-bistum-augsburg.df-preview.de/heilige-messe_i
 d1744000
DTSTART;TZID=Europe/Berlin:20260501T100000
DURATION:PT30M
LOCATION:Mariä Himmelfahrt
END:VEVENT
BEGIN:VEVENT
UID:sabre-vobject-f10a5e30-14a6-4c91-9b9a-389a5a4f0eae
DTSTAMP:20260421T200453Z
SUMMARY:Maiandacht
DESCRIPTION:https://pfarreien-bistum-augsburg.df-preview.de/maiandacht_id17
 43958
DTSTART;TZID=Europe/Berlin:20260501T190000
DURATION:PT30M
LOCATION:St. Laurentius
END:VEVENT
BEGIN:VEVENT
UID:sabre-vobject-4fdfe2d2-16a7-4701-b5b1-86834b059c45
DTSTAMP:20260421T200453Z
SUMMARY:Maiandacht
DESCRIPTION:https://pfarreien-bistum-augsburg.df-preview.de/maiandacht_id17
 44001
DTSTART;TZID=Europe/Berlin:20260501T190000
DURATION:PT30M
LOCATION:Mariä Himmelfahrt
END:VEVENT
BEGIN:VEVENT
UID:sabre-vobject-5aca1a54-491f-4964-b804-92d3bc3e7ad5
DTSTAMP:20260421T200453Z
SUMMARY:Vorabendmesse
DESCRIPTION:https://pfarreien-bistum-augsburg.df-preview.de/vorabendmesse_i
 d1743944
DTSTART;TZID=Europe/Berlin:20260502T190000
DURATION:PT30M
LOCATION:Hlgst. Dreifaltigkeit
END:VEVENT
BEGIN:VEVENT
UID:sabre-vobject-a99144e3-8652-4065-8574-b741d3e32fa6
DTSTAMP:20260421T200453Z
SUMMARY:Einladung zur Eucharistiefeier in die Nachbargemeinden
DESCRIPTION:https://pfarreien-bistum-augsburg.df-preview.de/einladung-zur-e
 ucharistiefeier-in-die-nachbargemeinden_id1744002
DTSTART;TZID=Europe/Berlin:20260503T000000
DURATION:PT30M
LOCATION:Mariä Himmelfahrt
END:VEVENT
BEGIN:VEVENT
UID:sabre-vobject-2d95e2e7-623f-4a3b-965e-35bf0fd938e5
DTSTAMP:20260421T200453Z
SUMMARY:Heilige Messe
DESCRIPTION:https://pfarreien-bistum-augsburg.df-preview.de/heilige-messe_i
 d1744054
DTSTART;TZID=Europe/Berlin:20260503T083000
DURATION:PT30M
LOCATION:St. Gallus
END:VEVENT
BEGIN:VEVENT
UID:sabre-vobject-46ec2b79-8e2a-40e7-a664-5266e4ef4154
DTSTAMP:20260421T200453Z
SUMMARY:Festgottesdienst - Erstkommunion
DESCRIPTION:https://pfarreien-bistum-augsburg.df-preview.de/festgottesdiens
 t-erstkommunion_id1743967
DTSTART;TZID=Europe/Berlin:20260503T100000
DURATION:PT30M
LOCATION:St. Laurentius
END:VEVENT
BEGIN:VEVENT
UID:sabre-vobject-7a1e5c92-fa22-4f8e-9722-43391f6a0a90
DTSTAMP:20260421T200453Z
SUMMARY:Pfarrgottesdienst f. Leb. u. Verst. d. PG
DESCRIPTION:https://pfarreien-bistum-augsburg.df-preview.de/pfarrgottesdien
 st-f-leb-u-verst-d-pg_id1744003
DTSTART;TZID=Europe/Berlin:20260503T100000
DURATION:PT30M
LOCATION:St. Rufus
END:VEVENT
BEGIN:VEVENT
UID:sabre-vobject-7ed9f8c4-fbf3-4a24-879e-92947757e255
DTSTAMP:20260421T200453Z
SUMMARY:Maiandacht der Frauengruppe an der Grotte\, anschl. Kaffee u. Kuche
 n im Pfarrhof
DESCRIPTION:https://pfarreien-bistum-augsburg.df-preview.de/maiandacht-der-
 frauengruppe-an-der-grotte-anschl-kaffee-u-kuchen-im-pfarrhof_id1744008
DTSTART;TZID=Europe/Berlin:20260503T140000
DURATION:PT30M
LOCATION:Mariä Himmelfahrt
END:VEVENT
BEGIN:VEVENT
UID:sabre-vobject-9360ba88-daa7-4c03-828f-bad1e1907f5a
DTSTAMP:20260421T200453Z
SUMMARY:Maiandacht
DESCRIPTION:https://pfarreien-bistum-augsburg.df-preview.de/maiandacht_id17
 43990
DTSTART;TZID=Europe/Berlin:20260503T180000
DURATION:PT30M
LOCATION:St. Gallus
END:VEVENT
BEGIN:VEVENT
UID:sabre-vobject-2ac0cf0c-2f05-4a52-8380-50a2de85592f
DTSTAMP:20260421T200453Z
SUMMARY:Maiandacht der Seniorengruppe Fremdingen
DESCRIPTION:https://pfarreien-bistum-augsburg.df-preview.de/maiandacht-der-
 seniorengruppe-fremdingen_id1743265
DTSTART;TZID=Europe/Berlin:20260505T140000
DURATION:PT30M
LOCATION:St. Blasius
END:VEVENT
BEGIN:VEVENT
UID:sabre-vobject-20048720-cab5-4f72-bd46-00d3eb7594f2
DTSTAMP:20260421T200453Z
SUMMARY:Heilige Messe (Leonhardskapelle)
DESCRIPTION:https://pfarreien-bistum-augsburg.df-preview.de/heilige-messe-l
 eonhardskapelle_id1743991
DTSTART;TZID=Europe/Berlin:20260505T190000
DURATION:PT30M
LOCATION:St. Gallus
END:VEVENT
BEGIN:VEVENT
UID:sabre-vobject-6c8754c5-e146-4621-81ab-5088fd2571aa
DTSTAMP:20260421T200453Z
SUMMARY:Maiandacht
DESCRIPTION:https://pfarreien-bistum-augsburg.df-preview.de/maiandacht_id17
 43950
DTSTART;TZID=Europe/Berlin:20260506T183000
DURATION:PT30M
LOCATION:Hlgst. Dreifaltigkeit
END:VEVENT
BEGIN:VEVENT
UID:sabre-vobject-02db6059-a335-41fe-beab-7f4bd88128d0
DTSTAMP:20260421T200453Z
SUMMARY:Heilige Messe
DESCRIPTION:https://pfarreien-bistum-augsburg.df-preview.de/heilige-messe_i
 d1743951
DTSTART;TZID=Europe/Berlin:20260506T190000
DURATION:PT30M
LOCATION:Hlgst. Dreifaltigkeit
END:VEVENT
BEGIN:VEVENT
UID:sabre-vobject-87cc0591-6672-4d67-afa7-16587fd1015d
DTSTAMP:20260421T200453Z
SUMMARY:Maiandacht
DESCRIPTION:https://pfarreien-bistum-augsburg.df-preview.de/maiandacht_id17
 43954
DTSTART;TZID=Europe/Berlin:20260507T190000
DURATION:PT30M
LOCATION:St. Laurentius
END:VEVENT
BEGIN:VEVENT
UID:sabre-vobject-86b252ca-591d-43a6-93f8-fbede63672d9
DTSTAMP:20260421T200453Z
SUMMARY:Heilige Messe
DESCRIPTION:https://pfarreien-bistum-augsburg.df-preview.de/heilige-messe_i
 d1744004
DTSTART;TZID=Europe/Berlin:20260507T190000
DURATION:PT30M
LOCATION:St. Rufus
END:VEVENT
BEGIN:VEVENT
UID:sabre-vobject-97fd705d-9e18-4a47-9be4-82c6dc636757
DTSTAMP:20260421T200453Z
SUMMARY:Dankandacht der Erstkommunionkinder
DESCRIPTION:https://pfarreien-bistum-augsburg.df-preview.de/dankandacht-der
 -erstkommunionkinder_id1743952
DTSTART;TZID=Europe/Berlin:20260508T190000
DURATION:PT30M
LOCATION:Hlgst. Dreifaltigkeit
END:VEVENT
BEGIN:VEVENT
UID:sabre-vobject-0e06be74-4a9e-4d37-aa72-a0325bce5da7
DTSTAMP:20260421T200453Z
SUMMARY:Vorabendmesse m. Lobpreisliedern
DESCRIPTION:https://pfarreien-bistum-augsburg.df-preview.de/vorabendmesse-m
 -lobpreisliedern_id1744051
DTSTART;TZID=Europe/Berlin:20260509T190000
DURATION:PT30M
LOCATION:St. Gallus
END:VEVENT
BEGIN:VEVENT
UID:sabre-vobject-b2d69f54-b188-4b93-96e1-803e68d7604e
DTSTAMP:20260421T200453Z
SUMMARY:Einladung zur Eucharistiefeier in die Nachbargemeinden
DESCRIPTION:https://pfarreien-bistum-augsburg.df-preview.de/einladung-zur-e
 ucharistiefeier-in-die-nachbargemeinden_id1744010
DTSTART;TZID=Europe/Berlin:20260510T000000
DURATION:PT30M
LOCATION:St. Rufus
END:VEVENT
BEGIN:VEVENT
UID:sabre-vobject-fffeaa5f-9e03-465e-b4ba-f085cfc77181
DTSTAMP:20260421T200453Z
SUMMARY:Pfarrgottesdienst f. Leb. u. Verst. d. PG
DESCRIPTION:https://pfarreien-bistum-augsburg.df-preview.de/pfarrgottesdien
 st-f-leb-u-verst-d-pg_id1743953
DTSTART;TZID=Europe/Berlin:20260510T083000
DURATION:PT30M
LOCATION:Hlgst. Dreifaltigkeit
END:VEVENT
BEGIN:VEVENT
UID:sabre-vobject-97411bb1-e0b7-4744-a8d2-74f8ddccabd8
DTSTAMP:20260421T200453Z
SUMMARY:Heilige Messe
DESCRIPTION:https://pfarreien-bistum-augsburg.df-preview.de/heilige-messe_i
 d1743968
DTSTART;TZID=Europe/Berlin:20260510T100000
DURATION:PT30M
LOCATION:St. Laurentius
END:VEVENT
BEGIN:VEVENT
UID:sabre-vobject-3d14a9de-8d20-457d-9ec3-5b3f378177c8
DTSTAMP:20260421T200453Z
SUMMARY:Heilige Messe
DESCRIPTION:https://pfarreien-bistum-augsburg.df-preview.de/heilige-messe_i
 d1744009
DTSTART;TZID=Europe/Berlin:20260510T100000
DURATION:PT30M
LOCATION:Mariä Himmelfahrt
END:VEVENT
BEGIN:VEVENT
UID:sabre-vobject-0c0c4ce4-0b04-40b6-927a-133b92471e78
DTSTAMP:20260421T200453Z
SUMMARY:Heilige Messe
DESCRIPTION:https://pfarreien-bistum-augsburg.df-preview.de/heilige-messe_i
 d1744016
DTSTART;TZID=Europe/Berlin:20260511T190000
DURATION:PT30M
LOCATION:St. Blasius
END:VEVENT
BEGIN:VEVENT
UID:sabre-vobject-504c7de1-374b-4e8e-932a-1ed23793f380
DTSTAMP:20260421T200453Z
SUMMARY:Bittgang zum Urlas anschl. Heilige Messe in der Weidenkapelle (bei 
 schlechter Witterung HM in St. Gallus Fremdingen
DESCRIPTION:https://pfarreien-bistum-augsburg.df-preview.de/bittgang-zum-ur
 las-anschl-heilige-messe-in-der-weidenkapelle-bei-schlechter-witterung-hm-
 in-st-gallus-fremdingen_id1743970
DTSTART;TZID=Europe/Berlin:20260512T183000
DURATION:PT30M
LOCATION:Hlgst. Dreifaltigkeit
END:VEVENT
BEGIN:VEVENT
UID:sabre-vobject-0ac71d9d-800f-4543-8fc0-96e974fad7ee
DTSTAMP:20260421T200453Z
SUMMARY:Bittgang nach Seglohe anschl. Heilige Messe
DESCRIPTION:https://pfarreien-bistum-augsburg.df-preview.de/bittgang-nach-s
 eglohe-anschl-heilige-messe_id1744011
DTSTART;TZID=Europe/Berlin:20260512T183000
DURATION:PT30M
LOCATION:St. Rufus
END:VEVENT
BEGIN:VEVENT
UID:sabre-vobject-e2749ccf-1d22-44ab-b46d-9710f662ef19
DTSTAMP:20260421T200453Z
SUMMARY:Bittgang von Hausen  nach Seglohe anschl. Heilige Messe
DESCRIPTION:https://pfarreien-bistum-augsburg.df-preview.de/bittgang-von-ha
 usen-nach-seglohe-anschl-heilige-messe_id1744015
DTSTART;TZID=Europe/Berlin:20260512T183000
DURATION:PT30M
LOCATION:St. Pantaleon
END:VEVENT
BEGIN:VEVENT
UID:sabre-vobject-1432d493-02e4-4948-ba64-34c08bb5bdcf
DTSTAMP:20260421T200453Z
SUMMARY:Bittgang zum Urlas anschl. Heilige Messe in der Weidenkapelle (bei 
 schlechter Witterung HM in Fremdingen St. Gallus)
DESCRIPTION:https://pfarreien-bistum-augsburg.df-preview.de/bittgang-zum-ur
 las-anschl-heilige-messe-in-der-weidenkapelle-bei-schlechter-witterung-hm-
 in-fremdingen-st-gallus_id1744052
DTSTART;TZID=Europe/Berlin:20260512T183000
DURATION:PT30M
LOCATION:St. Gallus
END:VEVENT
BEGIN:VEVENT
UID:sabre-vobject-bdcfcad1-3507-40ba-8668-8d660fa64b6a
DTSTAMP:20260421T200453Z
SUMMARY:Bittgang zum "Weißen Kreuz" anschl. VAM (bei schlechter Witterung 
 VAM in Mariä Himmelfahrt Marktoffingen)
DESCRIPTION:https://pfarreien-bistum-augsburg.df-preview.de/bittgang-zum-we
 issen-kreuz-anschl-vam-bei-schlechter-witterung-vam-in-mariae-himmelfahrt-
 marktoffingen_id1743981
DTSTART;TZID=Europe/Berlin:20260513T183000
DURATION:PT30M
LOCATION:St. Laurentius
END:VEVENT
BEGIN:VEVENT
UID:sabre-vobject-9747ff1f-311c-498f-8577-3b7f4fff9ce7
DTSTAMP:20260421T200453Z
SUMMARY:Bittgang zum "Weißen Kreuz" anschl. VAM - Abmarsch 19:00 h (bei sc
 hlechter Witterung VAM in Kreuzkapelle MAO)
DESCRIPTION:https://pfarreien-bistum-augsburg.df-preview.de/bittgang-zum-we
 issen-kreuz-anschl-vam-abmarsch-19-00-h-bei-schlechter-witterung-vam-in-kr
 euzkapelle-mao_id1743955
DTSTART;TZID=Europe/Berlin:20260513T190000
DURATION:PT30M
LOCATION:Mariä Himmelfahrt
END:VEVENT
BEGIN:VEVENT
UID:sabre-vobject-d0fb423c-0e2d-4016-97e4-227001b02b14
DTSTAMP:20260421T200453Z
SUMMARY:Heilige Messe / Bittgang von Rühlingstetten nach Raustetten
DESCRIPTION:https://pfarreien-bistum-augsburg.df-preview.de/heilige-messe-b
 ittgang-von-ruehlingstetten-nach-raustetten_id1744017
DTSTART;TZID=Europe/Berlin:20260513T190000
DURATION:PT30M
LOCATION:St. Blasius
END:VEVENT
BEGIN:VEVENT
UID:sabre-vobject-ca0578d3-384a-411f-b4bd-e96818993ae5
DTSTAMP:20260421T200453Z
SUMMARY:Pfarrgottesdienst f. Leb. u. Verst. d. PG
DESCRIPTION:https://pfarreien-bistum-augsburg.df-preview.de/pfarrgottesdien
 st-f-leb-u-verst-d-pg_id1744012
DTSTART;TZID=Europe/Berlin:20260514T080300
DURATION:PT30M
LOCATION:St. Rufus
END:VEVENT
BEGIN:VEVENT
UID:sabre-vobject-f5130325-d117-42b3-8461-f0d839b74ff4
DTSTAMP:20260421T200453Z
SUMMARY:Heilige Messe
DESCRIPTION:https://pfarreien-bistum-augsburg.df-preview.de/heilige-messe_i
 d1743993
DTSTART;TZID=Europe/Berlin:20260514T100000
DURATION:PT30M
LOCATION:Hlgst. Dreifaltigkeit
END:VEVENT
BEGIN:VEVENT
UID:sabre-vobject-8e8be1a7-e18d-4620-90cd-8ce433e6839d
DTSTAMP:20260421T200453Z
SUMMARY:Heilige Messe
DESCRIPTION:https://pfarreien-bistum-augsburg.df-preview.de/heilige-messe_i
 d1743997
DTSTART;TZID=Europe/Berlin:20260514T100000
DURATION:PT30M
LOCATION:St. Gallus
END:VEVENT
BEGIN:VEVENT
UID:sabre-vobject-1bea7625-a152-427d-b6d6-a6da9b6ba9cb
DTSTAMP:20260421T200453Z
SUMMARY:Trauung Zellinger Anna u. Jonas Michl
DESCRIPTION:https://pfarreien-bistum-augsburg.df-preview.de/trauung-zelling
 er-anna-u-jonas-michl_id1743980
DTSTART;TZID=Europe/Berlin:20260516T120000
DURATION:PT30M
LOCATION:St. Laurentius
END:VEVENT
BEGIN:VEVENT
UID:sabre-vobject-4340a52e-6595-48a3-9767-e64fcfea602c
DTSTAMP:20260421T200453Z
SUMMARY:Vorabendmesse
DESCRIPTION:https://pfarreien-bistum-augsburg.df-preview.de/vorabendmesse_i
 d1744013
DTSTART;TZID=Europe/Berlin:20260516T190000
DURATION:PT30M
LOCATION:St. Rufus
END:VEVENT
BEGIN:VEVENT
UID:sabre-vobject-2deb550d-91e2-4da5-80a7-23c316fe1300
DTSTAMP:20260421T200453Z
SUMMARY:Einladung zur Eucharistiefeier in die Nachbargemeinden
DESCRIPTION:https://pfarreien-bistum-augsburg.df-preview.de/einladung-zur-e
 ucharistiefeier-in-die-nachbargemeinden_id1743874
DTSTART;TZID=Europe/Berlin:20260517T000000
DURATION:PT30M
LOCATION:St. Laurentius
END:VEVENT
BEGIN:VEVENT
UID:sabre-vobject-92a8c717-ab2d-4d11-b847-bc98f62da4f5
DTSTAMP:20260421T200453Z
SUMMARY:Einladung zur Eucharistiefeier in die Nachbargemeinden
DESCRIPTION:https://pfarreien-bistum-augsburg.df-preview.de/einladung-zur-e
 ucharistiefeier-in-die-nachbargemeinden_id1743994
DTSTART;TZID=Europe/Berlin:20260517T000000
DURATION:PT30M
LOCATION:Hlgst. Dreifaltigkeit
END:VEVENT
BEGIN:VEVENT
UID:sabre-vobject-a1deb5ec-fb40-47e6-a1fd-0e615407df11
DTSTAMP:20260421T200453Z
SUMMARY:Pfarrgottesdienst f. Leb. u. Verst. d. PG
DESCRIPTION:https://pfarreien-bistum-augsburg.df-preview.de/pfarrgottesdien
 st-f-leb-u-verst-d-pg_id1743956
DTSTART;TZID=Europe/Berlin:20260517T083000
DURATION:PT30M
LOCATION:Mariä Himmelfahrt
END:VEVENT
BEGIN:VEVENT
UID:sabre-vobject-11c7b121-339c-4c60-a989-87cff7101965
DTSTAMP:20260421T200453Z
SUMMARY:Heilige Messe
DESCRIPTION:https://pfarreien-bistum-augsburg.df-preview.de/heilige-messe_i
 d1743998
DTSTART;TZID=Europe/Berlin:20260517T100000
DURATION:PT30M
LOCATION:St. Gallus
END:VEVENT
BEGIN:VEVENT
UID:sabre-vobject-7636c82d-e487-4e49-a2a2-9de88e8552db
DTSTAMP:20260421T200453Z
SUMMARY:Wallfahrt der PG - Heilige Messe in der Wallfahrtsbasilika Maria Br
 ünnlein Wemding
DESCRIPTION:https://pfarreien-bistum-augsburg.df-preview.de/wallfahrt-der-p
 g-heilige-messe-in-der-wallfahrtsbasilika-maria-bruennlein-wemding_id17439
 99
DTSTART;TZID=Europe/Berlin:20260517T113000
DURATION:PT30M
LOCATION:St. Gallus
END:VEVENT
BEGIN:VEVENT
UID:sabre-vobject-f03e68e9-f286-47e3-89ce-2c42bb16da6f
DTSTAMP:20260421T200453Z
SUMMARY:Maiandacht (m. Kirchenchor)
DESCRIPTION:https://pfarreien-bistum-augsburg.df-preview.de/maiandacht-m-ki
 rchenchor_id1743907
DTSTART;TZID=Europe/Berlin:20260517T190000
DURATION:PT30M
LOCATION:St. Laurentius
END:VEVENT
BEGIN:VEVENT
UID:sabre-vobject-42ddf0e0-852e-4bca-8f72-64ca3ae6d235
DTSTAMP:20260421T200453Z
SUMMARY:Maiandacht
DESCRIPTION:https://pfarreien-bistum-augsburg.df-preview.de/maiandacht_id17
 43957
DTSTART;TZID=Europe/Berlin:20260517T190000
DURATION:PT30M
LOCATION:Mariä Himmelfahrt
END:VEVENT
BEGIN:VEVENT
UID:sabre-vobject-d12dd7be-2910-4e18-8d2a-70c68bd72634
DTSTAMP:20260421T200453Z
SUMMARY:Maiandacht
DESCRIPTION:https://pfarreien-bistum-augsburg.df-preview.de/maiandacht_id17
 43942
DTSTART;TZID=Europe/Berlin:20260518T183000
DURATION:PT30M
LOCATION:St. Blasius
END:VEVENT
BEGIN:VEVENT
UID:sabre-vobject-1e7167de-e7b1-45c6-8794-cb078b7ba2e4
DTSTAMP:20260421T200453Z
SUMMARY:Heilige Messe
DESCRIPTION:https://pfarreien-bistum-augsburg.df-preview.de/heilige-messe_i
 d1743943
DTSTART;TZID=Europe/Berlin:20260518T190000
DURATION:PT30M
LOCATION:St. Blasius
END:VEVENT
END:VCALENDAR
