BEGIN:VCALENDAR
VERSION:2.0
PRODID:-//Sabre//Sabre VObject 4.5.8//EN
CALSCALE:GREGORIAN
NAME:Bistum Augsburg
X-WR-CALNAME:Bistum Augsburg
BEGIN:VEVENT
UID:sabre-vobject-5da17a04-bba7-460d-8005-596e7bcad595
DTSTAMP:20260423T011017Z
SUMMARY:Vorabendgottesdienst
DESCRIPTION:https://pfarreien-bistum-augsburg.df-preview.de/vorabendgottesd
 ienst_id1692864
DTSTART;TZID=Europe/Berlin:20260425T191500
DURATION:PT30M
LOCATION:St. Andreas\, Paul-Gaupp-Str. 6\, 87665 Frankenried
END:VEVENT
BEGIN:VEVENT
UID:sabre-vobject-b2d0df95-1874-4911-814b-bec77506e337
DTSTAMP:20260423T011017Z
SUMMARY:Vorabendgottesdienst
DESCRIPTION:https://pfarreien-bistum-augsburg.df-preview.de/vorabendgottesd
 ienst_id1737183
DTSTART;TZID=Europe/Berlin:20260425T191500
DURATION:PT30M
LOCATION:St. Andreas\, Paul-Gaupp-Str. 6\, 87665 Frankenried
END:VEVENT
BEGIN:VEVENT
UID:sabre-vobject-8b8e811a-ccf5-450e-897d-23a49d9a3a11
DTSTAMP:20260423T011017Z
SUMMARY:Spätschicht für Jugendliche und alle Interessierten in der Pfarrk
 irche in Frankenried
DESCRIPTION:https://pfarreien-bistum-augsburg.df-preview.de/spaetschicht-fu
 er-jugendliche-und-alle-interessierten-in-der-pfarrkirche-in-frankenried_i
 d1692865
DTSTART;TZID=Europe/Berlin:20260426T190000
DURATION:PT30M
LOCATION:St. Andreas\, Paul-Gaupp-Str. 6\, 87665 Frankenried
END:VEVENT
BEGIN:VEVENT
UID:sabre-vobject-cd40cf1f-8579-4f9d-8631-e04685b1a125
DTSTAMP:20260423T011017Z
SUMMARY:Spätschicht für Jugendliche und alle Interessierten in der Pfarrk
 irche in Frankenried
DESCRIPTION:https://pfarreien-bistum-augsburg.df-preview.de/spaetschicht-fu
 er-jugendliche-und-alle-interessierten-in-der-pfarrkirche-in-frankenried_i
 d1737184
DTSTART;TZID=Europe/Berlin:20260426T190000
DURATION:PT30M
LOCATION:St. Andreas\, Paul-Gaupp-Str. 6\, 87665 Frankenried
END:VEVENT
BEGIN:VEVENT
UID:sabre-vobject-f0acb450-9220-45f8-9106-1cd2c84c5e0b
DTSTAMP:20260423T011017Z
SUMMARY:Erste feierliche Maiandacht
DESCRIPTION:https://pfarreien-bistum-augsburg.df-preview.de/erste-feierlich
 e-maiandacht_id1737214
DTSTART;TZID=Europe/Berlin:20260501T191500
DURATION:PT30M
LOCATION:St. Andreas\, Paul-Gaupp-Str. 6\, 87665 Frankenried
END:VEVENT
BEGIN:VEVENT
UID:sabre-vobject-2a1210eb-1569-4181-bc8c-0407b6a53a78
DTSTAMP:20260423T011017Z
SUMMARY:Sonntagsgottesdienst
DESCRIPTION:https://pfarreien-bistum-augsburg.df-preview.de/sonntagsgottesd
 ienst_id1737215
DTSTART;TZID=Europe/Berlin:20260503T101500
DURATION:PT30M
LOCATION:St. Andreas\, Paul-Gaupp-Str. 6\, 87665 Frankenried
END:VEVENT
BEGIN:VEVENT
UID:sabre-vobject-c4a9e897-0e9d-4b63-86a6-222240d73949
DTSTAMP:20260423T011017Z
SUMMARY:Crescentia-Fußwallfahrt (Landvolk) nach Kaufbeuren
DESCRIPTION:https://pfarreien-bistum-augsburg.df-preview.de/crescentia-fuss
 wallfahrt-landvolk-nach-kaufbeuren_id1737228
DTSTART;TZID=Europe/Berlin:20260505T170000
DURATION:PT30M
LOCATION:St. Andreas\, Paul-Gaupp-Str. 6\, 87665 Frankenried
END:VEVENT
BEGIN:VEVENT
UID:sabre-vobject-c0a9bf6d-360d-4cfa-b528-f1815ee2c361
DTSTAMP:20260423T011017Z
SUMMARY:Vorabendgottesdienst
DESCRIPTION:https://pfarreien-bistum-augsburg.df-preview.de/vorabendgottesd
 ienst_id1737229
DTSTART;TZID=Europe/Berlin:20260509T191500
DURATION:PT30M
LOCATION:St. Andreas\, Paul-Gaupp-Str. 6\, 87665 Frankenried
END:VEVENT
BEGIN:VEVENT
UID:sabre-vobject-6423337f-3004-489d-b4ea-30451bf2c61e
DTSTAMP:20260423T011017Z
SUMMARY:Bittgang nach Hausen -  Feldgottesdienst\nin Hausen um 19.30 Uhr (b
 ei schlechtem Wetter\, Hl. Messe um 19.15 in St. Andreas Frankenried)
DESCRIPTION:https://pfarreien-bistum-augsburg.df-preview.de/bittgang-nach-h
 ausen-feldgottesdienst-in-hausen-um-19-30-uhr-bei-schlechtem-wetter-hl-mes
 se-um-19-15-in-st-andreas-frankenried_id1737230
DTSTART;TZID=Europe/Berlin:20260513T191500
DURATION:PT30M
LOCATION:St. Andreas\, Paul-Gaupp-Str. 6\, 87665 Frankenried
END:VEVENT
BEGIN:VEVENT
UID:sabre-vobject-2524bad9-e938-4a23-a0c9-df68b4bc6b3b
DTSTAMP:20260423T011017Z
SUMMARY:Gemeindegottesdienst mit Flurumgang\n-bei schlechtem Wetter\, entf
 ällt der Flurumgang-
DESCRIPTION:https://pfarreien-bistum-augsburg.df-preview.de/gemeindegottesd
 ienst-mit-flurumgang-bei-schlechtem-wetter-entfaellt-der-flurumgang_id1737
 247
DTSTART;TZID=Europe/Berlin:20260514T190000
DURATION:PT30M
LOCATION:St. Andreas\, Paul-Gaupp-Str. 6\, 87665 Frankenried
END:VEVENT
BEGIN:VEVENT
UID:sabre-vobject-4346a06f-7f1e-4435-840b-549bf7827ac9
DTSTAMP:20260423T011017Z
SUMMARY:Sonntagsgottesdienst
DESCRIPTION:https://pfarreien-bistum-augsburg.df-preview.de/sonntagsgottesd
 ienst_id1737248
DTSTART;TZID=Europe/Berlin:20260517T084500
DURATION:PT30M
LOCATION:St. Andreas\, Paul-Gaupp-Str. 6\, 87665 Frankenried
END:VEVENT
BEGIN:VEVENT
UID:sabre-vobject-08ee17e5-b4a4-4150-a6fe-195caf1f668e
DTSTAMP:20260423T011017Z
SUMMARY:Festgottesdienst zum Pfingstfest
DESCRIPTION:https://pfarreien-bistum-augsburg.df-preview.de/festgottesdiens
 t-zum-pfingstfest_id1737249
DTSTART;TZID=Europe/Berlin:20260523T191500
DURATION:PT30M
LOCATION:St. Andreas\, Paul-Gaupp-Str. 6\, 87665 Frankenried
END:VEVENT
BEGIN:VEVENT
UID:sabre-vobject-60f1f710-710d-40c1-96b5-ae11af7e62c9
DTSTAMP:20260423T011017Z
SUMMARY:Hl. Messe
DESCRIPTION:https://pfarreien-bistum-augsburg.df-preview.de/hl-messe_id1737
 250
DTSTART;TZID=Europe/Berlin:20260528T191500
DURATION:PT30M
LOCATION:St. Andreas\, Paul-Gaupp-Str. 6\, 87665 Frankenried
END:VEVENT
BEGIN:VEVENT
UID:sabre-vobject-c362f846-4c62-4ece-a5bd-481e370b88ba
DTSTAMP:20260423T011017Z
SUMMARY:Sonntagsgottesdienst
DESCRIPTION:https://pfarreien-bistum-augsburg.df-preview.de/sonntagsgottesd
 ienst_id1737251
DTSTART;TZID=Europe/Berlin:20260531T101500
DURATION:PT30M
LOCATION:St. Andreas\, Paul-Gaupp-Str. 6\, 87665 Frankenried
END:VEVENT
END:VCALENDAR
