BEGIN:VCALENDAR
VERSION:2.0
PRODID:-//Sabre//Sabre VObject 4.5.8//EN
CALSCALE:GREGORIAN
NAME:Bistum Augsburg
X-WR-CALNAME:Bistum Augsburg
BEGIN:VEVENT
UID:sabre-vobject-95973a94-4bff-4746-9e95-a4e3b250cbb5
DTSTAMP:20260420T181158Z
SUMMARY:Rosenkranz
DESCRIPTION:https://pfarreien-bistum-augsburg.df-preview.de/rosenkranz_id17
 25825
DTSTART;TZID=Europe/Berlin:20260420T183000
DURATION:PT30M
LOCATION:Mariä Himmelfahrt
END:VEVENT
BEGIN:VEVENT
UID:sabre-vobject-55123533-4ae0-408c-8445-1e1c2500c43f
DTSTAMP:20260420T181158Z
SUMMARY:Rosenkranz
DESCRIPTION:https://pfarreien-bistum-augsburg.df-preview.de/rosenkranz_id17
 25826
DTSTART;TZID=Europe/Berlin:20260424T183000
DURATION:PT30M
LOCATION:Mariä Himmelfahrt
END:VEVENT
BEGIN:VEVENT
UID:sabre-vobject-ef9a50cc-55a5-4846-b928-f3566719777b
DTSTAMP:20260420T181158Z
SUMMARY:Hl. Messe
DESCRIPTION:https://pfarreien-bistum-augsburg.df-preview.de/hl-messe_id1727
 009
DTSTART;TZID=Europe/Berlin:20260426T083000
DURATION:PT30M
LOCATION:Mariä Himmelfahrt
END:VEVENT
BEGIN:VEVENT
UID:sabre-vobject-264d1185-57c3-48a9-8dee-6b8931af74bc
DTSTAMP:20260420T181158Z
SUMMARY:Rosenkranz
DESCRIPTION:https://pfarreien-bistum-augsburg.df-preview.de/rosenkranz_id17
 27022
DTSTART;TZID=Europe/Berlin:20260427T183000
DURATION:PT30M
LOCATION:Mariä Himmelfahrt
END:VEVENT
BEGIN:VEVENT
UID:sabre-vobject-e530f531-d1b4-489a-be2b-155d9f4e1836
DTSTAMP:20260420T181158Z
SUMMARY:Beichtgelegenheit
DESCRIPTION:https://pfarreien-bistum-augsburg.df-preview.de/beichtgelegenhe
 it_id1732093
DTSTART;TZID=Europe/Berlin:20260502T183000
DURATION:PT30M
LOCATION:Mariä Himmelfahrt
END:VEVENT
BEGIN:VEVENT
UID:sabre-vobject-fb466964-3266-4666-bc25-49f4c829974a
DTSTAMP:20260420T181158Z
SUMMARY:Vorabendmesse zum Sonntag \nHl. Messe
DESCRIPTION:https://pfarreien-bistum-augsburg.df-preview.de/vorabendmesse-z
 um-sonntag-hl-messe_id1732086
DTSTART;TZID=Europe/Berlin:20260502T190000
DURATION:PT30M
LOCATION:Mariä Himmelfahrt
END:VEVENT
BEGIN:VEVENT
UID:sabre-vobject-404713d5-e998-43b0-be04-0ef0cdb452c5
DTSTAMP:20260420T181158Z
SUMMARY:Rosenkranz
DESCRIPTION:https://pfarreien-bistum-augsburg.df-preview.de/rosenkranz_id17
 32087
DTSTART;TZID=Europe/Berlin:20260504T183000
DURATION:PT30M
LOCATION:Mariä Himmelfahrt
END:VEVENT
BEGIN:VEVENT
UID:sabre-vobject-629261be-0f9f-4c9f-824b-ddf557e02c8e
DTSTAMP:20260420T181158Z
SUMMARY:Rosenkranz
DESCRIPTION:https://pfarreien-bistum-augsburg.df-preview.de/rosenkranz_id17
 32094
DTSTART;TZID=Europe/Berlin:20260508T183000
DURATION:PT30M
LOCATION:Mariä Himmelfahrt
END:VEVENT
BEGIN:VEVENT
UID:sabre-vobject-c927bb24-192e-4dc5-8f3d-463730cd5d0d
DTSTAMP:20260420T181158Z
SUMMARY:Maiandacht an der Marienkapelle (Weggang an der Kirche um 18.45 Uhr
 )
DESCRIPTION:https://pfarreien-bistum-augsburg.df-preview.de/maiandacht-an-d
 er-marienkapelle-weggang-an-der-kirche-um-18-45-uhr_id1746322
DTSTART;TZID=Europe/Berlin:20260510T190000
DURATION:PT30M
LOCATION:Mariä Himmelfahrt
END:VEVENT
BEGIN:VEVENT
UID:sabre-vobject-d603329d-917f-4764-96fa-6531bc8e5cea
DTSTAMP:20260420T181158Z
SUMMARY:Bittgang nach Immendorf
DESCRIPTION:https://pfarreien-bistum-augsburg.df-preview.de/bittgang-nach-i
 mmendorf_id1746323
DTSTART;TZID=Europe/Berlin:20260511T174500
DURATION:PT30M
LOCATION:Mariä Himmelfahrt
END:VEVENT
BEGIN:VEVENT
UID:sabre-vobject-734c1929-be13-4d1c-b98b-16359af9d846
DTSTAMP:20260420T181158Z
SUMMARY:Rosenkranz
DESCRIPTION:https://pfarreien-bistum-augsburg.df-preview.de/rosenkranz_id17
 46324
DTSTART;TZID=Europe/Berlin:20260515T183000
DURATION:PT30M
LOCATION:Mariä Himmelfahrt
END:VEVENT
END:VCALENDAR
