BEGIN:VCALENDAR
VERSION:2.0
PRODID:-//Sabre//Sabre VObject 4.5.8//EN
CALSCALE:GREGORIAN
NAME:Bistum Augsburg
X-WR-CALNAME:Bistum Augsburg
BEGIN:VEVENT
UID:sabre-vobject-f98bd211-1ba2-4ac7-8b90-b32716f3b8e4
DTSTAMP:20260421T162129Z
SUMMARY:Beichtgelegenheit (bis 12.00 Uhr)
DESCRIPTION:https://pfarreien-bistum-augsburg.df-preview.de/beichtgelegenhe
 it-bis-12-00-uhr_id1744716
DTSTART;TZID=Europe/Berlin:20260425T110000
DURATION:PT30M
LOCATION:St. Walburga
END:VEVENT
BEGIN:VEVENT
UID:sabre-vobject-83c780bf-37bb-4a55-b8d2-7a1611e34b9f
DTSTAMP:20260421T162129Z
SUMMARY:Pfarrgottesdienst
DESCRIPTION:https://pfarreien-bistum-augsburg.df-preview.de/pfarrgottesdien
 st_id1744681
DTSTART;TZID=Europe/Berlin:20260426T083000
DURATION:PT30M
LOCATION:St. Walburga
END:VEVENT
BEGIN:VEVENT
UID:sabre-vobject-1abe7427-f815-43f1-ba34-10543cd8f0c5
DTSTAMP:20260421T162129Z
SUMMARY:Rosenkranz
DESCRIPTION:https://pfarreien-bistum-augsburg.df-preview.de/rosenkranz_id17
 44682
DTSTART;TZID=Europe/Berlin:20260426T120000
DURATION:PT30M
LOCATION:St. Walburga
END:VEVENT
BEGIN:VEVENT
UID:sabre-vobject-d5bfe874-9520-4dc7-abad-d96897c2535a
DTSTAMP:20260421T162129Z
SUMMARY:Heilige Messe\, anschl. Erstkommunionausflug
DESCRIPTION:https://pfarreien-bistum-augsburg.df-preview.de/heilige-messe-a
 nschl-erstkommunionausflug_id1744683
DTSTART;TZID=Europe/Berlin:20260428T080000
DURATION:PT30M
LOCATION:St. Walburga
END:VEVENT
BEGIN:VEVENT
UID:sabre-vobject-8da477e7-24f9-4c76-bf56-bbd39dccf13e
DTSTAMP:20260421T162129Z
SUMMARY:Pastoralratssitzung
DESCRIPTION:https://pfarreien-bistum-augsburg.df-preview.de/pastoralratssit
 zung_id1744687
DTSTART;TZID=Europe/Berlin:20260428T194500
DURATION:PT30M
LOCATION:St. Walburga
END:VEVENT
BEGIN:VEVENT
UID:sabre-vobject-5993c6b0-1dfa-42a2-bdac-fa0e15ded2a0
DTSTAMP:20260421T162129Z
SUMMARY:Rosenkranz
DESCRIPTION:https://pfarreien-bistum-augsburg.df-preview.de/rosenkranz_id17
 44688
DTSTART;TZID=Europe/Berlin:20260430T080000
DURATION:PT30M
LOCATION:St. Walburga
END:VEVENT
BEGIN:VEVENT
UID:sabre-vobject-10678153-604a-44ac-b82a-dd8107166aea
DTSTAMP:20260421T162129Z
SUMMARY:Krankenkommunion
DESCRIPTION:https://pfarreien-bistum-augsburg.df-preview.de/krankenkommunio
 n_id1744689
DTSTART;TZID=Europe/Berlin:20260430T100000
DURATION:PT30M
LOCATION:St. Walburga
END:VEVENT
BEGIN:VEVENT
UID:sabre-vobject-013a7059-48e1-446e-8080-086b7d1e3abb
DTSTAMP:20260421T162129Z
SUMMARY:Abmarsch zur Fußwallfahrt nach Holzburg
DESCRIPTION:https://pfarreien-bistum-augsburg.df-preview.de/abmarsch-zur-fu
 sswallfahrt-nach-holzburg_id1744690
DTSTART;TZID=Europe/Berlin:20260501T064500
DURATION:PT30M
LOCATION:St. Walburga
END:VEVENT
BEGIN:VEVENT
UID:sabre-vobject-975033f1-aec1-4ca1-a72d-c47926e592ee
DTSTAMP:20260421T162129Z
SUMMARY:Maiandacht\, mit dem Eisbachtaler Liederkranz
DESCRIPTION:https://pfarreien-bistum-augsburg.df-preview.de/maiandacht-mit-
 dem-eisbachtaler-liederkranz_id1744692
DTSTART;TZID=Europe/Berlin:20260501T190000
DURATION:PT30M
LOCATION:St. Walburga
END:VEVENT
BEGIN:VEVENT
UID:sabre-vobject-6e05788f-9f18-42a8-8858-d31049cac1f1
DTSTAMP:20260421T162129Z
SUMMARY:Beichtgelegenheit (bis 12.00 Uhr)
DESCRIPTION:https://pfarreien-bistum-augsburg.df-preview.de/beichtgelegenhe
 it-bis-12-00-uhr_id1744693
DTSTART;TZID=Europe/Berlin:20260502T110000
DURATION:PT30M
LOCATION:St. Walburga
END:VEVENT
BEGIN:VEVENT
UID:sabre-vobject-541c721b-0184-47b6-bd58-e5cff76e64fe
DTSTAMP:20260421T162129Z
SUMMARY:Pfarrgottesdienst
DESCRIPTION:https://pfarreien-bistum-augsburg.df-preview.de/pfarrgottesdien
 st_id1744685
DTSTART;TZID=Europe/Berlin:20260503T100000
DURATION:PT30M
LOCATION:St. Walburga
END:VEVENT
BEGIN:VEVENT
UID:sabre-vobject-7b1567db-819a-49cb-bfbb-013d11bc9ff6
DTSTAMP:20260421T162129Z
SUMMARY:Wort Gottes Feier
DESCRIPTION:https://pfarreien-bistum-augsburg.df-preview.de/pfarreiengemein
 schaften/baindlkirch/veranstaltungen/wort-gottes-feier_id1698250
DTSTART;TZID=Europe/Berlin:20260917T100000
DURATION:PT30M
LOCATION:Baindlkirch: St. Martin\, St.-Martin-Str. 3\, 86510 Ried
END:VEVENT
END:VCALENDAR
