BEGIN:VCALENDAR
VERSION:2.0
PRODID:-//Sabre//Sabre VObject 4.5.8//EN
CALSCALE:GREGORIAN
NAME:Bistum Augsburg
X-WR-CALNAME:Bistum Augsburg
BEGIN:VEVENT
UID:sabre-vobject-d97fcb96-0440-4dc7-8756-3f6d5c5f1551
DTSTAMP:20260421T144729Z
SUMMARY:Messfeier anschl. Seniorennachmittag im Pfarrheim
DESCRIPTION:https://pfarreien-bistum-augsburg.df-preview.de/messfeier-ansch
 l-seniorennachmittag-im-pfarrheim_id1697521
DTSTART;TZID=Europe/Berlin:20260422T140000
DURATION:PT30M
LOCATION:St. Martin
END:VEVENT
BEGIN:VEVENT
UID:sabre-vobject-20cbc881-6ab3-4d3d-a5e6-0cd6062ada66
DTSTAMP:20260421T144729Z
SUMMARY:Messfeier anschl. Seniorennachmittag im Pfarrheim
DESCRIPTION:https://pfarreien-bistum-augsburg.df-preview.de/messfeier-ansch
 l-seniorennachmittag-im-pfarrheim_id1740200
DTSTART;TZID=Europe/Berlin:20260422T140000
DURATION:PT30M
LOCATION:St. Martin
END:VEVENT
BEGIN:VEVENT
UID:sabre-vobject-19e4a586-370c-4f53-b9ca-3bffcbd9d325
DTSTAMP:20260421T144729Z
SUMMARY:Sonntagsmessfeier für
DESCRIPTION:https://pfarreien-bistum-augsburg.df-preview.de/sonntagsmessfei
 er-fuer_id1745583
DTSTART;TZID=Europe/Berlin:20260426T083000
DURATION:PT30M
LOCATION:St. Martin
END:VEVENT
BEGIN:VEVENT
UID:sabre-vobject-53d4bfea-2262-4543-b565-4dc9339952fe
DTSTAMP:20260421T144729Z
SUMMARY:Feierl. Maiandacht
DESCRIPTION:https://pfarreien-bistum-augsburg.df-preview.de/feierl-maiandac
 ht_id1745643
DTSTART;TZID=Europe/Berlin:20260501T190000
DURATION:PT30M
LOCATION:St. Martin
END:VEVENT
BEGIN:VEVENT
UID:sabre-vobject-2e41b494-93fb-4609-87a3-e2f80f60ac2f
DTSTAMP:20260421T144729Z
SUMMARY:Vorabendmesse für
DESCRIPTION:https://pfarreien-bistum-augsburg.df-preview.de/vorabendmesse-f
 uer_id1745644
DTSTART;TZID=Europe/Berlin:20260502T190000
DURATION:PT30M
LOCATION:St. Martin
END:VEVENT
BEGIN:VEVENT
UID:sabre-vobject-c22d98db-63e8-44d8-bf8d-a04d732e3104
DTSTAMP:20260421T144729Z
SUMMARY:Treffpunkt am Kircheneingang zum feierl. Einzug aller Erstkommunion
 kinder in die Pfarrkirche
DESCRIPTION:https://pfarreien-bistum-augsburg.df-preview.de/treffpunkt-am-k
 ircheneingang-zum-feierl-einzug-aller-erstkommunionkinder-in-die-pfarrkirc
 he_id1745645
DTSTART;TZID=Europe/Berlin:20260503T094500
DURATION:PT30M
LOCATION:St. Martin
END:VEVENT
BEGIN:VEVENT
UID:sabre-vobject-7b5bb38b-ec82-436d-8738-3378ad628cbc
DTSTAMP:20260421T144729Z
SUMMARY:Festgottesdienst zur Erstkommunion für die verst. Angehörigen der
  Erstkommunionkinder
DESCRIPTION:https://pfarreien-bistum-augsburg.df-preview.de/festgottesdiens
 t-zur-erstkommunion-fuer-die-verst-angehoerigen-der-erstkommunionkinder_id
 1745646
DTSTART;TZID=Europe/Berlin:20260503T100000
DURATION:PT30M
LOCATION:St. Martin
END:VEVENT
BEGIN:VEVENT
UID:sabre-vobject-c5e6e342-480d-48f8-9f9f-6dd979188e19
DTSTAMP:20260421T144729Z
SUMMARY:Messfeier für
DESCRIPTION:https://pfarreien-bistum-augsburg.df-preview.de/messfeier-fuer_
 id1745647
DTSTART;TZID=Europe/Berlin:20260508T083000
DURATION:PT30M
LOCATION:St. Martin
END:VEVENT
BEGIN:VEVENT
UID:sabre-vobject-4c7c6d1e-dd3a-45c2-a1a2-3afaacecf512
DTSTAMP:20260421T144729Z
SUMMARY:Vorabendmesse für
DESCRIPTION:https://pfarreien-bistum-augsburg.df-preview.de/vorabendmesse-f
 uer_id1745318
DTSTART;TZID=Europe/Berlin:20260509T190000
DURATION:PT30M
LOCATION:St. Martin
END:VEVENT
BEGIN:VEVENT
UID:sabre-vobject-5a5dba71-2ff9-4c50-b43d-690ad4d6e750
DTSTAMP:20260421T144729Z
SUMMARY:Maiandacht
DESCRIPTION:https://pfarreien-bistum-augsburg.df-preview.de/maiandacht_id17
 45319
DTSTART;TZID=Europe/Berlin:20260510T190000
DURATION:PT30M
LOCATION:St. Martin
END:VEVENT
BEGIN:VEVENT
UID:sabre-vobject-631ca039-b1fb-4c89-995d-b1b1853aebb6
DTSTAMP:20260421T144729Z
SUMMARY:Sonntagsmessfeier (Sonderkollekte für den Maialtar) für
DESCRIPTION:https://pfarreien-bistum-augsburg.df-preview.de/sonntagsmessfei
 er-sonderkollekte-fuer-den-maialtar-fuer_id1745552
DTSTART;TZID=Europe/Berlin:20260517T100000
DURATION:PT30M
LOCATION:St. Martin
END:VEVENT
BEGIN:VEVENT
UID:sabre-vobject-f7808a0f-e365-49b3-a128-c66360b3add0
DTSTAMP:20260421T144729Z
SUMMARY:Messfeier für
DESCRIPTION:https://pfarreien-bistum-augsburg.df-preview.de/messfeier-fuer_
 id1745553
DTSTART;TZID=Europe/Berlin:20260522T083000
DURATION:PT30M
LOCATION:St. Martin
END:VEVENT
BEGIN:VEVENT
UID:sabre-vobject-20cbded9-70f6-44d4-9fb6-8a7a7a35eec9
DTSTAMP:20260421T144729Z
SUMMARY:Trauung Anna und Andreas Hintermayr
DESCRIPTION:https://pfarreien-bistum-augsburg.df-preview.de/trauung-anna-un
 d-andreas-hintermayr_id1745446
DTSTART;TZID=Europe/Berlin:20260523T123000
DURATION:PT30M
LOCATION:St. Martin
END:VEVENT
BEGIN:VEVENT
UID:sabre-vobject-c4f05625-f7dc-430c-ae20-72e3f02306a1
DTSTAMP:20260421T144729Z
SUMMARY:Sonntagsmessfeier für
DESCRIPTION:https://pfarreien-bistum-augsburg.df-preview.de/sonntagsmessfei
 er-fuer_id1745447
DTSTART;TZID=Europe/Berlin:20260524T083000
DURATION:PT30M
LOCATION:St. Martin
END:VEVENT
BEGIN:VEVENT
UID:sabre-vobject-b04d9760-abd7-4ece-bbfb-7e3c4413420e
DTSTAMP:20260421T144729Z
SUMMARY:Maiandacht: Treffpunkt gleich an der Marienkapelle Richtung Peterho
 f (Bei schlechtem Wetter findet die Maiandacht in der Pfarrkirche statt)
DESCRIPTION:https://pfarreien-bistum-augsburg.df-preview.de/maiandacht-tref
 fpunkt-gleich-an-der-marienkapelle-richtung-peterhof-bei-schlechtem-wetter
 -findet-die-maiandacht-in-der-pfarrkirche-statt_id1745439
DTSTART;TZID=Europe/Berlin:20260524T190000
DURATION:PT30M
LOCATION:St. Martin
END:VEVENT
BEGIN:VEVENT
UID:sabre-vobject-18eeb499-a622-49e3-a8f9-09335d3d9ece
DTSTAMP:20260421T144729Z
SUMMARY:Wortgottesfeier anschl. Seniorennachmittag im Pfarrheim
DESCRIPTION:https://pfarreien-bistum-augsburg.df-preview.de/wortgottesfeier
 -anschl-seniorennachmittag-im-pfarrheim_id1745241
DTSTART;TZID=Europe/Berlin:20260527T140000
DURATION:PT30M
LOCATION:St. Martin
END:VEVENT
END:VCALENDAR
