BEGIN:VCALENDAR
VERSION:2.0
PRODID:-//Sabre//Sabre VObject 4.5.8//EN
CALSCALE:GREGORIAN
NAME:Bistum Augsburg
X-WR-CALNAME:Bistum Augsburg
BEGIN:VEVENT
UID:sabre-vobject-92c9d5eb-77a9-479a-b34b-adfec6cdee1d
DTSTAMP:20260421T004642Z
SUMMARY:Rosenkranz
DESCRIPTION:https://pfarreien-bistum-augsburg.df-preview.de/rosenkranz_id17
 25680
DTSTART;TZID=Europe/Berlin:20260421T182500
DURATION:PT30M
LOCATION:Mariä Heimsuchung
END:VEVENT
BEGIN:VEVENT
UID:sabre-vobject-da1411be-7e64-41bd-8809-468cd9f089f1
DTSTAMP:20260421T004642Z
SUMMARY:Rosenkranz und Beichtgelegenheit
DESCRIPTION:https://pfarreien-bistum-augsburg.df-preview.de/rosenkranz-und-
 beichtgelegenheit_id1725683
DTSTART;TZID=Europe/Berlin:20260423T182500
DURATION:PT30M
LOCATION:Mariä Heimsuchung
END:VEVENT
BEGIN:VEVENT
UID:sabre-vobject-e0712156-e9ab-4dde-b00d-2dfbc4bec957
DTSTAMP:20260421T004642Z
SUMMARY:Hl. Messe
DESCRIPTION:https://pfarreien-bistum-augsburg.df-preview.de/hl-messe_id1725
 702
DTSTART;TZID=Europe/Berlin:20260423T190000
DURATION:PT30M
LOCATION:Mariä Heimsuchung
END:VEVENT
BEGIN:VEVENT
UID:sabre-vobject-88a80f4b-003f-4fbd-b400-70266750b23e
DTSTAMP:20260421T004642Z
SUMMARY:Rosenkranz
DESCRIPTION:https://pfarreien-bistum-augsburg.df-preview.de/rosenkranz_id17
 25430
DTSTART;TZID=Europe/Berlin:20260424T183000
DURATION:PT30M
LOCATION:Mariä Heimsuchung
END:VEVENT
BEGIN:VEVENT
UID:sabre-vobject-acc21e57-23f8-432a-9f72-c89567a7d54c
DTSTAMP:20260421T004642Z
SUMMARY:15.00- 17.00 Ewige Anbetung in Echsheim
DESCRIPTION:https://pfarreien-bistum-augsburg.df-preview.de/15-00-17-00-ewi
 ge-anbetung-in-echsheim_id1727044
DTSTART;TZID=Europe/Berlin:20260428T000000
DURATION:PT30M
LOCATION:Mariä Heimsuchung
END:VEVENT
BEGIN:VEVENT
UID:sabre-vobject-0a05fead-aca6-49df-b001-a717fcce6d1a
DTSTAMP:20260421T004642Z
SUMMARY:Hl. Messe
DESCRIPTION:https://pfarreien-bistum-augsburg.df-preview.de/hl-messe_id1727
 047
DTSTART;TZID=Europe/Berlin:20260428T170000
DURATION:PT30M
LOCATION:Mariä Heimsuchung
END:VEVENT
BEGIN:VEVENT
UID:sabre-vobject-417501f9-8790-4eb3-b0b9-4be787507f1d
DTSTAMP:20260421T004642Z
SUMMARY:Rosenkranz
DESCRIPTION:https://pfarreien-bistum-augsburg.df-preview.de/rosenkranz_id17
 27048
DTSTART;TZID=Europe/Berlin:20260428T182500
DURATION:PT30M
LOCATION:Mariä Heimsuchung
END:VEVENT
BEGIN:VEVENT
UID:sabre-vobject-3f0a3d12-92b8-420d-97cc-698786768125
DTSTAMP:20260421T004642Z
SUMMARY:Rosenkranz und Beichtgelegenheit
DESCRIPTION:https://pfarreien-bistum-augsburg.df-preview.de/rosenkranz-und-
 beichtgelegenheit_id1727049
DTSTART;TZID=Europe/Berlin:20260430T182500
DURATION:PT30M
LOCATION:Mariä Heimsuchung
END:VEVENT
BEGIN:VEVENT
UID:sabre-vobject-c69e71f7-52d7-4a15-8ec7-fdd21d7e41c7
DTSTAMP:20260421T004642Z
SUMMARY:Vorabendmesse zum 1. Mai\nHl. Messe
DESCRIPTION:https://pfarreien-bistum-augsburg.df-preview.de/vorabendmesse-z
 um-1-mai-hl-messe_id1727050
DTSTART;TZID=Europe/Berlin:20260430T190000
DURATION:PT30M
LOCATION:Mariä Heimsuchung
END:VEVENT
BEGIN:VEVENT
UID:sabre-vobject-cca9d352-bb03-4821-a869-44a3e73216ec
DTSTAMP:20260421T004642Z
SUMMARY:1. feierliche Maiandacht
DESCRIPTION:https://pfarreien-bistum-augsburg.df-preview.de/1-feierliche-ma
 iandacht_id1727062
DTSTART;TZID=Europe/Berlin:20260501T180000
DURATION:PT30M
LOCATION:Mariä Heimsuchung
END:VEVENT
BEGIN:VEVENT
UID:sabre-vobject-939938b7-fe79-4d13-9b7f-c2fc14d57091
DTSTAMP:20260421T004642Z
SUMMARY:Rosenkranz
DESCRIPTION:https://pfarreien-bistum-augsburg.df-preview.de/rosenkranz_id17
 32178
DTSTART;TZID=Europe/Berlin:20260503T092500
DURATION:PT30M
LOCATION:Mariä Heimsuchung
END:VEVENT
BEGIN:VEVENT
UID:sabre-vobject-02d2462f-3483-4cb7-a310-699b3d17d9b0
DTSTAMP:20260421T004642Z
SUMMARY:Hl. Messe
DESCRIPTION:https://pfarreien-bistum-augsburg.df-preview.de/hl-messe_id1732
 184
DTSTART;TZID=Europe/Berlin:20260503T100000
DURATION:PT30M
LOCATION:Mariä Heimsuchung
END:VEVENT
BEGIN:VEVENT
UID:sabre-vobject-da1640ed-29e5-4385-ab1a-c717f50e0983
DTSTAMP:20260421T004642Z
SUMMARY:Maiandacht
DESCRIPTION:https://pfarreien-bistum-augsburg.df-preview.de/maiandacht_id17
 32187
DTSTART;TZID=Europe/Berlin:20260505T182500
DURATION:PT30M
LOCATION:Mariä Heimsuchung
END:VEVENT
BEGIN:VEVENT
UID:sabre-vobject-a740d915-9e10-4857-a1ab-9333bf7deedd
DTSTAMP:20260421T004642Z
SUMMARY:Rosenkranz
DESCRIPTION:https://pfarreien-bistum-augsburg.df-preview.de/rosenkranz_id17
 32188
DTSTART;TZID=Europe/Berlin:20260508T183000
DURATION:PT30M
LOCATION:Mariä Heimsuchung
END:VEVENT
BEGIN:VEVENT
UID:sabre-vobject-69b3f013-062d-4465-ae71-8c868b6626ab
DTSTAMP:20260421T004642Z
SUMMARY:Hl. Messe
DESCRIPTION:https://pfarreien-bistum-augsburg.df-preview.de/hl-messe_id1732
 189
DTSTART;TZID=Europe/Berlin:20260508T190000
DURATION:PT30M
LOCATION:Mariä Heimsuchung
END:VEVENT
BEGIN:VEVENT
UID:sabre-vobject-204ef021-d807-4621-ba29-89835b32b190
DTSTAMP:20260421T004642Z
SUMMARY:Taufe von Josefine Bigler
DESCRIPTION:https://pfarreien-bistum-augsburg.df-preview.de/taufe-von-josef
 ine-bigler_id1746243
DTSTART;TZID=Europe/Berlin:20260509T110000
DURATION:PT30M
LOCATION:Mariä Heimsuchung
END:VEVENT
BEGIN:VEVENT
UID:sabre-vobject-41603db0-df93-42e1-858c-5e331140f42c
DTSTAMP:20260421T004642Z
SUMMARY:Bittgang nach Immendorf  (Treffpunkt an der Kirche)
DESCRIPTION:https://pfarreien-bistum-augsburg.df-preview.de/bittgang-nach-i
 mmendorf-treffpunkt-an-der-kirche_id1746250
DTSTART;TZID=Europe/Berlin:20260511T164500
DURATION:PT30M
LOCATION:Mariä Heimsuchung
END:VEVENT
BEGIN:VEVENT
UID:sabre-vobject-d14440b1-e5f2-41fd-8288-200d490650c2
DTSTAMP:20260421T004642Z
SUMMARY:Bittgang nach  Kühnhausen an der Pfarrkirche Echsheim
DESCRIPTION:https://pfarreien-bistum-augsburg.df-preview.de/bittgang-nach-k
 uehnhausen-an-der-pfarrkirche-echsheim_id1746284
DTSTART;TZID=Europe/Berlin:20260512T181500
DURATION:PT30M
LOCATION:Mariä Heimsuchung
END:VEVENT
BEGIN:VEVENT
UID:sabre-vobject-788e1260-5371-4362-9669-0c5573b9afb3
DTSTAMP:20260421T004642Z
SUMMARY:Rosenkranz
DESCRIPTION:https://pfarreien-bistum-augsburg.df-preview.de/rosenkranz_id17
 46156
DTSTART;TZID=Europe/Berlin:20260514T075500
DURATION:PT30M
LOCATION:Mariä Heimsuchung
END:VEVENT
BEGIN:VEVENT
UID:sabre-vobject-8a1423f9-8b95-4fc5-be8c-68f385bf6b6a
DTSTAMP:20260421T004642Z
SUMMARY:Festgottesdienst\n\n
DESCRIPTION:https://pfarreien-bistum-augsburg.df-preview.de/festgottesdiens
 t_id1746158
DTSTART;TZID=Europe/Berlin:20260514T083000
DURATION:PT30M
LOCATION:Mariä Heimsuchung
END:VEVENT
BEGIN:VEVENT
UID:sabre-vobject-65cf1bf2-0c03-4625-9f61-72f8beb936d0
DTSTAMP:20260421T004642Z
SUMMARY:Rosenkranz
DESCRIPTION:https://pfarreien-bistum-augsburg.df-preview.de/rosenkranz_id17
 46285
DTSTART;TZID=Europe/Berlin:20260515T183000
DURATION:PT30M
LOCATION:Mariä Heimsuchung
END:VEVENT
END:VCALENDAR
