BEGIN:VCALENDAR
VERSION:2.0
PRODID:-//Sabre//Sabre VObject 4.5.8//EN
CALSCALE:GREGORIAN
NAME:Bistum Augsburg
X-WR-CALNAME:Bistum Augsburg
BEGIN:VEVENT
UID:sabre-vobject-e7025fe0-43dc-4336-9590-677b77acea2f
DTSTAMP:20260421T010154Z
SUMMARY:Rosenkranz
DESCRIPTION:https://pfarreien-bistum-augsburg.df-preview.de/rosenkranz_id17
 31145
DTSTART;TZID=Europe/Berlin:20260421T180000
DURATION:PT30M
LOCATION:St. Stephan
END:VEVENT
BEGIN:VEVENT
UID:sabre-vobject-6e882948-17e3-401e-be1e-9fd3b8588fb4
DTSTAMP:20260421T010154Z
SUMMARY:Hl. Messe
DESCRIPTION:https://pfarreien-bistum-augsburg.df-preview.de/hl-messe_id1731
 146
DTSTART;TZID=Europe/Berlin:20260422T080000
DURATION:PT30M
LOCATION:St. Stephan
END:VEVENT
BEGIN:VEVENT
UID:sabre-vobject-3f84aa5d-090c-4af6-8de1-484095d7937e
DTSTAMP:20260421T010154Z
SUMMARY:Rosenkranz
DESCRIPTION:https://pfarreien-bistum-augsburg.df-preview.de/rosenkranz_id17
 31147
DTSTART;TZID=Europe/Berlin:20260422T180000
DURATION:PT30M
LOCATION:St. Stephan
END:VEVENT
BEGIN:VEVENT
UID:sabre-vobject-545863de-7895-406a-a496-9cfd2ced2648
DTSTAMP:20260421T010154Z
SUMMARY:Rosenkranz
DESCRIPTION:https://pfarreien-bistum-augsburg.df-preview.de/rosenkranz_id17
 31148
DTSTART;TZID=Europe/Berlin:20260423T180000
DURATION:PT30M
LOCATION:St. Stephan
END:VEVENT
BEGIN:VEVENT
UID:sabre-vobject-ef00d5d5-4f0f-4306-875c-b420a73dc315
DTSTAMP:20260421T010154Z
SUMMARY:Rosenkranz
DESCRIPTION:https://pfarreien-bistum-augsburg.df-preview.de/rosenkranz_id17
 31149
DTSTART;TZID=Europe/Berlin:20260424T180000
DURATION:PT30M
LOCATION:St. Stephan
END:VEVENT
BEGIN:VEVENT
UID:sabre-vobject-1113fd9a-b469-44d4-a98f-c18779bb8b6f
DTSTAMP:20260421T010154Z
SUMMARY:Trauung
DESCRIPTION:https://pfarreien-bistum-augsburg.df-preview.de/trauung_id17311
 50
DTSTART;TZID=Europe/Berlin:20260425T130000
DURATION:PT30M
LOCATION:St. Stephan
END:VEVENT
BEGIN:VEVENT
UID:sabre-vobject-73c2bc5c-e44e-47aa-8054-a6eeea7faaa0
DTSTAMP:20260421T010154Z
SUMMARY:Taufe
DESCRIPTION:https://pfarreien-bistum-augsburg.df-preview.de/taufe_id1731151
DTSTART;TZID=Europe/Berlin:20260425T150000
DURATION:PT30M
LOCATION:St. Stephan
END:VEVENT
BEGIN:VEVENT
UID:sabre-vobject-9c267498-e2d4-44d8-8b8a-4bc23b4bb4f1
DTSTAMP:20260421T010154Z
SUMMARY:Rosenkranz
DESCRIPTION:https://pfarreien-bistum-augsburg.df-preview.de/rosenkranz_id17
 31152
DTSTART;TZID=Europe/Berlin:20260426T075500
DURATION:PT30M
LOCATION:St. Stephan
END:VEVENT
BEGIN:VEVENT
UID:sabre-vobject-872739a2-c87a-422f-aff7-cddc85a7ec93
DTSTAMP:20260421T010154Z
SUMMARY:Hl. Messe
DESCRIPTION:https://pfarreien-bistum-augsburg.df-preview.de/hl-messe_id1731
 153
DTSTART;TZID=Europe/Berlin:20260426T083000
DURATION:PT30M
LOCATION:St. Stephan
END:VEVENT
BEGIN:VEVENT
UID:sabre-vobject-79d30ce7-fd65-4610-9f0d-bdde33158aa7
DTSTAMP:20260421T010154Z
SUMMARY:Rosenkranz
DESCRIPTION:https://pfarreien-bistum-augsburg.df-preview.de/rosenkranz_id17
 31154
DTSTART;TZID=Europe/Berlin:20260427T180000
DURATION:PT30M
LOCATION:St. Stephan
END:VEVENT
BEGIN:VEVENT
UID:sabre-vobject-ffe26fac-b187-4d89-8bb7-8d674a6d69cf
DTSTAMP:20260421T010154Z
SUMMARY:Rosenkranz
DESCRIPTION:https://pfarreien-bistum-augsburg.df-preview.de/rosenkranz_id17
 31164
DTSTART;TZID=Europe/Berlin:20260428T180000
DURATION:PT30M
LOCATION:St. Stephan
END:VEVENT
BEGIN:VEVENT
UID:sabre-vobject-ebd016a0-1d58-48c6-a21f-7437fe0ada9e
DTSTAMP:20260421T010154Z
SUMMARY:Hl. Messe
DESCRIPTION:https://pfarreien-bistum-augsburg.df-preview.de/hl-messe_id1731
 165
DTSTART;TZID=Europe/Berlin:20260429T080000
DURATION:PT30M
LOCATION:St. Stephan
END:VEVENT
BEGIN:VEVENT
UID:sabre-vobject-4cdfaa16-833f-4dfb-981d-b22e45ab58a3
DTSTAMP:20260421T010154Z
SUMMARY:Rosenkranz
DESCRIPTION:https://pfarreien-bistum-augsburg.df-preview.de/rosenkranz_id17
 31166
DTSTART;TZID=Europe/Berlin:20260429T180000
DURATION:PT30M
LOCATION:St. Stephan
END:VEVENT
BEGIN:VEVENT
UID:sabre-vobject-543655ef-b274-46f5-ac4c-e8ead37da152
DTSTAMP:20260421T010154Z
SUMMARY:Rosenkranz
DESCRIPTION:https://pfarreien-bistum-augsburg.df-preview.de/rosenkranz_id17
 31167
DTSTART;TZID=Europe/Berlin:20260430T180000
DURATION:PT30M
LOCATION:St. Stephan
END:VEVENT
BEGIN:VEVENT
UID:sabre-vobject-c3ab0521-d9cc-4e9b-a31e-aed809355b41
DTSTAMP:20260421T010154Z
SUMMARY:Taufe Clemens Nigg
DESCRIPTION:https://pfarreien-bistum-augsburg.df-preview.de/taufe-clemens-n
 igg_id1731168
DTSTART;TZID=Europe/Berlin:20260501T110000
DURATION:PT30M
LOCATION:St. Stephan
END:VEVENT
BEGIN:VEVENT
UID:sabre-vobject-53a5839d-cd76-417d-a1a8-189a03cb4a8e
DTSTAMP:20260421T010154Z
SUMMARY:Maiandacht - gestaltet von Herrn Pfarrer Balogh und "Gonz Gleagele"
DESCRIPTION:https://pfarreien-bistum-augsburg.df-preview.de/maiandacht-gest
 altet-von-herrn-pfarrer-balogh-und-gonz-gleagele_id1731169
DTSTART;TZID=Europe/Berlin:20260501T193000
DURATION:PT30M
LOCATION:St. Stephan
END:VEVENT
BEGIN:VEVENT
UID:sabre-vobject-4ddb419a-28bd-4757-905d-1eae8b3ee85e
DTSTAMP:20260421T010154Z
SUMMARY:Taufe
DESCRIPTION:https://pfarreien-bistum-augsburg.df-preview.de/taufe_id1731170
DTSTART;TZID=Europe/Berlin:20260502T140000
DURATION:PT30M
LOCATION:St. Stephan
END:VEVENT
BEGIN:VEVENT
UID:sabre-vobject-2d1ec128-0e8a-4953-9d2f-6a4f47a32801
DTSTAMP:20260421T010154Z
SUMMARY:Rosenkranz
DESCRIPTION:https://pfarreien-bistum-augsburg.df-preview.de/rosenkranz_id17
 31171
DTSTART;TZID=Europe/Berlin:20260504T180000
DURATION:PT30M
LOCATION:St. Stephan
END:VEVENT
BEGIN:VEVENT
UID:sabre-vobject-90707d6e-bf1b-4bab-8da4-769dccb191e2
DTSTAMP:20260421T010154Z
SUMMARY:Rosenkranz
DESCRIPTION:https://pfarreien-bistum-augsburg.df-preview.de/rosenkranz_id17
 31172
DTSTART;TZID=Europe/Berlin:20260505T180000
DURATION:PT30M
LOCATION:St. Stephan
END:VEVENT
BEGIN:VEVENT
UID:sabre-vobject-18fc4c0a-6be6-49f9-951a-84abedc23c51
DTSTAMP:20260421T010154Z
SUMMARY:Hl. Messe
DESCRIPTION:https://pfarreien-bistum-augsburg.df-preview.de/hl-messe_id1731
 173
DTSTART;TZID=Europe/Berlin:20260506T080000
DURATION:PT30M
LOCATION:St. Stephan
END:VEVENT
BEGIN:VEVENT
UID:sabre-vobject-f7af0081-ff50-471f-a6c2-52890d87f348
DTSTAMP:20260421T010154Z
SUMMARY:Rosenkranz
DESCRIPTION:https://pfarreien-bistum-augsburg.df-preview.de/rosenkranz_id17
 31228
DTSTART;TZID=Europe/Berlin:20260506T180000
DURATION:PT30M
LOCATION:St. Stephan
END:VEVENT
BEGIN:VEVENT
UID:sabre-vobject-73f333dc-2952-42b9-b994-920d654f41a1
DTSTAMP:20260421T010154Z
SUMMARY:Rosenkranz
DESCRIPTION:https://pfarreien-bistum-augsburg.df-preview.de/rosenkranz_id17
 31229
DTSTART;TZID=Europe/Berlin:20260507T180000
DURATION:PT30M
LOCATION:St. Stephan
END:VEVENT
BEGIN:VEVENT
UID:sabre-vobject-ede184be-b095-4e46-90b9-ccc67f6fca9e
DTSTAMP:20260421T010154Z
SUMMARY:Hl. Messe
DESCRIPTION:https://pfarreien-bistum-augsburg.df-preview.de/hl-messe_id1731
 241
DTSTART;TZID=Europe/Berlin:20260507T190000
DURATION:PT30M
LOCATION:St. Stephan
END:VEVENT
BEGIN:VEVENT
UID:sabre-vobject-ede9f6c0-9004-4571-9245-3884b5ed942f
DTSTAMP:20260421T010154Z
SUMMARY:Rosenkranz
DESCRIPTION:https://pfarreien-bistum-augsburg.df-preview.de/rosenkranz_id17
 31242
DTSTART;TZID=Europe/Berlin:20260508T180000
DURATION:PT30M
LOCATION:St. Stephan
END:VEVENT
BEGIN:VEVENT
UID:sabre-vobject-11b70108-d163-44a1-905e-283bc97a02b7
DTSTAMP:20260421T010154Z
SUMMARY:Firmtreffen (bis 20.00 Uhr)
DESCRIPTION:https://pfarreien-bistum-augsburg.df-preview.de/firmtreffen-bis
 -20-00-uhr_id1731243
DTSTART;TZID=Europe/Berlin:20260508T180000
DURATION:PT30M
LOCATION:St. Stephan
END:VEVENT
BEGIN:VEVENT
UID:sabre-vobject-241699be-b7d8-49bd-ad4f-7c6fb78be986
DTSTAMP:20260421T010154Z
SUMMARY:Rosenkranz
DESCRIPTION:https://pfarreien-bistum-augsburg.df-preview.de/rosenkranz_id17
 31244
DTSTART;TZID=Europe/Berlin:20260509T182500
DURATION:PT30M
LOCATION:St. Stephan
END:VEVENT
BEGIN:VEVENT
UID:sabre-vobject-97e53a2f-28f7-4d2c-b41c-991af46ea719
DTSTAMP:20260421T010154Z
SUMMARY:Hl. Messe -  gestaltet von der Jodlergruppe Rettenberg
DESCRIPTION:https://pfarreien-bistum-augsburg.df-preview.de/hl-messe-gestal
 tet-von-der-jodlergruppe-rettenberg_id1731245
DTSTART;TZID=Europe/Berlin:20260509T190000
DURATION:PT30M
LOCATION:St. Stephan
END:VEVENT
BEGIN:VEVENT
UID:sabre-vobject-7101bebc-18f3-462a-8dba-7305ff1bc43e
DTSTAMP:20260421T010154Z
SUMMARY:Bittrosenkranz in der Pfarrkirche
DESCRIPTION:https://pfarreien-bistum-augsburg.df-preview.de/bittrosenkranz-
 in-der-pfarrkirche_id1730963
DTSTART;TZID=Europe/Berlin:20260511T180000
DURATION:PT30M
LOCATION:St. Stephan
END:VEVENT
BEGIN:VEVENT
UID:sabre-vobject-404d731b-87cc-4ad1-b5b8-8fc403873b2a
DTSTAMP:20260421T010154Z
SUMMARY:Besondere Begegnung mit Jesus zur Osterzeit mit Fest der Versöhnun
 g
DESCRIPTION:https://pfarreien-bistum-augsburg.df-preview.de/besondere-begeg
 nung-mit-jesus-zur-osterzeit-mit-fest-der-versoehnung_id1730964
DTSTART;TZID=Europe/Berlin:20260512T153000
DURATION:PT30M
LOCATION:St. Stephan
END:VEVENT
BEGIN:VEVENT
UID:sabre-vobject-e1711bc0-9beb-44ba-a785-d40ee6ad54fa
DTSTAMP:20260421T010154Z
SUMMARY:Rosenkranz
DESCRIPTION:https://pfarreien-bistum-augsburg.df-preview.de/rosenkranz_id17
 30965
DTSTART;TZID=Europe/Berlin:20260512T180000
DURATION:PT30M
LOCATION:St. Stephan
END:VEVENT
BEGIN:VEVENT
UID:sabre-vobject-7c1ba1ef-2809-4cc7-9bce-075b9b4b15c8
DTSTAMP:20260421T010154Z
SUMMARY:Bittgang nach Wagneritz
DESCRIPTION:https://pfarreien-bistum-augsburg.df-preview.de/bittgang-nach-w
 agneritz_id1730966
DTSTART;TZID=Europe/Berlin:20260512T193000
DURATION:PT30M
LOCATION:St. Stephan
END:VEVENT
BEGIN:VEVENT
UID:sabre-vobject-87dd6b36-69a6-4d2b-af28-04fd0601fb43
DTSTAMP:20260421T010154Z
SUMMARY:Hl. Messe in der Kapelle Wagneritz
DESCRIPTION:https://pfarreien-bistum-augsburg.df-preview.de/hl-messe-in-der
 -kapelle-wagneritz_id1730967
DTSTART;TZID=Europe/Berlin:20260512T200000
DURATION:PT30M
LOCATION:St. Stephan
END:VEVENT
BEGIN:VEVENT
UID:sabre-vobject-b11671ee-6d62-4f39-93d2-53ff6ea0e96a
DTSTAMP:20260421T010154Z
SUMMARY:Rosenkranz
DESCRIPTION:https://pfarreien-bistum-augsburg.df-preview.de/rosenkranz_id17
 30968
DTSTART;TZID=Europe/Berlin:20260513T180000
DURATION:PT30M
LOCATION:St. Stephan
END:VEVENT
BEGIN:VEVENT
UID:sabre-vobject-9302ff68-ed2c-4ce5-a965-372097644d50
DTSTAMP:20260421T010154Z
SUMMARY:Kirchenzug der Erstkommunionkinder
DESCRIPTION:https://pfarreien-bistum-augsburg.df-preview.de/kirchenzug-der-
 erstkommunionkinder_id1730969
DTSTART;TZID=Europe/Berlin:20260514T100000
DURATION:PT30M
LOCATION:St. Stephan
END:VEVENT
BEGIN:VEVENT
UID:sabre-vobject-0be9b35b-7719-4dba-b6b1-45be5789fd9b
DTSTAMP:20260421T010154Z
SUMMARY:Lobpreis zur Einstimmung
DESCRIPTION:https://pfarreien-bistum-augsburg.df-preview.de/lobpreis-zur-ei
 nstimmung_id1730970
DTSTART;TZID=Europe/Berlin:20260514T101500
DURATION:PT30M
LOCATION:St. Stephan
END:VEVENT
BEGIN:VEVENT
UID:sabre-vobject-82e66152-a720-4d50-b330-55c21adff8fd
DTSTAMP:20260421T010154Z
SUMMARY:Hl. Messe - Feier der Erstkommunion\n
DESCRIPTION:https://pfarreien-bistum-augsburg.df-preview.de/hl-messe-feier-
 der-erstkommunion_id1730972
DTSTART;TZID=Europe/Berlin:20260514T103000
DURATION:PT30M
LOCATION:St. Stephan
END:VEVENT
BEGIN:VEVENT
UID:sabre-vobject-2a4f9b4e-600a-4166-8b86-22b88a03a064
DTSTAMP:20260421T010154Z
SUMMARY:Dankandacht der Erstkommunionkinder
DESCRIPTION:https://pfarreien-bistum-augsburg.df-preview.de/dankandacht-der
 -erstkommunionkinder_id1730973
DTSTART;TZID=Europe/Berlin:20260514T180000
DURATION:PT30M
LOCATION:St. Stephan
END:VEVENT
BEGIN:VEVENT
UID:sabre-vobject-7b1f3798-8a61-4bee-93fd-4814b451f7f2
DTSTAMP:20260421T010154Z
SUMMARY:Rosenkranz
DESCRIPTION:https://pfarreien-bistum-augsburg.df-preview.de/rosenkranz_id17
 30971
DTSTART;TZID=Europe/Berlin:20260515T180000
DURATION:PT30M
LOCATION:St. Stephan
END:VEVENT
BEGIN:VEVENT
UID:sabre-vobject-ffef80e1-a490-4638-914c-fc9b55f9a635
DTSTAMP:20260421T010154Z
SUMMARY:Rosenkranz
DESCRIPTION:https://pfarreien-bistum-augsburg.df-preview.de/rosenkranz_id17
 30975
DTSTART;TZID=Europe/Berlin:20260517T095500
DURATION:PT30M
LOCATION:St. Stephan
END:VEVENT
BEGIN:VEVENT
UID:sabre-vobject-3bbbcf79-b46d-4195-933f-c018d416f860
DTSTAMP:20260421T010154Z
SUMMARY:Hl. Messe\, mitgestaltet von den Firmbewerbern
DESCRIPTION:https://pfarreien-bistum-augsburg.df-preview.de/hl-messe-mitges
 taltet-von-den-firmbewerbern_id1730976
DTSTART;TZID=Europe/Berlin:20260517T103000
DURATION:PT30M
LOCATION:St. Stephan
END:VEVENT
BEGIN:VEVENT
UID:sabre-vobject-dde08c81-42bf-4966-8025-5ec671362a5d
DTSTAMP:20260421T010154Z
SUMMARY:Maiandacht\, gest. von den Erstkommunionkindern
DESCRIPTION:https://pfarreien-bistum-augsburg.df-preview.de/maiandacht-gest
 -von-den-erstkommunionkindern_id1730977
DTSTART;TZID=Europe/Berlin:20260517T193000
DURATION:PT30M
LOCATION:St. Stephan
END:VEVENT
END:VCALENDAR
