BEGIN:VCALENDAR
VERSION:2.0
PRODID:-//Sabre//Sabre VObject 4.5.8//EN
CALSCALE:GREGORIAN
NAME:Bistum Augsburg
X-WR-CALNAME:Bistum Augsburg
BEGIN:VEVENT
UID:sabre-vobject-cc62996f-3873-43cc-a907-15fd4c81dca0
DTSTAMP:20260422T024243Z
SUMMARY:Rosenkranz an der Mehrzweckhalle
DESCRIPTION:https://pfarreien-bistum-augsburg.df-preview.de/rosenkranz-an-d
 er-mehrzweckhalle_id1737632
DTSTART;TZID=Europe/Berlin:20260422T180000
DURATION:PT30M
LOCATION:St. Stephan\, Kirchberg 4\, 87647 Oberthingau
END:VEVENT
BEGIN:VEVENT
UID:sabre-vobject-684b929a-e9be-46f4-8b43-e433c97efb65
DTSTAMP:20260422T024243Z
SUMMARY:Eucharistiefeier
DESCRIPTION:https://pfarreien-bistum-augsburg.df-preview.de/eucharistiefeie
 r_id1737633
DTSTART;TZID=Europe/Berlin:20260422T191500
DURATION:PT30M
LOCATION:St. Stephan\, Kirchberg 4\, 87647 Oberthingau
END:VEVENT
BEGIN:VEVENT
UID:sabre-vobject-ffad0e08-d652-4ca5-88f1-5d8972021604
DTSTAMP:20260422T024243Z
SUMMARY:Rosenkranz
DESCRIPTION:https://pfarreien-bistum-augsburg.df-preview.de/rosenkranz_id17
 37634
DTSTART;TZID=Europe/Berlin:20260423T191500
DURATION:PT30M
LOCATION:St. Stephan\, Kirchberg 4\, 87647 Oberthingau
END:VEVENT
BEGIN:VEVENT
UID:sabre-vobject-2162bd59-ab6a-4e3d-b63d-bc5b44049132
DTSTAMP:20260422T024243Z
SUMMARY:Weggottesdienst für Firmlinge
DESCRIPTION:https://pfarreien-bistum-augsburg.df-preview.de/weggottesdienst
 -fuer-firmlinge_id1739243
DTSTART;TZID=Europe/Berlin:20260424T170000
DURATION:PT30M
LOCATION:St. Stephan\, Kirchberg 4\, 87647 Oberthingau
END:VEVENT
BEGIN:VEVENT
UID:sabre-vobject-899984dd-16ec-4f36-be3a-34d1aab14435
DTSTAMP:20260422T024243Z
SUMMARY:Eucharistiefeier
DESCRIPTION:https://pfarreien-bistum-augsburg.df-preview.de/eucharistiefeie
 r_id1747084
DTSTART;TZID=Europe/Berlin:20260426T103000
DURATION:PT30M
LOCATION:St. Stephan\, Kirchberg 4\, 87647 Oberthingau
END:VEVENT
BEGIN:VEVENT
UID:sabre-vobject-ab683dc3-8c62-40e8-8678-d99e7e54b228
DTSTAMP:20260422T024243Z
SUMMARY:Taufe von Theo Hofbauer
DESCRIPTION:https://pfarreien-bistum-augsburg.df-preview.de/taufe-von-theo-
 hofbauer_id1747074
DTSTART;TZID=Europe/Berlin:20260426T113000
DURATION:PT30M
LOCATION:St. Stephan\, Kirchberg 4\, 87647 Oberthingau
END:VEVENT
BEGIN:VEVENT
UID:sabre-vobject-37eb68b5-474a-4289-86d8-e21cdf512ce6
DTSTAMP:20260422T024243Z
SUMMARY:Eucharistiefeier mit anschliessender Eucharistische Anbetung i.d. G
 nadenkapelle bis 12 Uhr
DESCRIPTION:https://pfarreien-bistum-augsburg.df-preview.de/eucharistiefeie
 r-mit-anschliessender-eucharistische-anbetung-i-d-gnadenkapelle-bis-12-uhr
 _id1687108
DTSTART;TZID=Europe/Berlin:20260428T083000
DURATION:PT30M
LOCATION:St. Stephan\, Kirchberg 4\, 87647 Oberthingau
END:VEVENT
BEGIN:VEVENT
UID:sabre-vobject-7d40a099-092d-475f-9e4c-22adcf5263ff
DTSTAMP:20260422T024243Z
SUMMARY:Eucharistiefeier mit anschliessender Eucharistische Anbetung i.d. G
 nadenkapelle bis 12 Uhr
DESCRIPTION:https://pfarreien-bistum-augsburg.df-preview.de/eucharistiefeie
 r-mit-anschliessender-eucharistische-anbetung-i-d-gnadenkapelle-bis-12-uhr
 _id1747094
DTSTART;TZID=Europe/Berlin:20260428T083000
DURATION:PT30M
LOCATION:St. Stephan\, Kirchberg 4\, 87647 Oberthingau
END:VEVENT
BEGIN:VEVENT
UID:sabre-vobject-3d9d27e5-d88e-454a-a534-cb74997fa955
DTSTAMP:20260422T024243Z
SUMMARY:Rosenkranz an der Mehrzweckhalle
DESCRIPTION:https://pfarreien-bistum-augsburg.df-preview.de/rosenkranz-an-d
 er-mehrzweckhalle_id1687109
DTSTART;TZID=Europe/Berlin:20260429T180000
DURATION:PT30M
LOCATION:St. Stephan\, Kirchberg 4\, 87647 Oberthingau
END:VEVENT
BEGIN:VEVENT
UID:sabre-vobject-eb9462e8-fdd4-4200-bf12-5c26bf6b2043
DTSTAMP:20260422T024243Z
SUMMARY:Rosenkranz an der Mehrzweckhalle
DESCRIPTION:https://pfarreien-bistum-augsburg.df-preview.de/rosenkranz-an-d
 er-mehrzweckhalle_id1747095
DTSTART;TZID=Europe/Berlin:20260429T180000
DURATION:PT30M
LOCATION:St. Stephan\, Kirchberg 4\, 87647 Oberthingau
END:VEVENT
BEGIN:VEVENT
UID:sabre-vobject-d9fefcf8-f183-46b7-acae-7760f348fd32
DTSTAMP:20260422T024243Z
SUMMARY:Rosenkranz
DESCRIPTION:https://pfarreien-bistum-augsburg.df-preview.de/rosenkranz_id16
 87110
DTSTART;TZID=Europe/Berlin:20260430T191500
DURATION:PT30M
LOCATION:St. Stephan\, Kirchberg 4\, 87647 Oberthingau
END:VEVENT
BEGIN:VEVENT
UID:sabre-vobject-872efa70-f5bc-46eb-80a4-cdbf91b6cbf7
DTSTAMP:20260422T024243Z
SUMMARY:Rosenkranz
DESCRIPTION:https://pfarreien-bistum-augsburg.df-preview.de/rosenkranz_id17
 47096
DTSTART;TZID=Europe/Berlin:20260430T191500
DURATION:PT30M
LOCATION:St. Stephan\, Kirchberg 4\, 87647 Oberthingau
END:VEVENT
BEGIN:VEVENT
UID:sabre-vobject-845f5ece-dd66-43fd-ab5f-70368dd73f1d
DTSTAMP:20260422T024243Z
SUMMARY:Eucharistiefeier - Patrozinium
DESCRIPTION:https://pfarreien-bistum-augsburg.df-preview.de/eucharistiefeie
 r-patrozinium_id1748437
DTSTART;TZID=Europe/Berlin:20260501T103000
DURATION:PT30M
LOCATION:St. Stephan\, Kirchberg 4\, 87647 Oberthingau
END:VEVENT
BEGIN:VEVENT
UID:sabre-vobject-179aea1f-c019-439c-aa12-e8fd6cd2498c
DTSTAMP:20260422T024243Z
SUMMARY:Maiandacht
DESCRIPTION:https://pfarreien-bistum-augsburg.df-preview.de/maiandacht_id17
 48438
DTSTART;TZID=Europe/Berlin:20260501T191500
DURATION:PT30M
LOCATION:St. Stephan\, Kirchberg 4\, 87647 Oberthingau
END:VEVENT
BEGIN:VEVENT
UID:sabre-vobject-10c6b5ff-2b56-47af-8298-6d11406f93dd
DTSTAMP:20260422T024243Z
SUMMARY:Erstkommunion - musikalische Umrahmung durch Kinder und den Chor
DESCRIPTION:https://pfarreien-bistum-augsburg.df-preview.de/erstkommunion-m
 usikalische-umrahmung-durch-kinder-und-den-chor_id1748462
DTSTART;TZID=Europe/Berlin:20260503T100000
DURATION:PT30M
LOCATION:St. Stephan\, Kirchberg 4\, 87647 Oberthingau
END:VEVENT
BEGIN:VEVENT
UID:sabre-vobject-ca03a8d9-5a7a-42ad-83f8-cd72437d3adb
DTSTAMP:20260422T024243Z
SUMMARY:Maiandacht
DESCRIPTION:https://pfarreien-bistum-augsburg.df-preview.de/maiandacht_id17
 48439
DTSTART;TZID=Europe/Berlin:20260503T191500
DURATION:PT30M
LOCATION:St. Stephan\, Kirchberg 4\, 87647 Oberthingau
END:VEVENT
BEGIN:VEVENT
UID:sabre-vobject-a44f9327-914d-4849-84fe-4b22338d398c
DTSTAMP:20260422T024243Z
SUMMARY:Eucharistische Anbetung i.d. Gnadenkapelle bis 12 Uhr
DESCRIPTION:https://pfarreien-bistum-augsburg.df-preview.de/eucharistische-
 anbetung-i-d-gnadenkapelle-bis-12-uhr_id1748267
DTSTART;TZID=Europe/Berlin:20260505T083000
DURATION:PT30M
LOCATION:St. Stephan\, Kirchberg 4\, 87647 Oberthingau
END:VEVENT
BEGIN:VEVENT
UID:sabre-vobject-66b297ce-f4f3-429a-8c7f-e918daa55e7c
DTSTAMP:20260422T024243Z
SUMMARY:Rosenkranz an der Mehrzweckhalle
DESCRIPTION:https://pfarreien-bistum-augsburg.df-preview.de/rosenkranz-an-d
 er-mehrzweckhalle_id1748268
DTSTART;TZID=Europe/Berlin:20260506T180000
DURATION:PT30M
LOCATION:St. Stephan\, Kirchberg 4\, 87647 Oberthingau
END:VEVENT
BEGIN:VEVENT
UID:sabre-vobject-658ea622-f317-4077-94eb-72e0034e0699
DTSTAMP:20260422T024243Z
SUMMARY:Rosenkranz
DESCRIPTION:https://pfarreien-bistum-augsburg.df-preview.de/rosenkranz_id17
 48269
DTSTART;TZID=Europe/Berlin:20260507T191500
DURATION:PT30M
LOCATION:St. Stephan\, Kirchberg 4\, 87647 Oberthingau
END:VEVENT
BEGIN:VEVENT
UID:sabre-vobject-c10c9322-f497-4d3e-9fbc-b56362f1e5eb
DTSTAMP:20260422T024243Z
SUMMARY:Vorabendmesse
DESCRIPTION:https://pfarreien-bistum-augsburg.df-preview.de/vorabendmesse_i
 d1748270
DTSTART;TZID=Europe/Berlin:20260509T193000
DURATION:PT30M
LOCATION:St. Stephan\, Kirchberg 4\, 87647 Oberthingau
END:VEVENT
BEGIN:VEVENT
UID:sabre-vobject-e64d86f1-a1c5-4de6-ae37-4613b91adb8f
DTSTAMP:20260422T024243Z
SUMMARY:Maiandacht
DESCRIPTION:https://pfarreien-bistum-augsburg.df-preview.de/maiandacht_id17
 48271
DTSTART;TZID=Europe/Berlin:20260510T191500
DURATION:PT30M
LOCATION:St. Stephan\, Kirchberg 4\, 87647 Oberthingau
END:VEVENT
BEGIN:VEVENT
UID:sabre-vobject-88f0f36d-0fba-4814-aa5f-5fb0fa9de20a
DTSTAMP:20260422T024243Z
SUMMARY:Maiandacht - musikalische Mitgestaltung durch den Chor
DESCRIPTION:https://pfarreien-bistum-augsburg.df-preview.de/maiandacht-musi
 kalische-mitgestaltung-durch-den-chor_id1748212
DTSTART;TZID=Europe/Berlin:20260510T193000
DURATION:PT30M
LOCATION:St. Stephan\, Kirchberg 4\, 87647 Oberthingau
END:VEVENT
BEGIN:VEVENT
UID:sabre-vobject-d9d9e86c-c2ac-4278-9319-dfbb3d32c2b9
DTSTAMP:20260422T024243Z
SUMMARY:Eucharistiefeier mit anschliessender Eucharistische Anbetung i.d. G
 nadenkapelle bis 12 Uhr
DESCRIPTION:https://pfarreien-bistum-augsburg.df-preview.de/eucharistiefeie
 r-mit-anschliessender-eucharistische-anbetung-i-d-gnadenkapelle-bis-12-uhr
 _id1748215
DTSTART;TZID=Europe/Berlin:20260512T083000
DURATION:PT30M
LOCATION:St. Stephan\, Kirchberg 4\, 87647 Oberthingau
END:VEVENT
BEGIN:VEVENT
UID:sabre-vobject-dfacdf85-e546-4be2-ba2a-126ee56ad433
DTSTAMP:20260422T024243Z
SUMMARY:Senioren - Mittagstisch ( Anmeldung im Gasthaus Alpenrose Oberthing
 au Tel. 277)
DESCRIPTION:https://pfarreien-bistum-augsburg.df-preview.de/senioren-mittag
 stisch-anmeldung-im-gasthaus-alpenrose-oberthingau-tel-277_id1748216
DTSTART;TZID=Europe/Berlin:20260513T113000
DURATION:PT30M
LOCATION:St. Stephan\, Kirchberg 4\, 87647 Oberthingau
END:VEVENT
BEGIN:VEVENT
UID:sabre-vobject-d5be8f55-99af-4c40-adeb-d581b2812e6c
DTSTAMP:20260422T024243Z
SUMMARY:Rosenkranz an der Mehrzweckhalle
DESCRIPTION:https://pfarreien-bistum-augsburg.df-preview.de/rosenkranz-an-d
 er-mehrzweckhalle_id1748217
DTSTART;TZID=Europe/Berlin:20260513T180000
DURATION:PT30M
LOCATION:St. Stephan\, Kirchberg 4\, 87647 Oberthingau
END:VEVENT
BEGIN:VEVENT
UID:sabre-vobject-f40a00af-7c4d-4c05-97cd-9456b66fe877
DTSTAMP:20260422T024243Z
SUMMARY:Fatima Rosenkranz
DESCRIPTION:https://pfarreien-bistum-augsburg.df-preview.de/fatima-rosenkra
 nz_id1748228
DTSTART;TZID=Europe/Berlin:20260513T191500
DURATION:PT30M
LOCATION:St. Stephan\, Kirchberg 4\, 87647 Oberthingau
END:VEVENT
BEGIN:VEVENT
UID:sabre-vobject-9c9966a7-26f1-404f-9725-9ce075f1d335
DTSTAMP:20260422T024243Z
SUMMARY:Eucharistiefeier
DESCRIPTION:https://pfarreien-bistum-augsburg.df-preview.de/eucharistiefeie
 r_id1748229
DTSTART;TZID=Europe/Berlin:20260514T103000
DURATION:PT30M
LOCATION:St. Stephan\, Kirchberg 4\, 87647 Oberthingau
END:VEVENT
BEGIN:VEVENT
UID:sabre-vobject-8db02330-20df-4b0c-b5b8-c35c6149b022
DTSTAMP:20260422T024243Z
SUMMARY:Rosenkranz
DESCRIPTION:https://pfarreien-bistum-augsburg.df-preview.de/rosenkranz_id17
 48251
DTSTART;TZID=Europe/Berlin:20260514T191500
DURATION:PT30M
LOCATION:St. Stephan\, Kirchberg 4\, 87647 Oberthingau
END:VEVENT
BEGIN:VEVENT
UID:sabre-vobject-bb4f1877-1ea0-44a4-99f6-72a5a41d735a
DTSTAMP:20260422T024243Z
SUMMARY:Maiandacht
DESCRIPTION:https://pfarreien-bistum-augsburg.df-preview.de/maiandacht_id17
 48252
DTSTART;TZID=Europe/Berlin:20260514T191500
DURATION:PT30M
LOCATION:St. Stephan\, Kirchberg 4\, 87647 Oberthingau
END:VEVENT
BEGIN:VEVENT
UID:sabre-vobject-0178127e-27f9-4645-ab40-a07efac86164
DTSTAMP:20260422T024243Z
SUMMARY:Eucharistiefeier
DESCRIPTION:https://pfarreien-bistum-augsburg.df-preview.de/eucharistiefeie
 r_id1748253
DTSTART;TZID=Europe/Berlin:20260517T090000
DURATION:PT30M
LOCATION:St. Stephan\, Kirchberg 4\, 87647 Oberthingau
END:VEVENT
BEGIN:VEVENT
UID:sabre-vobject-99504408-2b5d-4a77-b2e8-cf61657bc897
DTSTAMP:20260422T024243Z
SUMMARY:Männerchor
DESCRIPTION:https://pfarreien-bistum-augsburg.df-preview.de/maennerchor_id1
 748254
DTSTART;TZID=Europe/Berlin:20260517T170000
DURATION:PT30M
LOCATION:St. Stephan\, Kirchberg 4\, 87647 Oberthingau
END:VEVENT
BEGIN:VEVENT
UID:sabre-vobject-2b581858-366c-47a4-a5a9-7dc39a7ad75d
DTSTAMP:20260422T024243Z
SUMMARY:Maiandacht
DESCRIPTION:https://pfarreien-bistum-augsburg.df-preview.de/maiandacht_id17
 48256
DTSTART;TZID=Europe/Berlin:20260517T191500
DURATION:PT30M
LOCATION:St. Stephan\, Kirchberg 4\, 87647 Oberthingau
END:VEVENT
BEGIN:VEVENT
UID:sabre-vobject-068be783-2697-4220-be73-59d2e33b2b4e
DTSTAMP:20260422T024243Z
SUMMARY:Eucharistische Anbetung i.d. Gnadenkapelle bis 12 Uhr
DESCRIPTION:https://pfarreien-bistum-augsburg.df-preview.de/eucharistische-
 anbetung-i-d-gnadenkapelle-bis-12-uhr_id1748257
DTSTART;TZID=Europe/Berlin:20260519T083000
DURATION:PT30M
LOCATION:St. Stephan\, Kirchberg 4\, 87647 Oberthingau
END:VEVENT
BEGIN:VEVENT
UID:sabre-vobject-8c4da117-796b-4282-8780-f14986c9dad4
DTSTAMP:20260422T024243Z
SUMMARY:Rosenkranz an der Mehrzweckhalle
DESCRIPTION:https://pfarreien-bistum-augsburg.df-preview.de/rosenkranz-an-d
 er-mehrzweckhalle_id1748258
DTSTART;TZID=Europe/Berlin:20260520T180000
DURATION:PT30M
LOCATION:St. Stephan\, Kirchberg 4\, 87647 Oberthingau
END:VEVENT
BEGIN:VEVENT
UID:sabre-vobject-52c59693-8430-4bbc-a3f6-375f986ef86b
DTSTAMP:20260422T024243Z
SUMMARY:Eucharistiefeier
DESCRIPTION:https://pfarreien-bistum-augsburg.df-preview.de/eucharistiefeie
 r_id1748259
DTSTART;TZID=Europe/Berlin:20260520T191500
DURATION:PT30M
LOCATION:St. Stephan\, Kirchberg 4\, 87647 Oberthingau
END:VEVENT
BEGIN:VEVENT
UID:sabre-vobject-62df086f-7376-460d-93ca-179ba187de6a
DTSTAMP:20260422T024243Z
SUMMARY:Rosenkranz
DESCRIPTION:https://pfarreien-bistum-augsburg.df-preview.de/rosenkranz_id17
 48274
DTSTART;TZID=Europe/Berlin:20260521T191500
DURATION:PT30M
LOCATION:St. Stephan\, Kirchberg 4\, 87647 Oberthingau
END:VEVENT
BEGIN:VEVENT
UID:sabre-vobject-71a81df0-ef42-4723-9c81-d6790bc17d0a
DTSTAMP:20260422T024243Z
SUMMARY:Eucharistiefeier
DESCRIPTION:https://pfarreien-bistum-augsburg.df-preview.de/eucharistiefeie
 r_id1748275
DTSTART;TZID=Europe/Berlin:20260524T090000
DURATION:PT30M
LOCATION:St. Stephan\, Kirchberg 4\, 87647 Oberthingau
END:VEVENT
BEGIN:VEVENT
UID:sabre-vobject-a0535dfc-91a5-44ad-8be0-353e124d0f5b
DTSTAMP:20260422T024243Z
SUMMARY:Eucharistiefeier
DESCRIPTION:https://pfarreien-bistum-augsburg.df-preview.de/eucharistiefeie
 r_id1748289
DTSTART;TZID=Europe/Berlin:20260525T090000
DURATION:PT30M
LOCATION:St. Stephan\, Kirchberg 4\, 87647 Oberthingau
END:VEVENT
BEGIN:VEVENT
UID:sabre-vobject-e8cc53b3-283d-4942-9338-8681ca8df883
DTSTAMP:20260422T024243Z
SUMMARY:Eucharistische Anbetung i.d. Gnadenkapelle bis 12 Uhr
DESCRIPTION:https://pfarreien-bistum-augsburg.df-preview.de/eucharistische-
 anbetung-i-d-gnadenkapelle-bis-12-uhr_id1748290
DTSTART;TZID=Europe/Berlin:20260526T083000
DURATION:PT30M
LOCATION:St. Stephan\, Kirchberg 4\, 87647 Oberthingau
END:VEVENT
BEGIN:VEVENT
UID:sabre-vobject-e0d484cc-7700-4857-8776-627b45bda104
DTSTAMP:20260422T024243Z
SUMMARY:Rosenkranz an der Mehrzweckhalle
DESCRIPTION:https://pfarreien-bistum-augsburg.df-preview.de/rosenkranz-an-d
 er-mehrzweckhalle_id1748291
DTSTART;TZID=Europe/Berlin:20260527T180000
DURATION:PT30M
LOCATION:St. Stephan\, Kirchberg 4\, 87647 Oberthingau
END:VEVENT
BEGIN:VEVENT
UID:sabre-vobject-1225fc9a-01bb-430a-8125-c1a350bedfd8
DTSTAMP:20260422T024243Z
SUMMARY:Rosenkranz
DESCRIPTION:https://pfarreien-bistum-augsburg.df-preview.de/rosenkranz_id17
 48292
DTSTART;TZID=Europe/Berlin:20260528T191500
DURATION:PT30M
LOCATION:St. Stephan\, Kirchberg 4\, 87647 Oberthingau
END:VEVENT
BEGIN:VEVENT
UID:sabre-vobject-041a9264-53a8-4493-a71c-bc55646254ff
DTSTAMP:20260422T024243Z
SUMMARY:Eucharistiefeier
DESCRIPTION:https://pfarreien-bistum-augsburg.df-preview.de/eucharistiefeie
 r_id1748243
DTSTART;TZID=Europe/Berlin:20260531T103000
DURATION:PT30M
LOCATION:St. Stephan\, Kirchberg 4\, 87647 Oberthingau
END:VEVENT
BEGIN:VEVENT
UID:sabre-vobject-e07d63a1-c4a9-49c1-bcd1-6f2563528a9a
DTSTAMP:20260422T024243Z
SUMMARY:Maiandacht
DESCRIPTION:https://pfarreien-bistum-augsburg.df-preview.de/maiandacht_id17
 48239
DTSTART;TZID=Europe/Berlin:20260531T191500
DURATION:PT30M
LOCATION:St. Stephan\, Kirchberg 4\, 87647 Oberthingau
END:VEVENT
BEGIN:VEVENT
UID:sabre-vobject-41c5e218-33a2-46fe-998c-f8fde4e1cf92
DTSTAMP:20260422T024243Z
SUMMARY:Maiandacht mit Marlis Weber
DESCRIPTION:https://pfarreien-bistum-augsburg.df-preview.de/maiandacht-mit-
 marlis-weber_id1748241
DTSTART;TZID=Europe/Berlin:20260531T193000
DURATION:PT30M
LOCATION:St. Stephan\, Kirchberg 4\, 87647 Oberthingau
END:VEVENT
END:VCALENDAR
