BEGIN:VCALENDAR
VERSION:2.0
PRODID:-//Sabre//Sabre VObject 4.5.8//EN
CALSCALE:GREGORIAN
NAME:Bistum Augsburg
X-WR-CALNAME:Bistum Augsburg
BEGIN:VEVENT
UID:sabre-vobject-5f788788-ecb0-482e-9abf-74333428bb87
DTSTAMP:20260422T182905Z
SUMMARY:E R S T K O M M U N I O N F E I E R
DESCRIPTION:https://pfarreien-bistum-augsburg.df-preview.de/e-r-s-t-k-o-m-m
 -u-n-i-o-n-f-e-i-e-r_id1752792
DTSTART;TZID=Europe/Berlin:20260426T100000
DURATION:PT30M
LOCATION:St. Ulrich
END:VEVENT
BEGIN:VEVENT
UID:sabre-vobject-a6eba78e-5884-44cd-a3e9-d3b976c0212e
DTSTAMP:20260422T182905Z
SUMMARY:Eucharistiefeier
DESCRIPTION:https://pfarreien-bistum-augsburg.df-preview.de/eucharistiefeie
 r_id1752793
DTSTART;TZID=Europe/Berlin:20260430T183000
DURATION:PT30M
LOCATION:St. Ulrich
END:VEVENT
BEGIN:VEVENT
UID:sabre-vobject-50074a97-977c-44ce-9a4a-082a11aba898
DTSTAMP:20260422T182905Z
SUMMARY:Eucharistiefeier
DESCRIPTION:https://pfarreien-bistum-augsburg.df-preview.de/eucharistiefeie
 r_id1752794
DTSTART;TZID=Europe/Berlin:20260503T083000
DURATION:PT30M
LOCATION:St. Ulrich
END:VEVENT
BEGIN:VEVENT
UID:sabre-vobject-c0c57832-37e1-445f-b437-8071e1ae7f3a
DTSTAMP:20260422T182905Z
SUMMARY:Kindergottesdienst in der Unterkirche
DESCRIPTION:https://pfarreien-bistum-augsburg.df-preview.de/kindergottesdie
 nst-in-der-unterkirche_id1751161
DTSTART;TZID=Europe/Berlin:20260503T100000
DURATION:PT30M
LOCATION:St. Ulrich
END:VEVENT
BEGIN:VEVENT
UID:sabre-vobject-edc3c89d-e8f7-485f-b513-cdfde65b6561
DTSTAMP:20260422T182905Z
SUMMARY:Feierliche Maiandacht (musik.Gest.: Angelika-Dreigsang und die Drei
 saitigen)
DESCRIPTION:https://pfarreien-bistum-augsburg.df-preview.de/feierliche-maia
 ndacht-musik-gest-angelika-dreigsang-und-die-dreisaitigen_id1752795
DTSTART;TZID=Europe/Berlin:20260503T183000
DURATION:PT30M
LOCATION:St. Ulrich
END:VEVENT
BEGIN:VEVENT
UID:sabre-vobject-3bcf3d18-f32b-4908-8218-303836bef06f
DTSTAMP:20260422T182905Z
SUMMARY:Eucharistiefeier in der Unterkirche
DESCRIPTION:https://pfarreien-bistum-augsburg.df-preview.de/eucharistiefeie
 r-in-der-unterkirche_id1752796
DTSTART;TZID=Europe/Berlin:20260507T183000
DURATION:PT30M
LOCATION:St. Ulrich
END:VEVENT
BEGIN:VEVENT
UID:sabre-vobject-e7971043-642d-4e7b-b08e-fd6c4fc969bc
DTSTAMP:20260422T182905Z
SUMMARY:Pfarrgottesdienst
DESCRIPTION:https://pfarreien-bistum-augsburg.df-preview.de/pfarrgottesdien
 st_id1752797
DTSTART;TZID=Europe/Berlin:20260510T100000
DURATION:PT30M
LOCATION:St. Ulrich
END:VEVENT
BEGIN:VEVENT
UID:sabre-vobject-6dc2c89a-ea4e-4935-a517-f0be36a36912
DTSTAMP:20260422T182905Z
SUMMARY:Maiandacht gest. vom PGR
DESCRIPTION:https://pfarreien-bistum-augsburg.df-preview.de/maiandacht-gest
 -vom-pgr_id1752798
DTSTART;TZID=Europe/Berlin:20260510T183000
DURATION:PT30M
LOCATION:St. Ulrich
END:VEVENT
BEGIN:VEVENT
UID:sabre-vobject-5063e55c-e905-4332-8115-8da554dbb64e
DTSTAMP:20260422T182905Z
SUMMARY:Ökumenischer Lobpreis in der Unterkirche
DESCRIPTION:https://pfarreien-bistum-augsburg.df-preview.de/oekumenischer-l
 obpreis-in-der-unterkirche_id1752799
DTSTART;TZID=Europe/Berlin:20260511T190000
DURATION:PT30M
LOCATION:St. Ulrich
END:VEVENT
BEGIN:VEVENT
UID:sabre-vobject-03f7881d-d58c-469c-93f4-e93cd76e2957
DTSTAMP:20260422T182905Z
SUMMARY:Vorabendmesse zu Christi Himmelfahrt
DESCRIPTION:https://pfarreien-bistum-augsburg.df-preview.de/vorabendmesse-z
 u-christi-himmelfahrt_id1752800
DTSTART;TZID=Europe/Berlin:20260513T183000
DURATION:PT30M
LOCATION:St. Ulrich
END:VEVENT
BEGIN:VEVENT
UID:sabre-vobject-1c3ff610-f579-4944-a516-b01fd47c390d
DTSTAMP:20260422T182905Z
SUMMARY:Trauung von Theresa Klaß und Benedikt Seiter
DESCRIPTION:https://pfarreien-bistum-augsburg.df-preview.de/trauung-von-the
 resa-klass-und-benedikt-seiter_id1752801
DTSTART;TZID=Europe/Berlin:20260516T123000
DURATION:PT30M
LOCATION:St. Ulrich
END:VEVENT
BEGIN:VEVENT
UID:sabre-vobject-4a8a0db0-8968-44c5-8f9e-47592204e325
DTSTAMP:20260422T182905Z
SUMMARY:Vorabendmesse
DESCRIPTION:https://pfarreien-bistum-augsburg.df-preview.de/vorabendmesse_i
 d1752802
DTSTART;TZID=Europe/Berlin:20260516T183000
DURATION:PT30M
LOCATION:St. Ulrich
END:VEVENT
BEGIN:VEVENT
UID:sabre-vobject-007a628c-da60-43bc-85a8-17229d80781d
DTSTAMP:20260422T182905Z
SUMMARY:Maiandacht gest. vom Familiengottesdienstteam
DESCRIPTION:https://pfarreien-bistum-augsburg.df-preview.de/maiandacht-gest
 -vom-familiengottesdienstteam_id1752834
DTSTART;TZID=Europe/Berlin:20260517T183000
DURATION:PT30M
LOCATION:St. Ulrich
END:VEVENT
BEGIN:VEVENT
UID:sabre-vobject-78c880ca-3dc2-4c81-87c8-3fbd8085b6d3
DTSTAMP:20260422T182905Z
SUMMARY:Eucharistiefeier in der Unterkirche
DESCRIPTION:https://pfarreien-bistum-augsburg.df-preview.de/eucharistiefeie
 r-in-der-unterkirche_id1752835
DTSTART;TZID=Europe/Berlin:20260521T183000
DURATION:PT30M
LOCATION:St. Ulrich
END:VEVENT
BEGIN:VEVENT
UID:sabre-vobject-5462aff0-3a1e-40e2-ba46-f9dc853854b6
DTSTAMP:20260422T182905Z
SUMMARY:Hochfestgottesdienst
DESCRIPTION:https://pfarreien-bistum-augsburg.df-preview.de/hochfestgottesd
 ienst_id1752836
DTSTART;TZID=Europe/Berlin:20260524T100000
DURATION:PT30M
LOCATION:St. Ulrich
END:VEVENT
BEGIN:VEVENT
UID:sabre-vobject-6827dd98-0926-4b05-a16b-bbeca80cc21c
DTSTAMP:20260422T182905Z
SUMMARY:Tauffeier von Anton Gruber-Drexl
DESCRIPTION:https://pfarreien-bistum-augsburg.df-preview.de/tauffeier-von-a
 nton-gruber-drexl_id1752837
DTSTART;TZID=Europe/Berlin:20260530T140000
DURATION:PT30M
LOCATION:St. Ulrich
END:VEVENT
BEGIN:VEVENT
UID:sabre-vobject-3006f208-9c8e-4ccd-9f0b-b8035eeb1f4e
DTSTAMP:20260422T182905Z
SUMMARY:Eucharistiefeier
DESCRIPTION:https://pfarreien-bistum-augsburg.df-preview.de/eucharistiefeie
 r_id1752838
DTSTART;TZID=Europe/Berlin:20260531T100000
DURATION:PT30M
LOCATION:St. Ulrich
END:VEVENT
BEGIN:VEVENT
UID:sabre-vobject-730c0b88-e5a9-477f-a784-553ea8730d88
DTSTAMP:20260422T182905Z
SUMMARY:Hochfestgottesdienst anschl. Fronleichnamsprozession
DESCRIPTION:https://pfarreien-bistum-augsburg.df-preview.de/hochfestgottesd
 ienst-anschl-fronleichnamsprozession_id1752877
DTSTART;TZID=Europe/Berlin:20260604T093000
DURATION:PT30M
LOCATION:St. Ulrich
END:VEVENT
END:VCALENDAR
