BEGIN:VCALENDAR
VERSION:2.0
PRODID:-//Sabre//Sabre VObject 4.5.8//EN
CALSCALE:GREGORIAN
NAME:Bistum Augsburg
X-WR-CALNAME:Bistum Augsburg
BEGIN:VEVENT
UID:sabre-vobject-a669fac9-145e-42a4-9a21-8907efb6fb6b
DTSTAMP:20260422T091236Z
SUMMARY:Messfeier für
DESCRIPTION:https://pfarreien-bistum-augsburg.df-preview.de/messfeier-fuer_
 id1697393
DTSTART;TZID=Europe/Berlin:20260422T190000
DURATION:PT30M
LOCATION:St. Leonhard\, Ludwig-Rif-Straße 32\, 86465 Reutern
END:VEVENT
BEGIN:VEVENT
UID:sabre-vobject-84ec5e33-5ce6-4d27-84ca-f02e72923a0d
DTSTAMP:20260422T091236Z
SUMMARY:Messfeier für
DESCRIPTION:https://pfarreien-bistum-augsburg.df-preview.de/messfeier-fuer_
 id1740184
DTSTART;TZID=Europe/Berlin:20260422T190000
DURATION:PT30M
LOCATION:St. Leonhard\, Ludwig-Rif-Straße 32\, 86465 Reutern
END:VEVENT
BEGIN:VEVENT
UID:sabre-vobject-61cfaea8-0190-4d35-ba51-58287f1da67c
DTSTAMP:20260422T091236Z
SUMMARY:Sonntagsmessfeier für
DESCRIPTION:https://pfarreien-bistum-augsburg.df-preview.de/sonntagsmessfei
 er-fuer_id1745593
DTSTART;TZID=Europe/Berlin:20260426T100000
DURATION:PT30M
LOCATION:St. Leonhard\, Ludwig-Rif-Straße 32\, 86465 Reutern
END:VEVENT
BEGIN:VEVENT
UID:sabre-vobject-9e6caddc-7ff0-46a3-ad22-6cc9c97666b0
DTSTAMP:20260422T091236Z
SUMMARY:Messfeier für
DESCRIPTION:https://pfarreien-bistum-augsburg.df-preview.de/messfeier-fuer_
 id1745594
DTSTART;TZID=Europe/Berlin:20260429T190000
DURATION:PT30M
LOCATION:St. Leonhard\, Ludwig-Rif-Straße 32\, 86465 Reutern
END:VEVENT
BEGIN:VEVENT
UID:sabre-vobject-6f76c407-65ae-48b7-9e30-2e8dcc4a8b12
DTSTAMP:20260422T091236Z
SUMMARY:Treffpunkt an der Kirche / Bitte Gotteslob mitbringen!
DESCRIPTION:https://pfarreien-bistum-augsburg.df-preview.de/treffpunkt-an-d
 er-kirche-bitte-gotteslob-mitbringen_id1745595
DTSTART;TZID=Europe/Berlin:20260501T183000
DURATION:PT30M
LOCATION:St. Leonhard\, Ludwig-Rif-Straße 32\, 86465 Reutern
END:VEVENT
BEGIN:VEVENT
UID:sabre-vobject-764d8390-971b-43d1-8ca0-a359edd3b983
DTSTAMP:20260422T091236Z
SUMMARY:Erste feierliche Maiandacht für Reutern u. Welden an der Lourdeska
 pelle\n(Bei schlechtem Wetter findet die Maiandacht in der Pfarrkirche Reu
 tern statt)
DESCRIPTION:https://pfarreien-bistum-augsburg.df-preview.de/erste-feierlich
 e-maiandacht-fuer-reutern-u-welden-an-der-lourdeskapelle-bei-schlechtem-we
 tter-findet-die-maiandacht-in-der-pfarrkirche-reutern-statt_id1745596
DTSTART;TZID=Europe/Berlin:20260501T190000
DURATION:PT30M
LOCATION:St. Leonhard\, Ludwig-Rif-Straße 32\, 86465 Reutern
END:VEVENT
BEGIN:VEVENT
UID:sabre-vobject-0a394f72-2157-473e-89e4-062701e5cd5a
DTSTAMP:20260422T091236Z
SUMMARY:Vorabendmesse für
DESCRIPTION:https://pfarreien-bistum-augsburg.df-preview.de/vorabendmesse-f
 uer_id1745562
DTSTART;TZID=Europe/Berlin:20260502T190000
DURATION:PT30M
LOCATION:St. Leonhard\, Ludwig-Rif-Straße 32\, 86465 Reutern
END:VEVENT
BEGIN:VEVENT
UID:sabre-vobject-92366dcf-0c71-40ba-92b6-5547939b44d7
DTSTAMP:20260422T091236Z
SUMMARY:Messfeier für
DESCRIPTION:https://pfarreien-bistum-augsburg.df-preview.de/messfeier-fuer_
 id1745563
DTSTART;TZID=Europe/Berlin:20260506T190000
DURATION:PT30M
LOCATION:St. Leonhard\, Ludwig-Rif-Straße 32\, 86465 Reutern
END:VEVENT
BEGIN:VEVENT
UID:sabre-vobject-15e86131-4739-4bef-85b8-8ebd28931921
DTSTAMP:20260422T091236Z
SUMMARY:Vorabendmesse für
DESCRIPTION:https://pfarreien-bistum-augsburg.df-preview.de/vorabendmesse-f
 uer_id1745247
DTSTART;TZID=Europe/Berlin:20260509T190000
DURATION:PT30M
LOCATION:St. Leonhard\, Ludwig-Rif-Straße 32\, 86465 Reutern
END:VEVENT
BEGIN:VEVENT
UID:sabre-vobject-b6c549b3-4b17-43cf-a377-9ed39de1a572
DTSTAMP:20260422T091236Z
SUMMARY:o. 19.00 Uhr Maiandacht
DESCRIPTION:https://pfarreien-bistum-augsburg.df-preview.de/o-19-00-uhr-mai
 andacht_id1745248
DTSTART;TZID=Europe/Berlin:20260510T180000
DURATION:PT30M
LOCATION:St. Leonhard\, Ludwig-Rif-Straße 32\, 86465 Reutern
END:VEVENT
BEGIN:VEVENT
UID:sabre-vobject-0e7dad4e-578e-419f-9fa8-a6e47b2af7ff
DTSTAMP:20260422T091236Z
SUMMARY:Treffpunkt Keltenschanzstr. - Ecke Feldweg zum Bildstock
DESCRIPTION:https://pfarreien-bistum-augsburg.df-preview.de/treffpunkt-kelt
 enschanzstr-ecke-feldweg-zum-bildstock_id1745246
DTSTART;TZID=Europe/Berlin:20260514T084500
DURATION:PT30M
LOCATION:St. Leonhard\, Ludwig-Rif-Straße 32\, 86465 Reutern
END:VEVENT
BEGIN:VEVENT
UID:sabre-vobject-9830acf2-4867-4b8b-baf5-23a1ab980c41
DTSTAMP:20260422T091236Z
SUMMARY:gemeinsamer Festgottesdienst für die Pfarreien Adelsried/Reutern u
 nd Welden am Bildstock Villenbacher Flur Bei schlechtem Wetter findet der 
 Festgottesdienst in der Pfarrkirche Reutern statt
DESCRIPTION:https://pfarreien-bistum-augsburg.df-preview.de/gemeinsamer-fes
 tgottesdienst-fuer-die-pfarreien-adelsried-reutern-und-welden-am-bildstock
 -villenbacher-flur-bei-schlechtem-wetter-findet-der-festgottesdienst-in-de
 r-pfarrkirche-reutern-statt_id1745177
DTSTART;TZID=Europe/Berlin:20260514T090000
DURATION:PT30M
LOCATION:St. Leonhard\, Ludwig-Rif-Straße 32\, 86465 Reutern
END:VEVENT
BEGIN:VEVENT
UID:sabre-vobject-79707bf9-6d5a-4557-ac3b-3aaffcd6ee74
DTSTAMP:20260422T091236Z
SUMMARY:Sonntagsmessfeier für
DESCRIPTION:https://pfarreien-bistum-augsburg.df-preview.de/sonntagsmessfei
 er-fuer_id1745538
DTSTART;TZID=Europe/Berlin:20260517T083000
DURATION:PT30M
LOCATION:St. Leonhard\, Ludwig-Rif-Straße 32\, 86465 Reutern
END:VEVENT
BEGIN:VEVENT
UID:sabre-vobject-8db98949-d157-4695-bcd3-52a399d45bb2
DTSTAMP:20260422T091236Z
SUMMARY:Messfeier für
DESCRIPTION:https://pfarreien-bistum-augsburg.df-preview.de/messfeier-fuer_
 id1745539
DTSTART;TZID=Europe/Berlin:20260520T190000
DURATION:PT30M
LOCATION:St. Leonhard\, Ludwig-Rif-Straße 32\, 86465 Reutern
END:VEVENT
BEGIN:VEVENT
UID:sabre-vobject-32be1f74-a33b-4511-bf84-c0b02ecd032a
DTSTAMP:20260422T091236Z
SUMMARY:Pfarrgottesdienst für alle Lebenden und Verstorbenen der Pfarreien
 gemeinschaft im Gebetsgedenken an:
DESCRIPTION:https://pfarreien-bistum-augsburg.df-preview.de/pfarrgottesdien
 st-fuer-alle-lebenden-und-verstorbenen-der-pfarreiengemeinschaft-im-gebets
 gedenken-an_id1745385
DTSTART;TZID=Europe/Berlin:20260524T100000
DURATION:PT30M
LOCATION:St. Leonhard\, Ludwig-Rif-Straße 32\, 86465 Reutern
END:VEVENT
BEGIN:VEVENT
UID:sabre-vobject-80fc403d-0e3e-49f4-ae58-a16311d40fd9
DTSTAMP:20260422T091236Z
SUMMARY:o. 19.00 Uhr ?? Maiandacht
DESCRIPTION:https://pfarreien-bistum-augsburg.df-preview.de/o-19-00-uhr-mai
 andacht_id1745391
DTSTART;TZID=Europe/Berlin:20260524T180000
DURATION:PT30M
LOCATION:St. Leonhard\, Ludwig-Rif-Straße 32\, 86465 Reutern
END:VEVENT
END:VCALENDAR
