BEGIN:VCALENDAR
VERSION:2.0
PRODID:-//Sabre//Sabre VObject 4.5.8//EN
CALSCALE:GREGORIAN
NAME:Bistum Augsburg
X-WR-CALNAME:Bistum Augsburg
BEGIN:VEVENT
UID:sabre-vobject-30f4fa55-5074-41e6-84a7-5e24a6d787f7
DTSTAMP:20260420T104224Z
SUMMARY:Hl. Messe
DESCRIPTION:https://pfarreien-bistum-augsburg.df-preview.de/hl-messe_id1743
 632
DTSTART;TZID=Europe/Berlin:20260420T180000
DURATION:PT30M
LOCATION:St. Blasius
END:VEVENT
BEGIN:VEVENT
UID:sabre-vobject-0b0ba2b3-b30b-412c-a5b3-07c93d68ed3e
DTSTAMP:20260420T104224Z
SUMMARY:- 10.15 Uhr Krabbelgruppe im Saal HSH
DESCRIPTION:https://pfarreien-bistum-augsburg.df-preview.de/10-15-uhr-krabb
 elgruppe-im-saal-hsh_id1743600
DTSTART;TZID=Europe/Berlin:20260421T090000
DURATION:PT30M
LOCATION:St. Johannes Baptist
END:VEVENT
BEGIN:VEVENT
UID:sabre-vobject-b0fd664a-be6f-453f-9f7f-f5aee9ef8db4
DTSTAMP:20260420T104224Z
SUMMARY:- 11.15 Uhr Krabbelgruppe im Pfarrhof Autenried
DESCRIPTION:https://pfarreien-bistum-augsburg.df-preview.de/11-15-uhr-krabb
 elgruppe-im-pfarrhof-autenried_id1743546
DTSTART;TZID=Europe/Berlin:20260421T093000
DURATION:PT30M
LOCATION:St. Stephan\, Benno-Bichler-Platz\, 89335 Autenried
END:VEVENT
BEGIN:VEVENT
UID:sabre-vobject-ce554d3f-c41b-4edb-92a0-a8124869561c
DTSTAMP:20260420T104224Z
SUMMARY:- 16.30 Uhr Eltern-Kind-Treff im Pfarrhof Hochwang
DESCRIPTION:https://pfarreien-bistum-augsburg.df-preview.de/16-30-uhr-elter
 n-kind-treff-im-pfarrhof-hochwang_id1743607
DTSTART;TZID=Europe/Berlin:20260421T153000
DURATION:PT30M
LOCATION:Heilig Kreuz
END:VEVENT
BEGIN:VEVENT
UID:sabre-vobject-777e0b94-4335-4216-a13f-f7a86d19b4cc
DTSTAMP:20260420T104224Z
SUMMARY:Hl. Messe (i.d. Leonhardskapelle)
DESCRIPTION:https://pfarreien-bistum-augsburg.df-preview.de/hl-messe-i-d-le
 onhardskapelle_id1743637
DTSTART;TZID=Europe/Berlin:20260421T180000
DURATION:PT30M
LOCATION:St. Martin
END:VEVENT
BEGIN:VEVENT
UID:sabre-vobject-c7e19828-75d2-4538-9a72-afb1e0ccd53e
DTSTAMP:20260420T104224Z
SUMMARY:Rosenkranz
DESCRIPTION:https://pfarreien-bistum-augsburg.df-preview.de/rosenkranz_id17
 43622
DTSTART;TZID=Europe/Berlin:20260422T080000
DURATION:PT30M
LOCATION:St. Ägidius
END:VEVENT
BEGIN:VEVENT
UID:sabre-vobject-74a4f27a-d754-46f6-894f-ef1a4e657c5c
DTSTAMP:20260420T104224Z
SUMMARY:- 11.00 Uhr Krabbelgruppe im Kirchenraum des Gemeindehauses
DESCRIPTION:https://pfarreien-bistum-augsburg.df-preview.de/11-00-uhr-krabb
 elgruppe-im-kirchenraum-des-gemeindehauses_id1743595
DTSTART;TZID=Europe/Berlin:20260422T093000
DURATION:PT30M
LOCATION:St. Katharina
END:VEVENT
BEGIN:VEVENT
UID:sabre-vobject-076c7ddc-48e9-4e12-9518-ceedbb106564
DTSTAMP:20260420T104224Z
SUMMARY:Offenes Singen im Gasthaus "Zum Ochsen" \nBitte um Voranmeldung bis
  19.4. unter Tel. 08223/2106
DESCRIPTION:https://pfarreien-bistum-augsburg.df-preview.de/offenes-singen-
 im-gasthaus-zum-ochsen-bitte-um-voranmeldung-bis-19-4-unter-tel-08223-2106
 _id1743678
DTSTART;TZID=Europe/Berlin:20260422T140000
DURATION:PT30M
LOCATION:St. Martin
END:VEVENT
BEGIN:VEVENT
UID:sabre-vobject-e51a60c6-4d86-4e83-9444-dcb30fc8876d
DTSTAMP:20260420T104224Z
SUMMARY:Hl. Messe
DESCRIPTION:https://pfarreien-bistum-augsburg.df-preview.de/hl-messe_id1743
 596
DTSTART;TZID=Europe/Berlin:20260422T180000
DURATION:PT30M
LOCATION:St. Katharina
END:VEVENT
BEGIN:VEVENT
UID:sabre-vobject-42121c3f-da15-4af6-99fc-f21e98ac073d
DTSTAMP:20260420T104224Z
SUMMARY:Lieder zur Frühlingszeit \nOffenes Singen im Pfarrhaus \nLeitung: 
 Christoph Lampertz (Volksmusikexperte) \nKDFB Autenried \n
DESCRIPTION:https://pfarreien-bistum-augsburg.df-preview.de/lieder-zur-frue
 hlingszeit-offenes-singen-im-pfarrhaus-leitung-christoph-lampertz-volksmus
 ikexperte-kdfb-autenried_id1743547
DTSTART;TZID=Europe/Berlin:20260422T190000
DURATION:PT30M
LOCATION:St. Stephan\, Benno-Bichler-Platz\, 89335 Autenried
END:VEVENT
BEGIN:VEVENT
UID:sabre-vobject-7586a34c-0fe8-4920-9be1-611e1322d4aa
DTSTAMP:20260420T104224Z
SUMMARY:Hl. Messe
DESCRIPTION:https://pfarreien-bistum-augsburg.df-preview.de/hl-messe_id1743
 601
DTSTART;TZID=Europe/Berlin:20260423T083000
DURATION:PT30M
LOCATION:St. Johannes Baptist
END:VEVENT
BEGIN:VEVENT
UID:sabre-vobject-03350cc0-8951-4af8-a6da-f4f115d30dfa
DTSTAMP:20260420T104224Z
SUMMARY:Hl. Messe
DESCRIPTION:https://pfarreien-bistum-augsburg.df-preview.de/hl-messe_id1743
 593
DTSTART;TZID=Europe/Berlin:20260424T180000
DURATION:PT30M
LOCATION:St. Johannes Baptist
END:VEVENT
BEGIN:VEVENT
UID:sabre-vobject-7ba85e7c-9534-4c95-9366-feb46892c9e7
DTSTAMP:20260420T104224Z
SUMMARY:Probe für die EK-Kinder aus \nRieden\, Oxenbronn und Autenried in 
 der Pfarrkirche
DESCRIPTION:https://pfarreien-bistum-augsburg.df-preview.de/probe-fuer-die-
 ek-kinder-aus-rieden-oxenbronn-und-autenried-in-der-pfarrkirche_id1743481
DTSTART;TZID=Europe/Berlin:20260425T140000
DURATION:PT30M
LOCATION:St. Mauritius und Gefährten\, Kirchberg 10\, 89335 Ichenhausen
END:VEVENT
BEGIN:VEVENT
UID:sabre-vobject-52aefdf7-09d7-49b7-ac37-30b24e562196
DTSTAMP:20260420T104224Z
SUMMARY:Probe für die EK-Kinder aus \nEllzee in der Pfarrkirche
DESCRIPTION:https://pfarreien-bistum-augsburg.df-preview.de/probe-fuer-die-
 ek-kinder-aus-ellzee-in-der-pfarrkirche_id1743597
DTSTART;TZID=Europe/Berlin:20260425T140000
DURATION:PT30M
LOCATION:St. Katharina
END:VEVENT
BEGIN:VEVENT
UID:sabre-vobject-7ddc1d3b-1978-40f3-b72d-ca5ab4e254af
DTSTAMP:20260420T104224Z
SUMMARY:Hl. Messe für die Pfarrgemeinde
DESCRIPTION:https://pfarreien-bistum-augsburg.df-preview.de/hl-messe-fuer-d
 ie-pfarrgemeinde_id1743513
DTSTART;TZID=Europe/Berlin:20260425T180000
DURATION:PT30M
LOCATION:St. Leonhard
END:VEVENT
BEGIN:VEVENT
UID:sabre-vobject-fcd7c173-1f6b-4500-b679-448bdf9ab345
DTSTAMP:20260420T104224Z
SUMMARY:Hl. Messe für die Pfarrgemeinde
DESCRIPTION:https://pfarreien-bistum-augsburg.df-preview.de/hl-messe-fuer-d
 ie-pfarrgemeinde_id1743679
DTSTART;TZID=Europe/Berlin:20260425T180000
DURATION:PT30M
LOCATION:St. Martin
END:VEVENT
BEGIN:VEVENT
UID:sabre-vobject-77d8c8e6-c06a-47ae-a676-881a90ad157b
DTSTAMP:20260420T104224Z
SUMMARY:Hl. Messe für die Pfarrgemeinde \n
DESCRIPTION:https://pfarreien-bistum-augsburg.df-preview.de/hl-messe-fuer-d
 ie-pfarrgemeinde_id1743581
DTSTART;TZID=Europe/Berlin:20260425T191500
DURATION:PT30M
LOCATION:St. Martin
END:VEVENT
BEGIN:VEVENT
UID:sabre-vobject-4fef05a9-b90e-4df3-a67a-b455a4eca35b
DTSTAMP:20260420T104224Z
SUMMARY:Hl. Messe für die Pfarrgemeinde
DESCRIPTION:https://pfarreien-bistum-augsburg.df-preview.de/hl-messe-fuer-d
 ie-pfarrgemeinde_id1743623
DTSTART;TZID=Europe/Berlin:20260425T191500
DURATION:PT30M
LOCATION:St. Ägidius
END:VEVENT
BEGIN:VEVENT
UID:sabre-vobject-86e50522-4203-4d1b-9e7c-f3985b9a3e92
DTSTAMP:20260420T104224Z
SUMMARY:FEIER DER ERSTKOMMUNION \nder Kinder aus Rieden\, Oxenbronn und Aut
 enried \nfür die verst. Angehörigen der Erstkommunionkinder
DESCRIPTION:https://pfarreien-bistum-augsburg.df-preview.de/feier-der-erstk
 ommunion-der-kinder-aus-rieden-oxenbronn-und-autenried-fuer-die-verst-ange
 hoerigen-der-erstkommunionkinder_id1743482
DTSTART;TZID=Europe/Berlin:20260426T101500
DURATION:PT30M
LOCATION:St. Mauritius und Gefährten\, Kirchberg 10\, 89335 Ichenhausen
END:VEVENT
BEGIN:VEVENT
UID:sabre-vobject-7d4b72a5-6631-41c9-ab7e-120d2e7d7871
DTSTAMP:20260420T104224Z
SUMMARY:Hl. Messe für die Pfarrgemeinde
DESCRIPTION:https://pfarreien-bistum-augsburg.df-preview.de/hl-messe-fuer-d
 ie-pfarrgemeinde_id1743557
DTSTART;TZID=Europe/Berlin:20260426T101500
DURATION:PT30M
LOCATION:St. Johannes Baptist
END:VEVENT
BEGIN:VEVENT
UID:sabre-vobject-c2eb45f5-5d9d-4ebe-abcb-9426829a8d2b
DTSTAMP:20260420T104224Z
SUMMARY:FEIER DER ERSTKOMMUNION \nfür die verst. Angehörigen der Erstkomm
 unionkinder
DESCRIPTION:https://pfarreien-bistum-augsburg.df-preview.de/feier-der-erstk
 ommunion-fuer-die-verst-angehoerigen-der-erstkommunionkinder_id1743616
DTSTART;TZID=Europe/Berlin:20260426T101500
DURATION:PT30M
LOCATION:St. Katharina
END:VEVENT
BEGIN:VEVENT
UID:sabre-vobject-ed1b949e-f9aa-4b01-a989-26148ec985ea
DTSTAMP:20260420T104224Z
SUMMARY:Hl. Messe
DESCRIPTION:https://pfarreien-bistum-augsburg.df-preview.de/hl-messe_id1743
 608
DTSTART;TZID=Europe/Berlin:20260427T180000
DURATION:PT30M
LOCATION:Heilig Kreuz
END:VEVENT
BEGIN:VEVENT
UID:sabre-vobject-0b2a1a70-dd3b-4604-a201-806f8b7765f7
DTSTAMP:20260420T104224Z
SUMMARY:- 10.15 Uhr Krabbelgruppe im Saal HSH
DESCRIPTION:https://pfarreien-bistum-augsburg.df-preview.de/10-15-uhr-krabb
 elgruppe-im-saal-hsh_id1743675
DTSTART;TZID=Europe/Berlin:20260428T090000
DURATION:PT30M
LOCATION:St. Johannes Baptist
END:VEVENT
BEGIN:VEVENT
UID:sabre-vobject-7c3619e3-4425-4142-814b-5615582d0325
DTSTAMP:20260420T104224Z
SUMMARY:- 11.15 Uhr Krabbelgruppe im Pfarrhof Autenried
DESCRIPTION:https://pfarreien-bistum-augsburg.df-preview.de/11-15-uhr-krabb
 elgruppe-im-pfarrhof-autenried_id1743545
DTSTART;TZID=Europe/Berlin:20260428T093000
DURATION:PT30M
LOCATION:St. Stephan\, Benno-Bichler-Platz\, 89335 Autenried
END:VEVENT
BEGIN:VEVENT
UID:sabre-vobject-534761c8-bfd7-43d9-a671-5ce4d8f70a90
DTSTAMP:20260420T104224Z
SUMMARY:- 16.30 Uhr Eltern-Kind-Treff im Pfarrhof Hochwang
DESCRIPTION:https://pfarreien-bistum-augsburg.df-preview.de/16-30-uhr-elter
 n-kind-treff-im-pfarrhof-hochwang_id1743609
DTSTART;TZID=Europe/Berlin:20260428T153000
DURATION:PT30M
LOCATION:Heilig Kreuz
END:VEVENT
BEGIN:VEVENT
UID:sabre-vobject-1bebb81c-37b0-4267-a150-a9ea849f06b1
DTSTAMP:20260420T104224Z
SUMMARY:Rosenkranz (i.d. Jakobskapelle)
DESCRIPTION:https://pfarreien-bistum-augsburg.df-preview.de/rosenkranz-i-d-
 jakobskapelle_id1743680
DTSTART;TZID=Europe/Berlin:20260428T170000
DURATION:PT30M
LOCATION:St. Martin
END:VEVENT
BEGIN:VEVENT
UID:sabre-vobject-95223aed-3ea7-4bfc-ab05-00dad156edee
DTSTAMP:20260420T104224Z
SUMMARY:Hl. Messe (i.d. Dreifaltigkeitskapelle)
DESCRIPTION:https://pfarreien-bistum-augsburg.df-preview.de/hl-messe-i-d-dr
 eifaltigkeitskapelle_id1743614
DTSTART;TZID=Europe/Berlin:20260428T180000
DURATION:PT30M
LOCATION:St. Mauritius und Gefährten\, Kirchberg 10\, 89335 Ichenhausen
END:VEVENT
BEGIN:VEVENT
UID:sabre-vobject-1e30d118-9a4d-4ae5-9c2d-1ac8830f5eb1
DTSTAMP:20260420T104224Z
SUMMARY:Rosenkranz
DESCRIPTION:https://pfarreien-bistum-augsburg.df-preview.de/rosenkranz_id17
 43624
DTSTART;TZID=Europe/Berlin:20260429T080000
DURATION:PT30M
LOCATION:St. Ägidius
END:VEVENT
BEGIN:VEVENT
UID:sabre-vobject-607b38af-76fe-4d5a-827e-96a1367c7eae
DTSTAMP:20260420T104224Z
SUMMARY:- 11.00 Uhr Krabbelgruppe im Kirchenraum des Gemeindehauses
DESCRIPTION:https://pfarreien-bistum-augsburg.df-preview.de/11-00-uhr-krabb
 elgruppe-im-kirchenraum-des-gemeindehauses_id1743617
DTSTART;TZID=Europe/Berlin:20260429T093000
DURATION:PT30M
LOCATION:St. Katharina
END:VEVENT
BEGIN:VEVENT
UID:sabre-vobject-a494b52a-9cb1-4620-bc92-b4d42fdcfe62
DTSTAMP:20260420T104224Z
SUMMARY:Treffen der Strickgruppe im Heinrich-Sinz-Haus
DESCRIPTION:https://pfarreien-bistum-augsburg.df-preview.de/treffen-der-str
 ickgruppe-im-heinrich-sinz-haus_id1743665
DTSTART;TZID=Europe/Berlin:20260429T140000
DURATION:PT30M
LOCATION:St. Johannes Baptist
END:VEVENT
BEGIN:VEVENT
UID:sabre-vobject-a02b7110-64f1-4717-9e58-c79658aa68e0
DTSTAMP:20260420T104224Z
SUMMARY:Hl. Messe
DESCRIPTION:https://pfarreien-bistum-augsburg.df-preview.de/hl-messe_id1743
 511
DTSTART;TZID=Europe/Berlin:20260429T180000
DURATION:PT30M
LOCATION:St. Katharina
END:VEVENT
BEGIN:VEVENT
UID:sabre-vobject-fb15a67b-a36f-47da-87e6-29f95c43de45
DTSTAMP:20260420T104224Z
SUMMARY:Dankgottesdienst der EK-Kinder
DESCRIPTION:https://pfarreien-bistum-augsburg.df-preview.de/dankgottesdiens
 t-der-ek-kinder_id1743666
DTSTART;TZID=Europe/Berlin:20260430T083000
DURATION:PT30M
LOCATION:St. Johannes Baptist
END:VEVENT
BEGIN:VEVENT
UID:sabre-vobject-ff0ac23b-157f-4f24-8dfd-4ff22cf84b4b
DTSTAMP:20260420T104224Z
SUMMARY:Atempause in der Pfarrkirche \nInspiration-Musik-Gebet-Begegnung
DESCRIPTION:https://pfarreien-bistum-augsburg.df-preview.de/atempause-in-de
 r-pfarrkirche-inspiration-musik-gebet-begegnung_id1743669
DTSTART;TZID=Europe/Berlin:20260430T200000
DURATION:PT30M
LOCATION:St. Johannes Baptist
END:VEVENT
BEGIN:VEVENT
UID:sabre-vobject-4ff3efcc-ca1f-4298-8f9c-91caea55a70c
DTSTAMP:20260420T104224Z
SUMMARY:- 16.00 Uhr Einkehrtag der PG im Heinrich-Sinz-Haus "Neues aus der 
 biblischen Schatzkiste" - Pfr. Dr. Wolfgang Gramer
DESCRIPTION:https://pfarreien-bistum-augsburg.df-preview.de/16-00-uhr-einke
 hrtag-der-pg-im-heinrich-sinz-haus-neues-aus-der-biblischen-schatzkiste-pf
 r-dr-wolfgang-gramer_id1743630
DTSTART;TZID=Europe/Berlin:20260502T093000
DURATION:PT30M
LOCATION:St. Johannes Baptist
END:VEVENT
BEGIN:VEVENT
UID:sabre-vobject-9819d3d6-f55c-4c88-b452-c44ac5272fdc
DTSTAMP:20260420T104224Z
SUMMARY:Hl. Messe für die Pfarrgemeinde
DESCRIPTION:https://pfarreien-bistum-augsburg.df-preview.de/hl-messe-fuer-d
 ie-pfarrgemeinde_id1743541
DTSTART;TZID=Europe/Berlin:20260502T180000
DURATION:PT30M
LOCATION:St. Leonhard
END:VEVENT
BEGIN:VEVENT
UID:sabre-vobject-f0e030e6-25ec-4df6-ab2a-fbf9782fbdb9
DTSTAMP:20260420T104224Z
SUMMARY:Wort-Gottes-Feier
DESCRIPTION:https://pfarreien-bistum-augsburg.df-preview.de/wort-gottes-fei
 er_id1743580
DTSTART;TZID=Europe/Berlin:20260502T180000
DURATION:PT30M
LOCATION:St. Stephan\, Benno-Bichler-Platz\, 89335 Autenried
END:VEVENT
BEGIN:VEVENT
UID:sabre-vobject-08606fa0-152a-4dac-b16c-6946a1610abb
DTSTAMP:20260420T104224Z
SUMMARY:Hl. Messe für die Pfarrgemeinde
DESCRIPTION:https://pfarreien-bistum-augsburg.df-preview.de/hl-messe-fuer-d
 ie-pfarrgemeinde_id1743633
DTSTART;TZID=Europe/Berlin:20260502T180000
DURATION:PT30M
LOCATION:St. Blasius
END:VEVENT
BEGIN:VEVENT
UID:sabre-vobject-bbf23be7-4aaf-4b53-a3f2-4d38cc2b125d
DTSTAMP:20260420T104224Z
SUMMARY:Hl. Messe für die Pfarrgemeinde
DESCRIPTION:https://pfarreien-bistum-augsburg.df-preview.de/hl-messe-fuer-d
 ie-pfarrgemeinde_id1743683
DTSTART;TZID=Europe/Berlin:20260502T191500
DURATION:PT30M
LOCATION:St. Martin
END:VEVENT
BEGIN:VEVENT
UID:sabre-vobject-41d106f6-19d3-4453-8c8a-6b367536b5eb
DTSTAMP:20260420T104224Z
SUMMARY:Hl. Messe für die Pfarrgemeinde
DESCRIPTION:https://pfarreien-bistum-augsburg.df-preview.de/hl-messe-fuer-d
 ie-pfarrgemeinde_id1743512
DTSTART;TZID=Europe/Berlin:20260503T090000
DURATION:PT30M
LOCATION:St. Katharina
END:VEVENT
BEGIN:VEVENT
UID:sabre-vobject-fd447288-b794-455a-b50e-14705ff823a4
DTSTAMP:20260420T104224Z
SUMMARY:Hl. Messe für die Pfarrgemeinde
DESCRIPTION:https://pfarreien-bistum-augsburg.df-preview.de/hl-messe-fuer-d
 ie-pfarrgemeinde_id1743534
DTSTART;TZID=Europe/Berlin:20260503T090000
DURATION:PT30M
LOCATION:Heilig Kreuz
END:VEVENT
BEGIN:VEVENT
UID:sabre-vobject-2c67ebc4-56fb-45e2-aa77-35db68273b8a
DTSTAMP:20260420T104224Z
SUMMARY:Wort-Gottes-Feier
DESCRIPTION:https://pfarreien-bistum-augsburg.df-preview.de/wort-gottes-fei
 er_id1743582
DTSTART;TZID=Europe/Berlin:20260503T090000
DURATION:PT30M
LOCATION:St. Martin
END:VEVENT
BEGIN:VEVENT
UID:sabre-vobject-4da63fde-f93c-4117-b6ed-93099a9a964f
DTSTAMP:20260420T104224Z
SUMMARY:Wort-Gottes-Feier
DESCRIPTION:https://pfarreien-bistum-augsburg.df-preview.de/wort-gottes-fei
 er_id1743636
DTSTART;TZID=Europe/Berlin:20260503T090000
DURATION:PT30M
LOCATION:St. Ägidius
END:VEVENT
BEGIN:VEVENT
UID:sabre-vobject-ae706146-4248-484b-8d81-b4901571bfb3
DTSTAMP:20260420T104224Z
SUMMARY:Hl. Messe für die Pfarrgemeinde
DESCRIPTION:https://pfarreien-bistum-augsburg.df-preview.de/hl-messe-fuer-d
 ie-pfarrgemeinde_id1743615
DTSTART;TZID=Europe/Berlin:20260503T101500
DURATION:PT30M
LOCATION:St. Mauritius und Gefährten\, Kirchberg 10\, 89335 Ichenhausen
END:VEVENT
BEGIN:VEVENT
UID:sabre-vobject-1be50607-5f89-4b8e-9b38-d06ecccdfa44
DTSTAMP:20260420T104224Z
SUMMARY:Silbersonntag: Opfer für das Heinrich-Sinz-Haus \nHl. Messe für d
 ie Verstorbenen des Monats April: \nf. Maria Spiegler\, Anna Pfob u. Franz
 iska Kirzinger \n
DESCRIPTION:https://pfarreien-bistum-augsburg.df-preview.de/silbersonntag-o
 pfer-fuer-das-heinrich-sinz-haus-hl-messe-fuer-die-verstorbenen-des-monats
 -april-f-maria-spiegler-anna-pfob-u-franziska-kirzinger_id1743631
DTSTART;TZID=Europe/Berlin:20260503T101500
DURATION:PT30M
LOCATION:St. Johannes Baptist
END:VEVENT
BEGIN:VEVENT
UID:sabre-vobject-b35ee7b3-c161-4fa7-8d69-b801b0af3bad
DTSTAMP:20260420T104224Z
SUMMARY:Maiandacht der Schützen
DESCRIPTION:https://pfarreien-bistum-augsburg.df-preview.de/maiandacht-der-
 schuetzen_id1743542
DTSTART;TZID=Europe/Berlin:20260503T180000
DURATION:PT30M
LOCATION:Heilig Kreuz
END:VEVENT
BEGIN:VEVENT
UID:sabre-vobject-ef833141-c31a-444b-a22a-cd92482835f6
DTSTAMP:20260420T104224Z
SUMMARY:Maiandacht \n(musik. gest. v. Kirchenchor)
DESCRIPTION:https://pfarreien-bistum-augsburg.df-preview.de/maiandacht-musi
 k-gest-v-kirchenchor_id1743594
DTSTART;TZID=Europe/Berlin:20260503T190000
DURATION:PT30M
LOCATION:St. Johannes Baptist
END:VEVENT
BEGIN:VEVENT
UID:sabre-vobject-3116c58f-9c3c-4043-91d4-6ed69855ec4f
DTSTAMP:20260420T104224Z
SUMMARY:Maiandacht
DESCRIPTION:https://pfarreien-bistum-augsburg.df-preview.de/maiandacht_id17
 43621
DTSTART;TZID=Europe/Berlin:20260503T190000
DURATION:PT30M
LOCATION:St. Mauritius und Gefährten\, Kirchberg 10\, 89335 Ichenhausen
END:VEVENT
BEGIN:VEVENT
UID:sabre-vobject-d67758d2-3c22-4c70-8765-c1bfd06d5c46
DTSTAMP:20260420T104224Z
SUMMARY:Maiandacht \n(musik. gest. v. Kirchenchor)
DESCRIPTION:https://pfarreien-bistum-augsburg.df-preview.de/maiandacht-musi
 k-gest-v-kirchenchor_id1743693
DTSTART;TZID=Europe/Berlin:20260503T190000
DURATION:PT30M
LOCATION:St. Martin
END:VEVENT
END:VCALENDAR
