BEGIN:VCALENDAR
VERSION:2.0
PRODID:-//Sabre//Sabre VObject 4.5.8//EN
CALSCALE:GREGORIAN
BEGIN:VEVENT
UID:sabre-vobject-91338ccb-eded-4595-98a7-9c2b13f5ea24
DTSTAMP:20260425T162646Z
SUMMARY:Wallfahrtsgottesdienst in Violau
DESCRIPTION:https://pfarreien-bistum-augsburg.df-preview.de/wallfahrtsgotte
 sdienst-in-violau_id1758505
DTSTART;TZID=Europe/Berlin:20260502T100000
DURATION:PT30M
LOCATION:St. Stephan
END:VEVENT
END:VCALENDAR
