BEGIN:VCALENDAR
VERSION:2.0
PRODID:-//Sabre//Sabre VObject 4.5.8//EN
CALSCALE:GREGORIAN
BEGIN:VEVENT
UID:sabre-vobject-e18def3c-fe64-46db-97f6-7f74b00b9a90
DTSTAMP:20260425T133737Z
SUMMARY:Messfeier für
DESCRIPTION:https://pfarreien-bistum-augsburg.df-preview.de/messfeier-fuer_
 id1758486
DTSTART;TZID=Europe/Berlin:20260506T090000
DURATION:PT30M
LOCATION:St. Stephan
END:VEVENT
END:VCALENDAR
