BEGIN:VCALENDAR
VERSION:2.0
PRODID:-//Sabre//Sabre VObject 4.5.8//EN
CALSCALE:GREGORIAN
BEGIN:VEVENT
UID:sabre-vobject-f7095123-e270-46fa-92f8-f47fb9b65746
DTSTAMP:20260425T221832Z
SUMMARY:Heilige Messe im Johannesheim
DESCRIPTION:https://pfarreien-bistum-augsburg.df-preview.de/heilige-messe-i
 m-johannesheim_id1758239
DTSTART;TZID=Europe/Berlin:20260518T100000
DURATION:PT30M
LOCATION:St. Wolfgang
END:VEVENT
END:VCALENDAR
