BEGIN:VCALENDAR
VERSION:2.0
PRODID:-//Sabre//Sabre VObject 4.5.8//EN
CALSCALE:GREGORIAN
BEGIN:VEVENT
UID:sabre-vobject-4f2a0aac-b826-4abd-a541-3e010d7a2f2f
DTSTAMP:20260426T035044Z
SUMMARY:Rosenkranz
DESCRIPTION:https://pfarreien-bistum-augsburg.df-preview.de/rosenkranz_id17
 57896
DTSTART;TZID=Europe/Berlin:20260426T184500
DURATION:PT30M
LOCATION:St. Johannes Baptist\, Bgm.-Herz-Platz 9\, 87477 Sulzberg Moosbach
END:VEVENT
END:VCALENDAR
