BEGIN:VCALENDAR
VERSION:2.0
PRODID:-//Sabre//Sabre VObject 4.5.8//EN
CALSCALE:GREGORIAN
BEGIN:VEVENT
UID:sabre-vobject-55d55ac8-1ca6-453a-be22-c242a66e2d42
DTSTAMP:20260425T233827Z
SUMMARY:Rosenkranz
DESCRIPTION:https://pfarreien-bistum-augsburg.df-preview.de/rosenkranz_id17
 57798
DTSTART;TZID=Europe/Berlin:20260520T083000
DURATION:PT30M
LOCATION:St. Stephan
END:VEVENT
END:VCALENDAR
