BEGIN:VCALENDAR
VERSION:2.0
PRODID:-//Sabre//Sabre VObject 4.5.8//EN
CALSCALE:GREGORIAN
BEGIN:VEVENT
UID:sabre-vobject-9e294835-a5d0-45e7-bce6-d7bdb3b7686f
DTSTAMP:20260426T023423Z
SUMMARY:Bezirks-Maiandacht vom Frauenbund
DESCRIPTION:https://pfarreien-bistum-augsburg.df-preview.de/bezirks-maianda
 cht-vom-frauenbund_id1757613
DTSTART;TZID=Europe/Berlin:20260520T183000
DURATION:PT30M
LOCATION:St. Jakobus maj.\, St.-Jakobs-Platz\, 86316 Friedberg
END:VEVENT
END:VCALENDAR
