BEGIN:VCALENDAR
VERSION:2.0
PRODID:-//Sabre//Sabre VObject 4.5.8//EN
CALSCALE:GREGORIAN
BEGIN:VEVENT
UID:sabre-vobject-b885dc61-3d69-48bb-b6ae-2299c7c93612
DTSTAMP:20260426T034917Z
SUMMARY:Vorabendmesse für
DESCRIPTION:https://pfarreien-bistum-augsburg.df-preview.de/vorabendmesse-f
 uer_id1757559
DTSTART;TZID=Europe/Berlin:20260530T190000
DURATION:PT30M
LOCATION:St. Stephan
END:VEVENT
END:VCALENDAR
