BEGIN:VCALENDAR
VERSION:2.0
PRODID:-//Sabre//Sabre VObject 4.5.8//EN
CALSCALE:GREGORIAN
BEGIN:VEVENT
UID:sabre-vobject-74555ceb-1b9c-4a13-a301-9f89e35a8f80
DTSTAMP:20260426T023318Z
SUMMARY:Eucharistische Anbetung
DESCRIPTION:https://pfarreien-bistum-augsburg.df-preview.de/eucharistische-
 anbetung_id1757547
DTSTART;TZID=Europe/Berlin:20260519T180000
DURATION:PT30M
LOCATION:St. Jakobus maj.\, St.-Jakobs-Platz\, 86316 Friedberg
END:VEVENT
END:VCALENDAR
