BEGIN:VCALENDAR
VERSION:2.0
PRODID:-//Sabre//Sabre VObject 4.5.8//EN
CALSCALE:GREGORIAN
BEGIN:VEVENT
UID:sabre-vobject-1d70df82-ba7b-42f4-a8e3-bca7caf3247f
DTSTAMP:20260425T205837Z
SUMMARY:Festgottesdienst
DESCRIPTION:https://pfarreien-bistum-augsburg.df-preview.de/festgottesdiens
 t_id1757420
DTSTART;TZID=Europe/Berlin:20260524T101500
DURATION:PT30M
LOCATION:St. Sixtus
END:VEVENT
END:VCALENDAR
