BEGIN:VCALENDAR
VERSION:2.0
PRODID:-//Sabre//Sabre VObject 4.5.8//EN
CALSCALE:GREGORIAN
BEGIN:VEVENT
UID:sabre-vobject-b27488b7-f1b8-4031-b1af-cc4ee3c07c9d
DTSTAMP:20260425T234818Z
SUMMARY:Maiandacht der Kolpingsfamilie in der Auwaldgrotte
DESCRIPTION:https://pfarreien-bistum-augsburg.df-preview.de/maiandacht-der-
 kolpingsfamilie-in-der-auwaldgrotte_id1757401
DTSTART;TZID=Europe/Berlin:20260522T190000
DURATION:PT30M
LOCATION:St. Martin\, Pfarrhofplatz 11\, 89312 Günzburg
END:VEVENT
END:VCALENDAR
