BEGIN:VCALENDAR
VERSION:2.0
PRODID:-//Sabre//Sabre VObject 4.5.8//EN
CALSCALE:GREGORIAN
BEGIN:VEVENT
UID:sabre-vobject-4b3e6d6b-ac02-4b50-8574-80c434f8acfa
DTSTAMP:20260425T181825Z
SUMMARY:Hl. Messe
DESCRIPTION:https://pfarreien-bistum-augsburg.df-preview.de/hl-messe_id1757
 381
DTSTART;TZID=Europe/Berlin:20260522T183000
DURATION:PT30M
LOCATION:St. Martin\, Pfarrhofplatz 11\, 89312 Günzburg
END:VEVENT
END:VCALENDAR
