BEGIN:VCALENDAR
VERSION:2.0
PRODID:-//Sabre//Sabre VObject 4.5.8//EN
CALSCALE:GREGORIAN
BEGIN:VEVENT
UID:sabre-vobject-dba7642e-9b1f-45fe-ace9-cee81c5ac79e
DTSTAMP:20260426T023352Z
SUMMARY:Taufe von Eliah Göppel
DESCRIPTION:https://pfarreien-bistum-augsburg.df-preview.de/taufe-von-eliah
 -goeppel_id1757375
DTSTART;TZID=Europe/Berlin:20260516T140000
DURATION:PT30M
LOCATION:St. Martin\, Pfarrhofplatz 11\, 89312 Günzburg
END:VEVENT
END:VCALENDAR
