BEGIN:VCALENDAR
VERSION:2.0
PRODID:-//Sabre//Sabre VObject 4.5.8//EN
CALSCALE:GREGORIAN
BEGIN:VEVENT
UID:sabre-vobject-91cd6491-ca57-41fd-85c1-7a7d8f9e5c1b
DTSTAMP:20260425T193602Z
SUMMARY:Pfarrgottesdienst (BT)
DESCRIPTION:https://pfarreien-bistum-augsburg.df-preview.de/pfarrgottesdien
 st-bt_id1757256
DTSTART;TZID=Europe/Berlin:20260426T083000
DURATION:PT30M
LOCATION:St. Georg
END:VEVENT
END:VCALENDAR
