BEGIN:VCALENDAR
VERSION:2.0
PRODID:-//Sabre//Sabre VObject 4.5.8//EN
CALSCALE:GREGORIAN
BEGIN:VEVENT
UID:sabre-vobject-3079fb1b-0579-43a1-9be3-f2093c839bc3
DTSTAMP:20260426T010301Z
SUMMARY:Festgottesdienst   (Renovabis Kolekte für Mittel- und Osteuropa)
DESCRIPTION:https://pfarreien-bistum-augsburg.df-preview.de/festgottesdiens
 t-renovabis-kolekte-fuer-mittel-und-osteuropa_id1757213
DTSTART;TZID=Europe/Berlin:20260524T084500
DURATION:PT30M
LOCATION:St. Jakobus maj.
END:VEVENT
END:VCALENDAR
