BEGIN:VCALENDAR
VERSION:2.0
PRODID:-//Sabre//Sabre VObject 4.5.8//EN
CALSCALE:GREGORIAN
BEGIN:VEVENT
UID:sabre-vobject-bc841222-d6f0-412e-adf0-1017ab6e3011
DTSTAMP:20260426T005201Z
SUMMARY:Gebetstag für geistliche Berufe
DESCRIPTION:https://pfarreien-bistum-augsburg.df-preview.de/gebetstag-fuer-
 geistliche-berufe_id1757155
DTSTART;TZID=Europe/Berlin:20260507T000000
DURATION:PT30M
LOCATION:Mariä Himmelfahrt
END:VEVENT
END:VCALENDAR
