BEGIN:VCALENDAR
VERSION:2.0
PRODID:-//Sabre//Sabre VObject 4.5.8//EN
CALSCALE:GREGORIAN
BEGIN:VEVENT
UID:sabre-vobject-6cee3647-9020-40c2-990c-59ffcbfff8df
DTSTAMP:20260424T133642Z
SUMMARY:Marienandacht der Kirchengemeinde St. Georg aus Königseggwald
DESCRIPTION:https://pfarreien-bistum-augsburg.df-preview.de/marienandacht-d
 er-kirchengemeinde-st-georg-aus-koenigseggwald_id1757118
DTSTART;TZID=Europe/Berlin:20260425T143000
DURATION:PT30M
LOCATION:Wallfahrtsdirektion Mariä Schmerzen
END:VEVENT
END:VCALENDAR
