BEGIN:VCALENDAR
VERSION:2.0
PRODID:-//Sabre//Sabre VObject 4.5.8//EN
CALSCALE:GREGORIAN
BEGIN:VEVENT
UID:sabre-vobject-92564718-a844-4ee2-a766-bd7db851b906
DTSTAMP:20260424T110207Z
SUMMARY:Pilgermesse in den Anliegen der Pilger\;
DESCRIPTION:https://pfarreien-bistum-augsburg.df-preview.de/pilgermesse-in-
 den-anliegen-der-pilger_id1757117
DTSTART;TZID=Europe/Berlin:20260425T101500
DURATION:PT30M
LOCATION:Wallfahrtsdirektion Mariä Schmerzen
END:VEVENT
END:VCALENDAR
