BEGIN:VCALENDAR
VERSION:2.0
PRODID:-//Sabre//Sabre VObject 4.5.8//EN
CALSCALE:GREGORIAN
BEGIN:VEVENT
UID:sabre-vobject-2e517eb9-f24d-405e-a647-82b62f87c587
DTSTAMP:20260425T040215Z
SUMMARY:Wallfahrtsmesse in Kirchhaslach
DESCRIPTION:https://pfarreien-bistum-augsburg.df-preview.de/wallfahrtsmesse
 -in-kirchhaslach_id1757087
DTSTART;TZID=Europe/Berlin:20260425T090000
DURATION:PT30M
LOCATION:Heilig Kreuz\, Hl.-Kreuz-Str. 1\, 86513 Ursberg
END:VEVENT
END:VCALENDAR
