BEGIN:VCALENDAR
VERSION:2.0
PRODID:-//Sabre//Sabre VObject 4.5.8//EN
CALSCALE:GREGORIAN
BEGIN:VEVENT
UID:sabre-vobject-0c47f709-244d-4618-98a2-4c4801d36ab1
DTSTAMP:20260425T024749Z
SUMMARY:Beginn der Fußwallfahrt nach Kirchhaslach
DESCRIPTION:https://pfarreien-bistum-augsburg.df-preview.de/beginn-der-fuss
 wallfahrt-nach-kirchhaslach_id1757086
DTSTART;TZID=Europe/Berlin:20260425T053000
DURATION:PT30M
LOCATION:Heilig Kreuz\, Hl.-Kreuz-Str. 1\, 86513 Ursberg
END:VEVENT
END:VCALENDAR
