BEGIN:VCALENDAR
VERSION:2.0
PRODID:-//Sabre//Sabre VObject 4.5.8//EN
CALSCALE:GREGORIAN
BEGIN:VEVENT
UID:sabre-vobject-509479d3-66f4-4087-896e-b7fd116ab266
DTSTAMP:20260424T235301Z
SUMMARY:Vorabendmesse\, Pfarrgottesdienst für die lebenden und verstorbene
 n Angehörigen unserer Pfarrgemeinden
DESCRIPTION:https://pfarreien-bistum-augsburg.df-preview.de/vorabendmesse-p
 farrgottesdienst-fuer-die-lebenden-und-verstorbenen-angehoerigen-unserer-p
 farrgemeinden_id1757009
DTSTART;TZID=Europe/Berlin:20260502T190000
DURATION:PT30M
LOCATION:St. Mauritius
END:VEVENT
END:VCALENDAR
