BEGIN:VCALENDAR
VERSION:2.0
PRODID:-//Sabre//Sabre VObject 4.5.8//EN
CALSCALE:GREGORIAN
BEGIN:VEVENT
UID:sabre-vobject-2ae81ac1-8850-476f-82e5-a234c4300578
DTSTAMP:20260425T232923Z
SUMMARY:Taufe
DESCRIPTION:https://pfarreien-bistum-augsburg.df-preview.de/taufe_id1756971
DTSTART;TZID=Europe/Berlin:20260509T110000
DURATION:PT30M
LOCATION:Heilig Kreuz
END:VEVENT
END:VCALENDAR
