BEGIN:VCALENDAR
VERSION:2.0
PRODID:-//Sabre//Sabre VObject 4.5.8//EN
CALSCALE:GREGORIAN
BEGIN:VEVENT
UID:sabre-vobject-bd8d7f1d-2940-400e-9e67-bf4effd9099d
DTSTAMP:20260425T192949Z
SUMMARY:Sonnendachl Utting: Maiandacht\, musikalisch gestaltet durch die Li
 edertafel
DESCRIPTION:https://pfarreien-bistum-augsburg.df-preview.de/sonnendachl-utt
 ing-maiandacht-musikalisch-gestaltet-durch-die-liedertafel_id1756945
DTSTART;TZID=Europe/Berlin:20260531T180000
DURATION:PT30M
LOCATION:Mariä Heimsuchung
END:VEVENT
END:VCALENDAR
