BEGIN:VCALENDAR
VERSION:2.0
PRODID:-//Sabre//Sabre VObject 4.5.8//EN
CALSCALE:GREGORIAN
BEGIN:VEVENT
UID:sabre-vobject-e4d2d4b3-b4ad-42bf-978f-553e9ede97ba
DTSTAMP:20260425T181116Z
SUMMARY:Hl. Messe mit musikalischer Mitgestaltung durch Zweigesang Salve Re
 gina und Orgel und Trompete
DESCRIPTION:https://pfarreien-bistum-augsburg.df-preview.de/hl-messe-mit-mu
 sikalischer-mitgestaltung-durch-zweigesang-salve-regina-und-orgel-und-trom
 pete_id1756944
DTSTART;TZID=Europe/Berlin:20260531T103000
DURATION:PT30M
LOCATION:Mariä Heimsuchung
END:VEVENT
END:VCALENDAR
