BEGIN:VCALENDAR
VERSION:2.0
PRODID:-//Sabre//Sabre VObject 4.5.8//EN
CALSCALE:GREGORIAN
BEGIN:VEVENT
UID:sabre-vobject-a2874e92-fe5c-4dbe-b6f4-00c27a3fcc96
DTSTAMP:20260425T022728Z
SUMMARY:Hl. Messe für die Pfarrgemeinde
DESCRIPTION:https://pfarreien-bistum-augsburg.df-preview.de/hl-messe-fuer-d
 ie-pfarrgemeinde_id1756903
DTSTART;TZID=Europe/Berlin:20260524T100000
DURATION:PT30M
LOCATION:St. Pius
END:VEVENT
END:VCALENDAR
