BEGIN:VCALENDAR
VERSION:2.0
PRODID:-//Sabre//Sabre VObject 4.5.8//EN
CALSCALE:GREGORIAN
BEGIN:VEVENT
UID:sabre-vobject-626f7b55-c76c-45e5-8a39-518ad490272c
DTSTAMP:20260425T104811Z
SUMMARY:Rosenkranz für den Frieden in der Welt
DESCRIPTION:https://pfarreien-bistum-augsburg.df-preview.de/rosenkranz-fuer
 -den-frieden-in-der-welt_id1756893
DTSTART;TZID=Europe/Berlin:20260518T180000
DURATION:PT30M
LOCATION:St. Vitus\, Modestus u. Kreszentia
END:VEVENT
END:VCALENDAR
