BEGIN:VCALENDAR
VERSION:2.0
PRODID:-//Sabre//Sabre VObject 4.5.8//EN
CALSCALE:GREGORIAN
BEGIN:VEVENT
UID:sabre-vobject-c72fa3e6-59e0-4099-a2dc-2d6a65b66d36
DTSTAMP:20260425T133437Z
SUMMARY:Festgotttesdienst zu Pfingsten
DESCRIPTION:https://pfarreien-bistum-augsburg.df-preview.de/festgotttesdien
 st-zu-pfingsten_id1756891
DTSTART;TZID=Europe/Berlin:20260524T103000
DURATION:PT30M
LOCATION:St. Vitus\, Modestus u. Kreszentia
END:VEVENT
END:VCALENDAR
