BEGIN:VCALENDAR
VERSION:2.0
PRODID:-//Sabre//Sabre VObject 4.5.8//EN
CALSCALE:GREGORIAN
BEGIN:VEVENT
UID:sabre-vobject-b8d8abbc-21f3-4b1f-aa5b-187c3f3e3e55
DTSTAMP:20260425T133630Z
SUMMARY:Rosenkranz für Ordens- u. Priesternachwuchs in der Welt
DESCRIPTION:https://pfarreien-bistum-augsburg.df-preview.de/rosenkranz-fuer
 -ordens-u-priesternachwuchs-in-der-welt_id1756883
DTSTART;TZID=Europe/Berlin:20260513T180000
DURATION:PT30M
LOCATION:St. Vitus\, Modestus u. Kreszentia
END:VEVENT
END:VCALENDAR
