BEGIN:VCALENDAR
VERSION:2.0
PRODID:-//Sabre//Sabre VObject 4.5.8//EN
CALSCALE:GREGORIAN
BEGIN:VEVENT
UID:sabre-vobject-62e990a7-540e-44f0-ac5a-8036547d4194
DTSTAMP:20260425T204717Z
SUMMARY:Maiandacht in der Kapelle Bossarts
DESCRIPTION:https://pfarreien-bistum-augsburg.df-preview.de/maiandacht-in-d
 er-kapelle-bossarts_id1756877
DTSTART;TZID=Europe/Berlin:20260515T193000
DURATION:PT30M
LOCATION:St. Cyriakus\, Largus und Smaragdus
END:VEVENT
END:VCALENDAR
