BEGIN:VCALENDAR
VERSION:2.0
PRODID:-//Sabre//Sabre VObject 4.5.8//EN
CALSCALE:GREGORIAN
BEGIN:VEVENT
UID:sabre-vobject-185f4542-937f-4db7-b17a-aef93ea1de11
DTSTAMP:20260424T221447Z
SUMMARY:Eucharistiefeier
DESCRIPTION:https://pfarreien-bistum-augsburg.df-preview.de/eucharistiefeie
 r_id1756834
DTSTART;TZID=Europe/Berlin:20260523T190000
DURATION:PT30M
LOCATION:St. Philippus und Jakobus\, Stiftsberg 15\, 87730 Bad Grönenbach
END:VEVENT
END:VCALENDAR
