BEGIN:VCALENDAR
VERSION:2.0
PRODID:-//Sabre//Sabre VObject 4.5.8//EN
CALSCALE:GREGORIAN
BEGIN:VEVENT
UID:sabre-vobject-de5fc0ba-b2de-4d3e-b9c0-c70ac2ef5024
DTSTAMP:20260425T165524Z
SUMMARY:"Schondorfer Friedensgebet"
DESCRIPTION:https://pfarreien-bistum-augsburg.df-preview.de/schondorfer-fri
 edensgebet_id1756696
DTSTART;TZID=Europe/Berlin:20260519T200000
DURATION:PT30M
LOCATION:Heilig Kreuz
END:VEVENT
END:VCALENDAR
