BEGIN:VCALENDAR
VERSION:2.0
PRODID:-//Sabre//Sabre VObject 4.5.8//EN
CALSCALE:GREGORIAN
BEGIN:VEVENT
UID:sabre-vobject-ec279b67-16f7-477f-b5df-d41f7b1c7f61
DTSTAMP:20260425T131303Z
SUMMARY:Festgottesdienst
DESCRIPTION:https://pfarreien-bistum-augsburg.df-preview.de/festgottesdiens
 t_id1756635
DTSTART;TZID=Europe/Berlin:20260525T100000
DURATION:PT30M
LOCATION:Mariä Heimsuchung
END:VEVENT
END:VCALENDAR
