BEGIN:VCALENDAR
VERSION:2.0
PRODID:-//Sabre//Sabre VObject 4.5.8//EN
CALSCALE:GREGORIAN
BEGIN:VEVENT
UID:sabre-vobject-c5086bff-385e-4336-be31-324d52ca41fc
DTSTAMP:20260425T131305Z
SUMMARY:Hl. Messe
DESCRIPTION:https://pfarreien-bistum-augsburg.df-preview.de/hl-messe_id1756
 633
DTSTART;TZID=Europe/Berlin:20260523T180000
DURATION:PT30M
LOCATION:Mariä Heimsuchung
END:VEVENT
END:VCALENDAR
