BEGIN:VCALENDAR
VERSION:2.0
PRODID:-//Sabre//Sabre VObject 4.5.8//EN
CALSCALE:GREGORIAN
BEGIN:VEVENT
UID:sabre-vobject-bdcf45d2-edc1-4e6b-8ae8-b49703821385
DTSTAMP:20260425T011907Z
SUMMARY:Pfarrgottesdienst mit Kinderevangelium
DESCRIPTION:https://pfarreien-bistum-augsburg.df-preview.de/pfarrgottesdien
 st-mit-kinderevangelium_id1756531
DTSTART;TZID=Europe/Berlin:20260517T103000
DURATION:PT30M
LOCATION:St. Felizitas
END:VEVENT
END:VCALENDAR
