BEGIN:VCALENDAR
VERSION:2.0
PRODID:-//Sabre//Sabre VObject 4.5.8//EN
CALSCALE:GREGORIAN
BEGIN:VEVENT
UID:sabre-vobject-d6a124f9-fe2f-48df-9c5e-ebcd6cb9d267
DTSTAMP:20260424T235138Z
SUMMARY:Hl. Messe zur Erstkommunion für die Lebenden und Verstorbenen der 
 Pfarreiengemeinschaft
DESCRIPTION:https://pfarreien-bistum-augsburg.df-preview.de/hl-messe-zur-er
 stkommunion-fuer-die-lebenden-und-verstorbenen-der-pfarreiengemeinschaft_i
 d1756528
DTSTART;TZID=Europe/Berlin:20260510T100000
DURATION:PT30M
LOCATION:St. Stephan
END:VEVENT
END:VCALENDAR
