BEGIN:VCALENDAR
VERSION:2.0
PRODID:-//Sabre//Sabre VObject 4.5.8//EN
CALSCALE:GREGORIAN
BEGIN:VEVENT
UID:sabre-vobject-fa065b40-d1ad-4fbf-b30e-6fb01571a1ac
DTSTAMP:20260425T143524Z
SUMMARY:Maiandacht\, gestaltet von Pfarrgemeinderat
DESCRIPTION:https://pfarreien-bistum-augsburg.df-preview.de/maiandacht-gest
 altet-von-pfarrgemeinderat_id1756508
DTSTART;TZID=Europe/Berlin:20260528T193000
DURATION:PT30M
LOCATION:Maria Immaculata\, Hs.-Nr. 14\, 87466 Oy-Mittelberg
END:VEVENT
END:VCALENDAR
