BEGIN:VCALENDAR
VERSION:2.0
PRODID:-//Sabre//Sabre VObject 4.5.8//EN
CALSCALE:GREGORIAN
BEGIN:VEVENT
UID:sabre-vobject-5095ce99-ee63-41c9-b5fe-3dffad7bf9ec
DTSTAMP:20260424T153000Z
SUMMARY:Maiandacht
DESCRIPTION:https://pfarreien-bistum-augsburg.df-preview.de/maiandacht_id17
 56495
DTSTART;TZID=Europe/Berlin:20260531T183000
DURATION:PT30M
LOCATION:St. Blasius
END:VEVENT
END:VCALENDAR
