BEGIN:VCALENDAR
VERSION:2.0
PRODID:-//Sabre//Sabre VObject 4.5.8//EN
CALSCALE:GREGORIAN
BEGIN:VEVENT
UID:sabre-vobject-2f44eecd-b010-4f14-b47e-9e1ba4ac5066
DTSTAMP:20260425T170818Z
SUMMARY:Hl. Messe zur Erstkommunion für die Lebenden und Verstorbenen der 
 Pfarreiengemeinschaft
DESCRIPTION:https://pfarreien-bistum-augsburg.df-preview.de/hl-messe-zur-er
 stkommunion-fuer-die-lebenden-und-verstorbenen-der-pfarreiengemeinschaft_i
 d1756470
DTSTART;TZID=Europe/Berlin:20260517T100000
DURATION:PT30M
LOCATION:Mariä Himmelfahrt
END:VEVENT
END:VCALENDAR
